BEGIN:VCALENDAR
VERSION:2.0
PRODID:-//Oslo og Omegn Dressurklubb - ECPv6.15.20//NONSGML v1.0//EN
CALSCALE:GREGORIAN
METHOD:PUBLISH
X-WR-CALNAME:Oslo og Omegn Dressurklubb
X-ORIGINAL-URL:https://oodk.org
X-WR-CALDESC:Arrangement for Oslo og Omegn Dressurklubb
REFRESH-INTERVAL;VALUE=DURATION:PT1H
X-Robots-Tag:noindex
X-PUBLISHED-TTL:PT1H
BEGIN:VTIMEZONE
TZID:Europe/Oslo
BEGIN:DAYLIGHT
TZOFFSETFROM:+0100
TZOFFSETTO:+0200
TZNAME:CEST
DTSTART:20250330T010000
END:DAYLIGHT
BEGIN:STANDARD
TZOFFSETFROM:+0200
TZOFFSETTO:+0100
TZNAME:CET
DTSTART:20251026T010000
END:STANDARD
BEGIN:DAYLIGHT
TZOFFSETFROM:+0100
TZOFFSETTO:+0200
TZNAME:CEST
DTSTART:20260329T010000
END:DAYLIGHT
BEGIN:STANDARD
TZOFFSETFROM:+0200
TZOFFSETTO:+0100
TZNAME:CET
DTSTART:20261025T010000
END:STANDARD
BEGIN:DAYLIGHT
TZOFFSETFROM:+0100
TZOFFSETTO:+0200
TZNAME:CEST
DTSTART:20270328T010000
END:DAYLIGHT
BEGIN:STANDARD
TZOFFSETFROM:+0200
TZOFFSETTO:+0100
TZNAME:CET
DTSTART:20271031T010000
END:STANDARD
END:VTIMEZONE
BEGIN:VEVENT
DTSTART;TZID=Europe/Oslo:20260422T180000
DTEND;TZID=Europe/Oslo:20260422T193000
DTSTAMP:20260422T013900
CREATED:20260421T092851Z
LAST-MODIFIED:20260421T092940Z
UID:10001332-1776880800-1776886200@oodk.org
SUMMARY:Rally: Klasse 1 og 2
DESCRIPTION:Mer info blir publisert på FaceBook
URL:https://oodk.org/aktivitet/rally-klasse-1-og-2/2026-04-22/
LOCATION:Brekke\, midtre plan
END:VEVENT
BEGIN:VEVENT
DTSTART;TZID=Europe/Oslo:20260422T180000
DTEND;TZID=Europe/Oslo:20260422T210000
DTSTAMP:20260422T013900
CREATED:20260421T101822Z
LAST-MODIFIED:20260421T101822Z
UID:10001439-1776880800-1776891600@oodk.org
SUMMARY:Bruks: Trening
DESCRIPTION:Mer info blir publisert på FaceBook
URL:https://oodk.org/aktivitet/bruks-trening-6/2026-04-22/
LOCATION:Brekke\, nedre plan
END:VEVENT
BEGIN:VEVENT
DTSTART;TZID=Europe/Oslo:20260422T193000
DTEND;TZID=Europe/Oslo:20260422T210000
DTSTAMP:20260422T013900
CREATED:20260421T093049Z
LAST-MODIFIED:20260421T093049Z
UID:10001395-1776886200-1776891600@oodk.org
SUMMARY:Rally: Klasse 3 og Elite
DESCRIPTION:Mer info blir publisert på FaceBook
URL:https://oodk.org/aktivitet/rally-klasse-3-og-elite/2026-04-22/
LOCATION:Brekke\, midtre plan
END:VEVENT
END:VCALENDAR