BEGIN:VCALENDAR
VERSION:2.0
PRODID:-//Oslo og Omegn Dressurklubb - ECPv6.15.20//NONSGML v1.0//EN
CALSCALE:GREGORIAN
METHOD:PUBLISH
X-ORIGINAL-URL:https://oodk.org
X-WR-CALDESC:Arrangement for Oslo og Omegn Dressurklubb
REFRESH-INTERVAL;VALUE=DURATION:PT1H
X-Robots-Tag:noindex
X-PUBLISHED-TTL:PT1H
BEGIN:VTIMEZONE
TZID:Europe/Oslo
BEGIN:DAYLIGHT
TZOFFSETFROM:+0100
TZOFFSETTO:+0200
TZNAME:CEST
DTSTART:20250330T010000
END:DAYLIGHT
BEGIN:STANDARD
TZOFFSETFROM:+0200
TZOFFSETTO:+0100
TZNAME:CET
DTSTART:20251026T010000
END:STANDARD
BEGIN:DAYLIGHT
TZOFFSETFROM:+0100
TZOFFSETTO:+0200
TZNAME:CEST
DTSTART:20260329T010000
END:DAYLIGHT
BEGIN:STANDARD
TZOFFSETFROM:+0200
TZOFFSETTO:+0100
TZNAME:CET
DTSTART:20261025T010000
END:STANDARD
BEGIN:DAYLIGHT
TZOFFSETFROM:+0100
TZOFFSETTO:+0200
TZNAME:CEST
DTSTART:20270328T010000
END:DAYLIGHT
BEGIN:STANDARD
TZOFFSETFROM:+0200
TZOFFSETTO:+0100
TZNAME:CET
DTSTART:20271031T010000
END:STANDARD
END:VTIMEZONE
BEGIN:VEVENT
DTSTART;TZID=Europe/Oslo:20260617T193000
DTEND;TZID=Europe/Oslo:20260617T210000
DTSTAMP:20260425T023031
CREATED:20260421T093049Z
LAST-MODIFIED:20260421T093049Z
UID:10001403-1781724600-1781730000@oodk.org
SUMMARY:Rally: Klasse 3 og Elite
DESCRIPTION:Mer info blir publisert på FaceBook
URL:https://oodk.org/aktivitet/rally-klasse-3-og-elite/2026-06-17/
LOCATION:Brekke\, midtre plan
END:VEVENT
BEGIN:VEVENT
DTSTART;TZID=Europe/Oslo:20260618T180000
DTEND;TZID=Europe/Oslo:20260618T210000
DTSTAMP:20260425T023031
CREATED:20260421T101221Z
LAST-MODIFIED:20260421T101230Z
UID:10001425-1781805600-1781816400@oodk.org
SUMMARY:Agility: Trening
DESCRIPTION:Mer info blir publisert på FaceBook
URL:https://oodk.org/aktivitet/agility-trening-6/2026-06-18/
LOCATION:Brekke\, midtre plan
END:VEVENT
BEGIN:VEVENT
DTSTART;TZID=Europe/Oslo:20260618T180000
DTEND;TZID=Europe/Oslo:20260618T210000
DTSTAMP:20260425T023031
CREATED:20260421T102048Z
LAST-MODIFIED:20260421T102048Z
UID:10001469-1781805600-1781816400@oodk.org
SUMMARY:Lydighet: Egentrening
DESCRIPTION:Mer info blir publisert på FaceBook
URL:https://oodk.org/aktivitet/lydighet-egentrening/2026-06-18/
LOCATION:Brekke\, nedre plan
END:VEVENT
BEGIN:VEVENT
DTSTART;VALUE=DATE:20260620
DTEND;VALUE=DATE:20260622
DTSTAMP:20260425T023031
CREATED:20251020T063457Z
LAST-MODIFIED:20251020T063457Z
UID:10001257-1781913600-1782086399@oodk.org
SUMMARY:Bruks & LP: Kurs
DESCRIPTION:
URL:https://oodk.org/aktivitet/bruks-lp-kurs-3/
LOCATION:Brekke\, nedre plan
END:VEVENT
BEGIN:VEVENT
DTSTART;VALUE=DATE:20260620
DTEND;VALUE=DATE:20260622
DTSTAMP:20260425T023031
CREATED:20251020T063530Z
LAST-MODIFIED:20251020T063530Z
UID:10001258-1781913600-1782086399@oodk.org
SUMMARY:Rally: kurs
DESCRIPTION:
URL:https://oodk.org/aktivitet/rally-kurs-3/
LOCATION:Brekke\, midtre plan
END:VEVENT
BEGIN:VEVENT
DTSTART;TZID=Europe/Oslo:20260622T180000
DTEND;TZID=Europe/Oslo:20260622T210000
DTSTAMP:20260425T023031
CREATED:20260421T092727Z
LAST-MODIFIED:20260421T093149Z
UID:10001278-1782151200-1782162000@oodk.org
SUMMARY:Rally: Egentrening
DESCRIPTION:Egentrening eller tematreninger for Rally på midtre plan. Mer info blir publisert på FaceBook
URL:https://oodk.org/aktivitet/rally-egentrening-2/2026-06-22/
LOCATION:Brekke\, midtre plan
END:VEVENT
BEGIN:VEVENT
DTSTART;TZID=Europe/Oslo:20260622T180000
DTEND;TZID=Europe/Oslo:20260622T210000
DTSTAMP:20260425T023031
CREATED:20260421T101315Z
LAST-MODIFIED:20260421T101315Z
UID:10001437-1782151200-1782162000@oodk.org
SUMMARY:Bruks: Trening
DESCRIPTION:Mer info blir publisert på FaceBook
URL:https://oodk.org/aktivitet/bruks-trening-5/2026-06-22/
LOCATION:Brekke\, nedre plan
END:VEVENT
BEGIN:VEVENT
DTSTART;TZID=Europe/Oslo:20260623T180000
DTEND;TZID=Europe/Oslo:20260623T210000
DTSTAMP:20260425T023031
CREATED:20260421T101058Z
LAST-MODIFIED:20260421T101124Z
UID:10001415-1782237600-1782248400@oodk.org
SUMMARY:Agility: Trening
DESCRIPTION:Mer info blir publisert på FaceBook
URL:https://oodk.org/aktivitet/agility-trening-5/2026-06-23/
LOCATION:Brekke\, midtre plan
END:VEVENT
BEGIN:VEVENT
DTSTART;TZID=Europe/Oslo:20260623T180000
DTEND;TZID=Europe/Oslo:20260623T210000
DTSTAMP:20260425T023031
CREATED:20260421T101959Z
LAST-MODIFIED:20260421T101959Z
UID:10001459-1782237600-1782248400@oodk.org
SUMMARY:Lydighet: Trening
DESCRIPTION:Mer info blir publisert på FaceBook
URL:https://oodk.org/aktivitet/lydighet-trening-4/2026-06-23/
LOCATION:Brekke\, nedre plan
END:VEVENT
BEGIN:VEVENT
DTSTART;TZID=Europe/Oslo:20260624T180000
DTEND;TZID=Europe/Oslo:20260624T193000
DTSTAMP:20260425T023031
CREATED:20260421T092851Z
LAST-MODIFIED:20260421T092940Z
UID:10001341-1782324000-1782329400@oodk.org
SUMMARY:Rally: Klasse 1 og 2
DESCRIPTION:Mer info blir publisert på FaceBook
URL:https://oodk.org/aktivitet/rally-klasse-1-og-2/2026-06-24/
LOCATION:Brekke\, midtre plan
END:VEVENT
BEGIN:VEVENT
DTSTART;TZID=Europe/Oslo:20260624T180000
DTEND;TZID=Europe/Oslo:20260624T210000
DTSTAMP:20260425T023031
CREATED:20260105T104607Z
LAST-MODIFIED:20260105T104607Z
UID:10001263-1782324000-1782334800@oodk.org
SUMMARY:Rally: Klubbmesterskap
DESCRIPTION:
URL:https://oodk.org/aktivitet/rally-klubbmesterskap-4/
LOCATION:Brekke\, midtre plan
END:VEVENT
BEGIN:VEVENT
DTSTART;TZID=Europe/Oslo:20260624T180000
DTEND;TZID=Europe/Oslo:20260624T210000
DTSTAMP:20260425T023031
CREATED:20260421T101822Z
LAST-MODIFIED:20260421T101822Z
UID:10001448-1782324000-1782334800@oodk.org
SUMMARY:Bruks: Trening
DESCRIPTION:Mer info blir publisert på FaceBook
URL:https://oodk.org/aktivitet/bruks-trening-6/2026-06-24/
LOCATION:Brekke\, nedre plan
END:VEVENT
BEGIN:VEVENT
DTSTART;TZID=Europe/Oslo:20260624T193000
DTEND;TZID=Europe/Oslo:20260624T210000
DTSTAMP:20260425T023031
CREATED:20260421T093049Z
LAST-MODIFIED:20260421T093049Z
UID:10001404-1782329400-1782334800@oodk.org
SUMMARY:Rally: Klasse 3 og Elite
DESCRIPTION:Mer info blir publisert på FaceBook
URL:https://oodk.org/aktivitet/rally-klasse-3-og-elite/2026-06-24/
LOCATION:Brekke\, midtre plan
END:VEVENT
BEGIN:VEVENT
DTSTART;TZID=Europe/Oslo:20260625T180000
DTEND;TZID=Europe/Oslo:20260625T210000
DTSTAMP:20260425T023031
CREATED:20260421T101221Z
LAST-MODIFIED:20260421T101230Z
UID:10001426-1782410400-1782421200@oodk.org
SUMMARY:Agility: Trening
DESCRIPTION:Mer info blir publisert på FaceBook
URL:https://oodk.org/aktivitet/agility-trening-6/2026-06-25/
LOCATION:Brekke\, midtre plan
END:VEVENT
BEGIN:VEVENT
DTSTART;TZID=Europe/Oslo:20260625T180000
DTEND;TZID=Europe/Oslo:20260625T210000
DTSTAMP:20260425T023031
CREATED:20260421T102048Z
LAST-MODIFIED:20260421T102048Z
UID:10001470-1782410400-1782421200@oodk.org
SUMMARY:Lydighet: Egentrening
DESCRIPTION:Mer info blir publisert på FaceBook
URL:https://oodk.org/aktivitet/lydighet-egentrening/2026-06-25/
LOCATION:Brekke\, nedre plan
END:VEVENT
BEGIN:VEVENT
DTSTART;VALUE=DATE:20260627
DTEND;VALUE=DATE:20260629
DTSTAMP:20260425T023031
CREATED:20251020T063622Z
LAST-MODIFIED:20251020T063622Z
UID:10001259-1782518400-1782691199@oodk.org
SUMMARY:Bruks & LP: Kurs
DESCRIPTION:
URL:https://oodk.org/aktivitet/bruks-lp-kurs-4/
LOCATION:Brekke\, nedre plan
END:VEVENT
BEGIN:VEVENT
DTSTART;TZID=Europe/Oslo:20260629T180000
DTEND;TZID=Europe/Oslo:20260629T210000
DTSTAMP:20260425T023031
CREATED:20260421T092727Z
LAST-MODIFIED:20260421T093149Z
UID:10001279-1782756000-1782766800@oodk.org
SUMMARY:Rally: Egentrening
DESCRIPTION:Egentrening eller tematreninger for Rally på midtre plan. Mer info blir publisert på FaceBook
URL:https://oodk.org/aktivitet/rally-egentrening-2/2026-06-29/
LOCATION:Brekke\, midtre plan
END:VEVENT
BEGIN:VEVENT
DTSTART;TZID=Europe/Oslo:20260629T180000
DTEND;TZID=Europe/Oslo:20260629T210000
DTSTAMP:20260425T023031
CREATED:20260421T101315Z
LAST-MODIFIED:20260421T101315Z
UID:10001438-1782756000-1782766800@oodk.org
SUMMARY:Bruks: Trening
DESCRIPTION:Mer info blir publisert på FaceBook
URL:https://oodk.org/aktivitet/bruks-trening-5/2026-06-29/
LOCATION:Brekke\, nedre plan
END:VEVENT
BEGIN:VEVENT
DTSTART;TZID=Europe/Oslo:20260630T180000
DTEND;TZID=Europe/Oslo:20260630T210000
DTSTAMP:20260425T023031
CREATED:20260421T101058Z
LAST-MODIFIED:20260421T101124Z
UID:10001416-1782842400-1782853200@oodk.org
SUMMARY:Agility: Trening
DESCRIPTION:Mer info blir publisert på FaceBook
URL:https://oodk.org/aktivitet/agility-trening-5/2026-06-30/
LOCATION:Brekke\, midtre plan
END:VEVENT
BEGIN:VEVENT
DTSTART;TZID=Europe/Oslo:20260630T180000
DTEND;TZID=Europe/Oslo:20260630T210000
DTSTAMP:20260425T023031
CREATED:20260421T101959Z
LAST-MODIFIED:20260421T101959Z
UID:10001460-1782842400-1782853200@oodk.org
SUMMARY:Lydighet: Trening
DESCRIPTION:Mer info blir publisert på FaceBook
URL:https://oodk.org/aktivitet/lydighet-trening-4/2026-06-30/
LOCATION:Brekke\, nedre plan
END:VEVENT
BEGIN:VEVENT
DTSTART;TZID=Europe/Oslo:20260701T180000
DTEND;TZID=Europe/Oslo:20260701T193000
DTSTAMP:20260425T023031
CREATED:20260421T092851Z
LAST-MODIFIED:20260421T092940Z
UID:10001342-1782928800-1782934200@oodk.org
SUMMARY:Rally: Klasse 1 og 2
DESCRIPTION:Mer info blir publisert på FaceBook
URL:https://oodk.org/aktivitet/rally-klasse-1-og-2/2026-07-01/
LOCATION:Brekke\, midtre plan
END:VEVENT
BEGIN:VEVENT
DTSTART;TZID=Europe/Oslo:20260701T180000
DTEND;TZID=Europe/Oslo:20260701T210000
DTSTAMP:20260425T023031
CREATED:20260421T101822Z
LAST-MODIFIED:20260421T101822Z
UID:10001449-1782928800-1782939600@oodk.org
SUMMARY:Bruks: Trening
DESCRIPTION:Mer info blir publisert på FaceBook
URL:https://oodk.org/aktivitet/bruks-trening-6/2026-07-01/
LOCATION:Brekke\, nedre plan
END:VEVENT
BEGIN:VEVENT
DTSTART;TZID=Europe/Oslo:20260701T193000
DTEND;TZID=Europe/Oslo:20260701T210000
DTSTAMP:20260425T023031
CREATED:20260421T093049Z
LAST-MODIFIED:20260421T093049Z
UID:10001405-1782934200-1782939600@oodk.org
SUMMARY:Rally: Klasse 3 og Elite
DESCRIPTION:Mer info blir publisert på FaceBook
URL:https://oodk.org/aktivitet/rally-klasse-3-og-elite/2026-07-01/
LOCATION:Brekke\, midtre plan
END:VEVENT
BEGIN:VEVENT
DTSTART;TZID=Europe/Oslo:20260702T180000
DTEND;TZID=Europe/Oslo:20260702T210000
DTSTAMP:20260425T023031
CREATED:20260421T101221Z
LAST-MODIFIED:20260421T101230Z
UID:10001427-1783015200-1783026000@oodk.org
SUMMARY:Agility: Trening
DESCRIPTION:Mer info blir publisert på FaceBook
URL:https://oodk.org/aktivitet/agility-trening-6/2026-07-02/
LOCATION:Brekke\, midtre plan
END:VEVENT
BEGIN:VEVENT
DTSTART;TZID=Europe/Oslo:20260702T180000
DTEND;TZID=Europe/Oslo:20260702T210000
DTSTAMP:20260425T023031
CREATED:20260421T102048Z
LAST-MODIFIED:20260421T102048Z
UID:10001471-1783015200-1783026000@oodk.org
SUMMARY:Lydighet: Egentrening
DESCRIPTION:Mer info blir publisert på FaceBook
URL:https://oodk.org/aktivitet/lydighet-egentrening/2026-07-02/
LOCATION:Brekke\, nedre plan
END:VEVENT
BEGIN:VEVENT
DTSTART;VALUE=DATE:20260822
DTEND;VALUE=DATE:20260824
DTSTAMP:20260425T023031
CREATED:20260316T064521Z
LAST-MODIFIED:20260316T064521Z
UID:10001266-1787356800-1787529599@oodk.org
SUMMARY:Rally: Kurs
DESCRIPTION:
URL:https://oodk.org/aktivitet/rally-kurs-4/
LOCATION:Brekke\, midtre plan
END:VEVENT
BEGIN:VEVENT
DTSTART;TZID=Europe/Oslo:20260822T090000
DTEND;TZID=Europe/Oslo:20260822T140000
DTSTAMP:20260425T023031
CREATED:20260316T064816Z
LAST-MODIFIED:20260316T064816Z
UID:10001268-1787389200-1787407200@oodk.org
SUMMARY:Bruks: Sporkurs
DESCRIPTION:
URL:https://oodk.org/aktivitet/bruks-sporkurs-2/
LOCATION:Brekke\, nedre plan
END:VEVENT
BEGIN:VEVENT
DTSTART;TZID=Europe/Oslo:20260823T090000
DTEND;TZID=Europe/Oslo:20260823T150000
DTSTAMP:20260425T023031
CREATED:20260421T102843Z
LAST-MODIFIED:20260421T102843Z
UID:10001478-1787475600-1787497200@oodk.org
SUMMARY:Bruks: Sporkurs
DESCRIPTION:
URL:https://oodk.org/aktivitet/bruks-sporkurs-3/
LOCATION:Maridalen
END:VEVENT
BEGIN:VEVENT
DTSTART;VALUE=DATE:20260829
DTEND;VALUE=DATE:20260831
DTSTAMP:20260425T023031
CREATED:20251027T102036Z
LAST-MODIFIED:20251027T102036Z
UID:10001262-1787961600-1788134399@oodk.org
SUMMARY:Agility: Kurs
DESCRIPTION:
URL:https://oodk.org/aktivitet/agility-kurs-2/
LOCATION:Brekke\, midtre plan
END:VEVENT
BEGIN:VEVENT
DTSTART;VALUE=DATE:20260905
DTEND;VALUE=DATE:20260906
DTSTAMP:20260425T023031
CREATED:20250924T123255Z
LAST-MODIFIED:20250924T123255Z
UID:10001251-1788566400-1788652799@oodk.org
SUMMARY:Bruks: Runderingsprøve
DESCRIPTION:
URL:https://oodk.org/aktivitet/bruks-runderingsprove/
LOCATION:Brekke
END:VEVENT
END:VCALENDAR