BEGIN:VCALENDAR
VERSION:2.0
PRODID:-//Oslo og Omegn Dressurklubb - ECPv6.15.20//NONSGML v1.0//EN
CALSCALE:GREGORIAN
METHOD:PUBLISH
X-ORIGINAL-URL:https://oodk.org
X-WR-CALDESC:Arrangement for Oslo og Omegn Dressurklubb
REFRESH-INTERVAL;VALUE=DURATION:PT1H
X-Robots-Tag:noindex
X-PUBLISHED-TTL:PT1H
BEGIN:VTIMEZONE
TZID:Europe/Oslo
BEGIN:DAYLIGHT
TZOFFSETFROM:+0100
TZOFFSETTO:+0200
TZNAME:CEST
DTSTART:19800406T010000
END:DAYLIGHT
BEGIN:STANDARD
TZOFFSETFROM:+0200
TZOFFSETTO:+0100
TZNAME:CET
DTSTART:19800928T010000
END:STANDARD
BEGIN:DAYLIGHT
TZOFFSETFROM:+0100
TZOFFSETTO:+0200
TZNAME:CEST
DTSTART:19810329T010000
END:DAYLIGHT
BEGIN:STANDARD
TZOFFSETFROM:+0200
TZOFFSETTO:+0100
TZNAME:CET
DTSTART:19810927T010000
END:STANDARD
BEGIN:DAYLIGHT
TZOFFSETFROM:+0100
TZOFFSETTO:+0200
TZNAME:CEST
DTSTART:19820328T010000
END:DAYLIGHT
BEGIN:STANDARD
TZOFFSETFROM:+0200
TZOFFSETTO:+0100
TZNAME:CET
DTSTART:19820926T010000
END:STANDARD
BEGIN:DAYLIGHT
TZOFFSETFROM:+0100
TZOFFSETTO:+0200
TZNAME:CEST
DTSTART:19830327T010000
END:DAYLIGHT
BEGIN:STANDARD
TZOFFSETFROM:+0200
TZOFFSETTO:+0100
TZNAME:CET
DTSTART:19830925T010000
END:STANDARD
BEGIN:DAYLIGHT
TZOFFSETFROM:+0100
TZOFFSETTO:+0200
TZNAME:CEST
DTSTART:19840325T010000
END:DAYLIGHT
BEGIN:STANDARD
TZOFFSETFROM:+0200
TZOFFSETTO:+0100
TZNAME:CET
DTSTART:19840930T010000
END:STANDARD
BEGIN:DAYLIGHT
TZOFFSETFROM:+0100
TZOFFSETTO:+0200
TZNAME:CEST
DTSTART:19850331T010000
END:DAYLIGHT
BEGIN:STANDARD
TZOFFSETFROM:+0200
TZOFFSETTO:+0100
TZNAME:CET
DTSTART:19850929T010000
END:STANDARD
BEGIN:DAYLIGHT
TZOFFSETFROM:+0100
TZOFFSETTO:+0200
TZNAME:CEST
DTSTART:19860330T010000
END:DAYLIGHT
BEGIN:STANDARD
TZOFFSETFROM:+0200
TZOFFSETTO:+0100
TZNAME:CET
DTSTART:19860928T010000
END:STANDARD
BEGIN:DAYLIGHT
TZOFFSETFROM:+0100
TZOFFSETTO:+0200
TZNAME:CEST
DTSTART:19870329T010000
END:DAYLIGHT
BEGIN:STANDARD
TZOFFSETFROM:+0200
TZOFFSETTO:+0100
TZNAME:CET
DTSTART:19870927T010000
END:STANDARD
BEGIN:DAYLIGHT
TZOFFSETFROM:+0100
TZOFFSETTO:+0200
TZNAME:CEST
DTSTART:19880327T010000
END:DAYLIGHT
BEGIN:STANDARD
TZOFFSETFROM:+0200
TZOFFSETTO:+0100
TZNAME:CET
DTSTART:19880925T010000
END:STANDARD
BEGIN:DAYLIGHT
TZOFFSETFROM:+0100
TZOFFSETTO:+0200
TZNAME:CEST
DTSTART:19890326T010000
END:DAYLIGHT
BEGIN:STANDARD
TZOFFSETFROM:+0200
TZOFFSETTO:+0100
TZNAME:CET
DTSTART:19890924T010000
END:STANDARD
BEGIN:DAYLIGHT
TZOFFSETFROM:+0100
TZOFFSETTO:+0200
TZNAME:CEST
DTSTART:19900325T010000
END:DAYLIGHT
BEGIN:STANDARD
TZOFFSETFROM:+0200
TZOFFSETTO:+0100
TZNAME:CET
DTSTART:19900930T010000
END:STANDARD
BEGIN:DAYLIGHT
TZOFFSETFROM:+0100
TZOFFSETTO:+0200
TZNAME:CEST
DTSTART:19910331T010000
END:DAYLIGHT
BEGIN:STANDARD
TZOFFSETFROM:+0200
TZOFFSETTO:+0100
TZNAME:CET
DTSTART:19910929T010000
END:STANDARD
BEGIN:DAYLIGHT
TZOFFSETFROM:+0100
TZOFFSETTO:+0200
TZNAME:CEST
DTSTART:19920329T010000
END:DAYLIGHT
BEGIN:STANDARD
TZOFFSETFROM:+0200
TZOFFSETTO:+0100
TZNAME:CET
DTSTART:19920927T010000
END:STANDARD
BEGIN:DAYLIGHT
TZOFFSETFROM:+0100
TZOFFSETTO:+0200
TZNAME:CEST
DTSTART:19930328T010000
END:DAYLIGHT
BEGIN:STANDARD
TZOFFSETFROM:+0200
TZOFFSETTO:+0100
TZNAME:CET
DTSTART:19930926T010000
END:STANDARD
BEGIN:DAYLIGHT
TZOFFSETFROM:+0100
TZOFFSETTO:+0200
TZNAME:CEST
DTSTART:19940327T010000
END:DAYLIGHT
BEGIN:STANDARD
TZOFFSETFROM:+0200
TZOFFSETTO:+0100
TZNAME:CET
DTSTART:19940925T010000
END:STANDARD
BEGIN:DAYLIGHT
TZOFFSETFROM:+0100
TZOFFSETTO:+0200
TZNAME:CEST
DTSTART:19950326T010000
END:DAYLIGHT
BEGIN:STANDARD
TZOFFSETFROM:+0200
TZOFFSETTO:+0100
TZNAME:CET
DTSTART:19950924T010000
END:STANDARD
BEGIN:DAYLIGHT
TZOFFSETFROM:+0100
TZOFFSETTO:+0200
TZNAME:CEST
DTSTART:19960331T010000
END:DAYLIGHT
BEGIN:STANDARD
TZOFFSETFROM:+0200
TZOFFSETTO:+0100
TZNAME:CET
DTSTART:19961027T010000
END:STANDARD
BEGIN:DAYLIGHT
TZOFFSETFROM:+0100
TZOFFSETTO:+0200
TZNAME:CEST
DTSTART:19970330T010000
END:DAYLIGHT
BEGIN:STANDARD
TZOFFSETFROM:+0200
TZOFFSETTO:+0100
TZNAME:CET
DTSTART:19971026T010000
END:STANDARD
BEGIN:DAYLIGHT
TZOFFSETFROM:+0100
TZOFFSETTO:+0200
TZNAME:CEST
DTSTART:19980329T010000
END:DAYLIGHT
BEGIN:STANDARD
TZOFFSETFROM:+0200
TZOFFSETTO:+0100
TZNAME:CET
DTSTART:19981025T010000
END:STANDARD
BEGIN:DAYLIGHT
TZOFFSETFROM:+0100
TZOFFSETTO:+0200
TZNAME:CEST
DTSTART:19990328T010000
END:DAYLIGHT
BEGIN:STANDARD
TZOFFSETFROM:+0200
TZOFFSETTO:+0100
TZNAME:CET
DTSTART:19991031T010000
END:STANDARD
BEGIN:DAYLIGHT
TZOFFSETFROM:+0100
TZOFFSETTO:+0200
TZNAME:CEST
DTSTART:20000326T010000
END:DAYLIGHT
BEGIN:STANDARD
TZOFFSETFROM:+0200
TZOFFSETTO:+0100
TZNAME:CET
DTSTART:20001029T010000
END:STANDARD
BEGIN:DAYLIGHT
TZOFFSETFROM:+0100
TZOFFSETTO:+0200
TZNAME:CEST
DTSTART:20010325T010000
END:DAYLIGHT
BEGIN:STANDARD
TZOFFSETFROM:+0200
TZOFFSETTO:+0100
TZNAME:CET
DTSTART:20011028T010000
END:STANDARD
BEGIN:DAYLIGHT
TZOFFSETFROM:+0100
TZOFFSETTO:+0200
TZNAME:CEST
DTSTART:20020331T010000
END:DAYLIGHT
BEGIN:STANDARD
TZOFFSETFROM:+0200
TZOFFSETTO:+0100
TZNAME:CET
DTSTART:20021027T010000
END:STANDARD
BEGIN:DAYLIGHT
TZOFFSETFROM:+0100
TZOFFSETTO:+0200
TZNAME:CEST
DTSTART:20030330T010000
END:DAYLIGHT
BEGIN:STANDARD
TZOFFSETFROM:+0200
TZOFFSETTO:+0100
TZNAME:CET
DTSTART:20031026T010000
END:STANDARD
BEGIN:DAYLIGHT
TZOFFSETFROM:+0100
TZOFFSETTO:+0200
TZNAME:CEST
DTSTART:20040328T010000
END:DAYLIGHT
BEGIN:STANDARD
TZOFFSETFROM:+0200
TZOFFSETTO:+0100
TZNAME:CET
DTSTART:20041031T010000
END:STANDARD
BEGIN:DAYLIGHT
TZOFFSETFROM:+0100
TZOFFSETTO:+0200
TZNAME:CEST
DTSTART:20050327T010000
END:DAYLIGHT
BEGIN:STANDARD
TZOFFSETFROM:+0200
TZOFFSETTO:+0100
TZNAME:CET
DTSTART:20051030T010000
END:STANDARD
BEGIN:DAYLIGHT
TZOFFSETFROM:+0100
TZOFFSETTO:+0200
TZNAME:CEST
DTSTART:20060326T010000
END:DAYLIGHT
BEGIN:STANDARD
TZOFFSETFROM:+0200
TZOFFSETTO:+0100
TZNAME:CET
DTSTART:20061029T010000
END:STANDARD
BEGIN:DAYLIGHT
TZOFFSETFROM:+0100
TZOFFSETTO:+0200
TZNAME:CEST
DTSTART:20070325T010000
END:DAYLIGHT
BEGIN:STANDARD
TZOFFSETFROM:+0200
TZOFFSETTO:+0100
TZNAME:CET
DTSTART:20071028T010000
END:STANDARD
BEGIN:DAYLIGHT
TZOFFSETFROM:+0100
TZOFFSETTO:+0200
TZNAME:CEST
DTSTART:20080330T010000
END:DAYLIGHT
BEGIN:STANDARD
TZOFFSETFROM:+0200
TZOFFSETTO:+0100
TZNAME:CET
DTSTART:20081026T010000
END:STANDARD
BEGIN:DAYLIGHT
TZOFFSETFROM:+0100
TZOFFSETTO:+0200
TZNAME:CEST
DTSTART:20090329T010000
END:DAYLIGHT
BEGIN:STANDARD
TZOFFSETFROM:+0200
TZOFFSETTO:+0100
TZNAME:CET
DTSTART:20091025T010000
END:STANDARD
BEGIN:DAYLIGHT
TZOFFSETFROM:+0100
TZOFFSETTO:+0200
TZNAME:CEST
DTSTART:20100328T010000
END:DAYLIGHT
BEGIN:STANDARD
TZOFFSETFROM:+0200
TZOFFSETTO:+0100
TZNAME:CET
DTSTART:20101031T010000
END:STANDARD
BEGIN:DAYLIGHT
TZOFFSETFROM:+0100
TZOFFSETTO:+0200
TZNAME:CEST
DTSTART:20110327T010000
END:DAYLIGHT
BEGIN:STANDARD
TZOFFSETFROM:+0200
TZOFFSETTO:+0100
TZNAME:CET
DTSTART:20111030T010000
END:STANDARD
BEGIN:DAYLIGHT
TZOFFSETFROM:+0100
TZOFFSETTO:+0200
TZNAME:CEST
DTSTART:20120325T010000
END:DAYLIGHT
BEGIN:STANDARD
TZOFFSETFROM:+0200
TZOFFSETTO:+0100
TZNAME:CET
DTSTART:20121028T010000
END:STANDARD
BEGIN:DAYLIGHT
TZOFFSETFROM:+0100
TZOFFSETTO:+0200
TZNAME:CEST
DTSTART:20130331T010000
END:DAYLIGHT
BEGIN:STANDARD
TZOFFSETFROM:+0200
TZOFFSETTO:+0100
TZNAME:CET
DTSTART:20131027T010000
END:STANDARD
BEGIN:DAYLIGHT
TZOFFSETFROM:+0100
TZOFFSETTO:+0200
TZNAME:CEST
DTSTART:20140330T010000
END:DAYLIGHT
BEGIN:STANDARD
TZOFFSETFROM:+0200
TZOFFSETTO:+0100
TZNAME:CET
DTSTART:20141026T010000
END:STANDARD
BEGIN:DAYLIGHT
TZOFFSETFROM:+0100
TZOFFSETTO:+0200
TZNAME:CEST
DTSTART:20150329T010000
END:DAYLIGHT
BEGIN:STANDARD
TZOFFSETFROM:+0200
TZOFFSETTO:+0100
TZNAME:CET
DTSTART:20151025T010000
END:STANDARD
BEGIN:DAYLIGHT
TZOFFSETFROM:+0100
TZOFFSETTO:+0200
TZNAME:CEST
DTSTART:20160327T010000
END:DAYLIGHT
BEGIN:STANDARD
TZOFFSETFROM:+0200
TZOFFSETTO:+0100
TZNAME:CET
DTSTART:20161030T010000
END:STANDARD
BEGIN:DAYLIGHT
TZOFFSETFROM:+0100
TZOFFSETTO:+0200
TZNAME:CEST
DTSTART:20170326T010000
END:DAYLIGHT
BEGIN:STANDARD
TZOFFSETFROM:+0200
TZOFFSETTO:+0100
TZNAME:CET
DTSTART:20171029T010000
END:STANDARD
BEGIN:DAYLIGHT
TZOFFSETFROM:+0100
TZOFFSETTO:+0200
TZNAME:CEST
DTSTART:20180325T010000
END:DAYLIGHT
BEGIN:STANDARD
TZOFFSETFROM:+0200
TZOFFSETTO:+0100
TZNAME:CET
DTSTART:20181028T010000
END:STANDARD
BEGIN:DAYLIGHT
TZOFFSETFROM:+0100
TZOFFSETTO:+0200
TZNAME:CEST
DTSTART:20190331T010000
END:DAYLIGHT
BEGIN:STANDARD
TZOFFSETFROM:+0200
TZOFFSETTO:+0100
TZNAME:CET
DTSTART:20191027T010000
END:STANDARD
BEGIN:DAYLIGHT
TZOFFSETFROM:+0100
TZOFFSETTO:+0200
TZNAME:CEST
DTSTART:20200329T010000
END:DAYLIGHT
BEGIN:STANDARD
TZOFFSETFROM:+0200
TZOFFSETTO:+0100
TZNAME:CET
DTSTART:20201025T010000
END:STANDARD
BEGIN:DAYLIGHT
TZOFFSETFROM:+0100
TZOFFSETTO:+0200
TZNAME:CEST
DTSTART:20210328T010000
END:DAYLIGHT
BEGIN:STANDARD
TZOFFSETFROM:+0200
TZOFFSETTO:+0100
TZNAME:CET
DTSTART:20211031T010000
END:STANDARD
BEGIN:DAYLIGHT
TZOFFSETFROM:+0100
TZOFFSETTO:+0200
TZNAME:CEST
DTSTART:20220327T010000
END:DAYLIGHT
BEGIN:STANDARD
TZOFFSETFROM:+0200
TZOFFSETTO:+0100
TZNAME:CET
DTSTART:20221030T010000
END:STANDARD
BEGIN:DAYLIGHT
TZOFFSETFROM:+0100
TZOFFSETTO:+0200
TZNAME:CEST
DTSTART:20230326T010000
END:DAYLIGHT
BEGIN:STANDARD
TZOFFSETFROM:+0200
TZOFFSETTO:+0100
TZNAME:CET
DTSTART:20231029T010000
END:STANDARD
BEGIN:DAYLIGHT
TZOFFSETFROM:+0100
TZOFFSETTO:+0200
TZNAME:CEST
DTSTART:20240331T010000
END:DAYLIGHT
BEGIN:STANDARD
TZOFFSETFROM:+0200
TZOFFSETTO:+0100
TZNAME:CET
DTSTART:20241027T010000
END:STANDARD
END:VTIMEZONE
BEGIN:VEVENT
DTSTART;TZID=Europe/Oslo:20260425T035026
DTEND;TZID=Europe/Oslo:20230424T200000
DTSTAMP:20260425T035026
CREATED:20230323T110932Z
LAST-MODIFIED:20230323T110932Z
UID:10000745-0-1682366400@oodk.org
SUMMARY:Rally: Konkurransekurs klasse 3 og elite
DESCRIPTION:
URL:https://oodk.org/aktivitet/rally-konkurransekurs-klasse-3-og-elite-2/
LOCATION:Brekke\, midtre plan
END:VEVENT
BEGIN:VEVENT
DTSTART;TZID=Europe/Oslo:20160901T180000
DTEND;TZID=Europe/Oslo:20160901T203000
DTSTAMP:20260425T035026
CREATED:20160411T091126Z
LAST-MODIFIED:20160411T091126Z
UID:10000065-1472752800-1472761800@oodk.org
SUMMARY:Agilitytrening
DESCRIPTION:Mer info her
URL:https://oodk.org/aktivitet/agilitytrening-9/
LOCATION:Brekke
END:VEVENT
BEGIN:VEVENT
DTSTART;VALUE=DATE:20160903
DTEND;VALUE=DATE:20160904
DTSTAMP:20260425T035026
CREATED:20151210T133427Z
LAST-MODIFIED:20151210T133427Z
UID:10000049-1472860800-1472947199@oodk.org
SUMMARY:Agilitystevne
DESCRIPTION:Mer info kommer
URL:https://oodk.org/aktivitet/agilitystevne/
END:VEVENT
BEGIN:VEVENT
DTSTART;VALUE=DATE:20160904
DTEND;VALUE=DATE:20160905
DTSTAMP:20260425T035026
CREATED:20151210T133457Z
LAST-MODIFIED:20160529T142725Z
UID:10000051-1472947200-1473033599@oodk.org
SUMMARY:Lydighetsstevne
DESCRIPTION:Mer info her
URL:https://oodk.org/aktivitet/lydighetsstevne/
END:VEVENT
BEGIN:VEVENT
DTSTART;TZID=Europe/Oslo:20160905T183000
DTEND;TZID=Europe/Oslo:20160905T203000
DTSTAMP:20260425T035026
CREATED:20160803T064108Z
LAST-MODIFIED:20160803T064108Z
UID:10000233-1473100200-1473107400@oodk.org
SUMMARY:Kurs for treningsledere rallylydighet
DESCRIPTION:
URL:https://oodk.org/aktivitet/kurs-for-treningsledere-rallylydighet/
END:VEVENT
BEGIN:VEVENT
DTSTART;TZID=Europe/Oslo:20160906T180000
DTEND;TZID=Europe/Oslo:20160906T210000
DTSTAMP:20260425T035026
CREATED:20160215T104146Z
LAST-MODIFIED:20160215T104146Z
UID:10000121-1473184800-1473195600@oodk.org
SUMMARY:Agilitytrening med Christina Kosinski
DESCRIPTION:Mer info her
URL:https://oodk.org/aktivitet/agilitytrening-med-christina-kosinski-10/
LOCATION:Brekke
END:VEVENT
BEGIN:VEVENT
DTSTART;TZID=Europe/Oslo:20160907T180000
DTEND;TZID=Europe/Oslo:20160907T193000
DTSTAMP:20260425T035026
CREATED:20160803T061901Z
LAST-MODIFIED:20160803T061901Z
UID:10000210-1473271200-1473276600@oodk.org
SUMMARY:Rallylydighetstrening med treningsleder (nybegynner)
DESCRIPTION:Mer informasjon her
URL:https://oodk.org/aktivitet/rallylydighetstrening-med-treningsleder-nybegynner-4/
LOCATION:Brekke
END:VEVENT
BEGIN:VEVENT
DTSTART;TZID=Europe/Oslo:20160907T193000
DTEND;TZID=Europe/Oslo:20160907T210000
DTSTAMP:20260425T035026
CREATED:20160803T063546Z
LAST-MODIFIED:20160803T063546Z
UID:10000228-1473276600-1473282000@oodk.org
SUMMARY:Rallylydighetstrening med instruktør (videregående)
DESCRIPTION:Mer info her
URL:https://oodk.org/aktivitet/rallylydighetstrening-med-instruktor-videregaende-11/
LOCATION:Brekke
END:VEVENT
BEGIN:VEVENT
DTSTART;TZID=Europe/Oslo:20160908T180000
DTEND;TZID=Europe/Oslo:20160908T203000
DTSTAMP:20260425T035026
CREATED:20160411T091150Z
LAST-MODIFIED:20160411T091150Z
UID:10000066-1473357600-1473366600@oodk.org
SUMMARY:Agilitytrening
DESCRIPTION:Mer info her
URL:https://oodk.org/aktivitet/agilitytrening-10/
LOCATION:Brekke
END:VEVENT
BEGIN:VEVENT
DTSTART;TZID=Europe/Oslo:20160913T180000
DTEND;TZID=Europe/Oslo:20160913T210000
DTSTAMP:20260425T035026
CREATED:20160215T104214Z
LAST-MODIFIED:20160215T104214Z
UID:10000123-1473789600-1473800400@oodk.org
SUMMARY:Agilitytrening med Christina Kosinski
DESCRIPTION:Mer info her
URL:https://oodk.org/aktivitet/agilitytrening-med-christina-kosinski-11/
LOCATION:Brekke
END:VEVENT
BEGIN:VEVENT
DTSTART;TZID=Europe/Oslo:20160914T180000
DTEND;TZID=Europe/Oslo:20160914T193000
DTSTAMP:20260425T035026
CREATED:20160803T061925Z
LAST-MODIFIED:20160803T061925Z
UID:10000211-1473876000-1473881400@oodk.org
SUMMARY:Rallylydighetstrening med treningsleder (nybegynner)
DESCRIPTION:Mer informasjon her
URL:https://oodk.org/aktivitet/rallylydighetstrening-med-treningsleder-nybegynner-5/
LOCATION:Brekke
END:VEVENT
BEGIN:VEVENT
DTSTART;TZID=Europe/Oslo:20160914T193000
DTEND;TZID=Europe/Oslo:20160914T210000
DTSTAMP:20260425T035026
CREATED:20160803T063617Z
LAST-MODIFIED:20160803T063617Z
UID:10000229-1473881400-1473886800@oodk.org
SUMMARY:Rallylydighetstrening med instruktør (videregående)
DESCRIPTION:Mer info her
URL:https://oodk.org/aktivitet/rallylydighetstrening-med-instruktor-videregaende-12/
LOCATION:Brekke
END:VEVENT
BEGIN:VEVENT
DTSTART;TZID=Europe/Oslo:20160915T180000
DTEND;TZID=Europe/Oslo:20160915T203000
DTSTAMP:20260425T035026
CREATED:20160411T091214Z
LAST-MODIFIED:20160411T091214Z
UID:10000068-1473962400-1473971400@oodk.org
SUMMARY:Agilitytrening
DESCRIPTION:Mer info her
URL:https://oodk.org/aktivitet/agilitytrening-11/
LOCATION:Brekke
END:VEVENT
BEGIN:VEVENT
DTSTART;TZID=Europe/Oslo:20160919T183000
DTEND;TZID=Europe/Oslo:20160919T203000
DTSTAMP:20260425T035026
CREATED:20160803T064159Z
LAST-MODIFIED:20160803T064159Z
UID:10000235-1474309800-1474317000@oodk.org
SUMMARY:Kurs for treningsledere rallylydighet
DESCRIPTION:
URL:https://oodk.org/aktivitet/kurs-for-treningsledere-rallylydighet-2/
END:VEVENT
BEGIN:VEVENT
DTSTART;TZID=Europe/Oslo:20160920T180000
DTEND;TZID=Europe/Oslo:20160920T210000
DTSTAMP:20260425T035026
CREATED:20160215T104252Z
LAST-MODIFIED:20160215T104252Z
UID:10000125-1474394400-1474405200@oodk.org
SUMMARY:Agilitytrening med Christina Kosinski
DESCRIPTION:Mer info her
URL:https://oodk.org/aktivitet/agilitytrening-med-christina-kosinski-12/
LOCATION:Brekke
END:VEVENT
BEGIN:VEVENT
DTSTART;VALUE=DATE:20160921
DTEND;VALUE=DATE:20160922
DTSTAMP:20260425T035026
CREATED:20160822T081223Z
LAST-MODIFIED:20160822T081223Z
UID:10000246-1474416000-1474502399@oodk.org
SUMMARY:Styremøte
DESCRIPTION:
URL:https://oodk.org/aktivitet/styremote-4/
END:VEVENT
BEGIN:VEVENT
DTSTART;TZID=Europe/Oslo:20160921T180000
DTEND;TZID=Europe/Oslo:20160921T193000
DTSTAMP:20260425T035026
CREATED:20160803T061949Z
LAST-MODIFIED:20160803T061949Z
UID:10000219-1474480800-1474486200@oodk.org
SUMMARY:Rallylydighetstrening med treningsleder (nybegynner)
DESCRIPTION:Mer informasjon her
URL:https://oodk.org/aktivitet/rallylydighetstrening-med-treningsleder-nybegynner-6/
LOCATION:Brekke
END:VEVENT
BEGIN:VEVENT
DTSTART;TZID=Europe/Oslo:20160921T193000
DTEND;TZID=Europe/Oslo:20160921T210000
DTSTAMP:20260425T035026
CREATED:20160803T063802Z
LAST-MODIFIED:20160803T063802Z
UID:10000230-1474486200-1474491600@oodk.org
SUMMARY:Rallylydighetstrening med instruktør (videregående)
DESCRIPTION:Mer info her
URL:https://oodk.org/aktivitet/rallylydighetstrening-med-instruktor-videregaende-13/
LOCATION:Brekke
END:VEVENT
BEGIN:VEVENT
DTSTART;TZID=Europe/Oslo:20160922T180000
DTEND;TZID=Europe/Oslo:20160922T203000
DTSTAMP:20260425T035026
CREATED:20160411T091235Z
LAST-MODIFIED:20160411T091235Z
UID:10000070-1474567200-1474576200@oodk.org
SUMMARY:Agilitytrening
DESCRIPTION:Mer info her
URL:https://oodk.org/aktivitet/agilitytrening-12/
LOCATION:Brekke
END:VEVENT
BEGIN:VEVENT
DTSTART;VALUE=DATE:20160923
DTEND;VALUE=DATE:20160926
DTSTAMP:20260425T035026
CREATED:20160811T083029Z
LAST-MODIFIED:20160811T083029Z
UID:10000242-1474588800-1474847999@oodk.org
SUMMARY:Sporkurs
DESCRIPTION:Mer info her 
URL:https://oodk.org/aktivitet/sporkurs-2/
LOCATION:Isdammen på Årvoll og steinbordet v/Sandermosen st. i Maridalen
END:VEVENT
BEGIN:VEVENT
DTSTART;TZID=Europe/Oslo:20160926T183000
DTEND;TZID=Europe/Oslo:20160926T203000
DTSTAMP:20260425T035026
CREATED:20160803T064220Z
LAST-MODIFIED:20160803T064220Z
UID:10000237-1474914600-1474921800@oodk.org
SUMMARY:Kurs for treningsledere rallylydighet
DESCRIPTION:
URL:https://oodk.org/aktivitet/kurs-for-treningsledere-rallylydighet-3/
END:VEVENT
BEGIN:VEVENT
DTSTART;TZID=Europe/Oslo:20160928T180000
DTEND;TZID=Europe/Oslo:20160928T193000
DTSTAMP:20260425T035026
CREATED:20160803T062016Z
LAST-MODIFIED:20160803T062016Z
UID:10000221-1475085600-1475091000@oodk.org
SUMMARY:Rallylydighetstrening med treningsleder (nybegynner)
DESCRIPTION:Mer informasjon her
URL:https://oodk.org/aktivitet/rallylydighetstrening-med-treningsleder-nybegynner-7/
LOCATION:Brekke
END:VEVENT
BEGIN:VEVENT
DTSTART;TZID=Europe/Oslo:20160928T193000
DTEND;TZID=Europe/Oslo:20160928T210000
DTSTAMP:20260425T035026
CREATED:20160803T063826Z
LAST-MODIFIED:20160803T063826Z
UID:10000231-1475091000-1475096400@oodk.org
SUMMARY:Rallylydighetstrening med instruktør (videregående)
DESCRIPTION:Mer info her
URL:https://oodk.org/aktivitet/rallylydighetstrening-med-instruktor-videregaende-14/
LOCATION:Brekke
END:VEVENT
BEGIN:VEVENT
DTSTART;TZID=Europe/Oslo:20160929T180000
DTEND;TZID=Europe/Oslo:20160929T203000
DTSTAMP:20260425T035026
CREATED:20160411T091257Z
LAST-MODIFIED:20160411T091257Z
UID:10000072-1475172000-1475181000@oodk.org
SUMMARY:Agilitytrening
DESCRIPTION:Mer info her
URL:https://oodk.org/aktivitet/agilitytrening-13/
LOCATION:Brekke
END:VEVENT
BEGIN:VEVENT
DTSTART;VALUE=DATE:20160930
DTEND;VALUE=DATE:20161003
DTSTAMP:20260425T035026
CREATED:20160811T083655Z
LAST-MODIFIED:20160811T083655Z
UID:10000244-1475193600-1475452799@oodk.org
SUMMARY:Runderingskurs
DESCRIPTION:Mer info her
URL:https://oodk.org/aktivitet/runderingskurs/
LOCATION:Isdammen ved Årvoll og steinbordet v/Sandermosen st. i Maridalen
END:VEVENT
END:VCALENDAR