BEGIN:VCALENDAR
VERSION:2.0
PRODID:-//Oslo og Omegn Dressurklubb - ECPv6.15.20//NONSGML v1.0//EN
CALSCALE:GREGORIAN
METHOD:PUBLISH
X-WR-CALNAME:Oslo og Omegn Dressurklubb
X-ORIGINAL-URL:https://oodk.org
X-WR-CALDESC:Arrangement for Oslo og Omegn Dressurklubb
REFRESH-INTERVAL;VALUE=DURATION:PT1H
X-Robots-Tag:noindex
X-PUBLISHED-TTL:PT1H
BEGIN:VTIMEZONE
TZID:Europe/Oslo
BEGIN:DAYLIGHT
TZOFFSETFROM:+0100
TZOFFSETTO:+0200
TZNAME:CEST
DTSTART:19800406T010000
END:DAYLIGHT
BEGIN:STANDARD
TZOFFSETFROM:+0200
TZOFFSETTO:+0100
TZNAME:CET
DTSTART:19800928T010000
END:STANDARD
BEGIN:DAYLIGHT
TZOFFSETFROM:+0100
TZOFFSETTO:+0200
TZNAME:CEST
DTSTART:19810329T010000
END:DAYLIGHT
BEGIN:STANDARD
TZOFFSETFROM:+0200
TZOFFSETTO:+0100
TZNAME:CET
DTSTART:19810927T010000
END:STANDARD
BEGIN:DAYLIGHT
TZOFFSETFROM:+0100
TZOFFSETTO:+0200
TZNAME:CEST
DTSTART:19820328T010000
END:DAYLIGHT
BEGIN:STANDARD
TZOFFSETFROM:+0200
TZOFFSETTO:+0100
TZNAME:CET
DTSTART:19820926T010000
END:STANDARD
BEGIN:DAYLIGHT
TZOFFSETFROM:+0100
TZOFFSETTO:+0200
TZNAME:CEST
DTSTART:19830327T010000
END:DAYLIGHT
BEGIN:STANDARD
TZOFFSETFROM:+0200
TZOFFSETTO:+0100
TZNAME:CET
DTSTART:19830925T010000
END:STANDARD
BEGIN:DAYLIGHT
TZOFFSETFROM:+0100
TZOFFSETTO:+0200
TZNAME:CEST
DTSTART:19840325T010000
END:DAYLIGHT
BEGIN:STANDARD
TZOFFSETFROM:+0200
TZOFFSETTO:+0100
TZNAME:CET
DTSTART:19840930T010000
END:STANDARD
BEGIN:DAYLIGHT
TZOFFSETFROM:+0100
TZOFFSETTO:+0200
TZNAME:CEST
DTSTART:19850331T010000
END:DAYLIGHT
BEGIN:STANDARD
TZOFFSETFROM:+0200
TZOFFSETTO:+0100
TZNAME:CET
DTSTART:19850929T010000
END:STANDARD
BEGIN:DAYLIGHT
TZOFFSETFROM:+0100
TZOFFSETTO:+0200
TZNAME:CEST
DTSTART:19860330T010000
END:DAYLIGHT
BEGIN:STANDARD
TZOFFSETFROM:+0200
TZOFFSETTO:+0100
TZNAME:CET
DTSTART:19860928T010000
END:STANDARD
BEGIN:DAYLIGHT
TZOFFSETFROM:+0100
TZOFFSETTO:+0200
TZNAME:CEST
DTSTART:19870329T010000
END:DAYLIGHT
BEGIN:STANDARD
TZOFFSETFROM:+0200
TZOFFSETTO:+0100
TZNAME:CET
DTSTART:19870927T010000
END:STANDARD
BEGIN:DAYLIGHT
TZOFFSETFROM:+0100
TZOFFSETTO:+0200
TZNAME:CEST
DTSTART:19880327T010000
END:DAYLIGHT
BEGIN:STANDARD
TZOFFSETFROM:+0200
TZOFFSETTO:+0100
TZNAME:CET
DTSTART:19880925T010000
END:STANDARD
BEGIN:DAYLIGHT
TZOFFSETFROM:+0100
TZOFFSETTO:+0200
TZNAME:CEST
DTSTART:19890326T010000
END:DAYLIGHT
BEGIN:STANDARD
TZOFFSETFROM:+0200
TZOFFSETTO:+0100
TZNAME:CET
DTSTART:19890924T010000
END:STANDARD
BEGIN:DAYLIGHT
TZOFFSETFROM:+0100
TZOFFSETTO:+0200
TZNAME:CEST
DTSTART:19900325T010000
END:DAYLIGHT
BEGIN:STANDARD
TZOFFSETFROM:+0200
TZOFFSETTO:+0100
TZNAME:CET
DTSTART:19900930T010000
END:STANDARD
BEGIN:DAYLIGHT
TZOFFSETFROM:+0100
TZOFFSETTO:+0200
TZNAME:CEST
DTSTART:19910331T010000
END:DAYLIGHT
BEGIN:STANDARD
TZOFFSETFROM:+0200
TZOFFSETTO:+0100
TZNAME:CET
DTSTART:19910929T010000
END:STANDARD
BEGIN:DAYLIGHT
TZOFFSETFROM:+0100
TZOFFSETTO:+0200
TZNAME:CEST
DTSTART:19920329T010000
END:DAYLIGHT
BEGIN:STANDARD
TZOFFSETFROM:+0200
TZOFFSETTO:+0100
TZNAME:CET
DTSTART:19920927T010000
END:STANDARD
BEGIN:DAYLIGHT
TZOFFSETFROM:+0100
TZOFFSETTO:+0200
TZNAME:CEST
DTSTART:19930328T010000
END:DAYLIGHT
BEGIN:STANDARD
TZOFFSETFROM:+0200
TZOFFSETTO:+0100
TZNAME:CET
DTSTART:19930926T010000
END:STANDARD
BEGIN:DAYLIGHT
TZOFFSETFROM:+0100
TZOFFSETTO:+0200
TZNAME:CEST
DTSTART:19940327T010000
END:DAYLIGHT
BEGIN:STANDARD
TZOFFSETFROM:+0200
TZOFFSETTO:+0100
TZNAME:CET
DTSTART:19940925T010000
END:STANDARD
BEGIN:DAYLIGHT
TZOFFSETFROM:+0100
TZOFFSETTO:+0200
TZNAME:CEST
DTSTART:19950326T010000
END:DAYLIGHT
BEGIN:STANDARD
TZOFFSETFROM:+0200
TZOFFSETTO:+0100
TZNAME:CET
DTSTART:19950924T010000
END:STANDARD
BEGIN:DAYLIGHT
TZOFFSETFROM:+0100
TZOFFSETTO:+0200
TZNAME:CEST
DTSTART:19960331T010000
END:DAYLIGHT
BEGIN:STANDARD
TZOFFSETFROM:+0200
TZOFFSETTO:+0100
TZNAME:CET
DTSTART:19961027T010000
END:STANDARD
BEGIN:DAYLIGHT
TZOFFSETFROM:+0100
TZOFFSETTO:+0200
TZNAME:CEST
DTSTART:19970330T010000
END:DAYLIGHT
BEGIN:STANDARD
TZOFFSETFROM:+0200
TZOFFSETTO:+0100
TZNAME:CET
DTSTART:19971026T010000
END:STANDARD
BEGIN:DAYLIGHT
TZOFFSETFROM:+0100
TZOFFSETTO:+0200
TZNAME:CEST
DTSTART:19980329T010000
END:DAYLIGHT
BEGIN:STANDARD
TZOFFSETFROM:+0200
TZOFFSETTO:+0100
TZNAME:CET
DTSTART:19981025T010000
END:STANDARD
BEGIN:DAYLIGHT
TZOFFSETFROM:+0100
TZOFFSETTO:+0200
TZNAME:CEST
DTSTART:19990328T010000
END:DAYLIGHT
BEGIN:STANDARD
TZOFFSETFROM:+0200
TZOFFSETTO:+0100
TZNAME:CET
DTSTART:19991031T010000
END:STANDARD
BEGIN:DAYLIGHT
TZOFFSETFROM:+0100
TZOFFSETTO:+0200
TZNAME:CEST
DTSTART:20000326T010000
END:DAYLIGHT
BEGIN:STANDARD
TZOFFSETFROM:+0200
TZOFFSETTO:+0100
TZNAME:CET
DTSTART:20001029T010000
END:STANDARD
BEGIN:DAYLIGHT
TZOFFSETFROM:+0100
TZOFFSETTO:+0200
TZNAME:CEST
DTSTART:20010325T010000
END:DAYLIGHT
BEGIN:STANDARD
TZOFFSETFROM:+0200
TZOFFSETTO:+0100
TZNAME:CET
DTSTART:20011028T010000
END:STANDARD
BEGIN:DAYLIGHT
TZOFFSETFROM:+0100
TZOFFSETTO:+0200
TZNAME:CEST
DTSTART:20020331T010000
END:DAYLIGHT
BEGIN:STANDARD
TZOFFSETFROM:+0200
TZOFFSETTO:+0100
TZNAME:CET
DTSTART:20021027T010000
END:STANDARD
BEGIN:DAYLIGHT
TZOFFSETFROM:+0100
TZOFFSETTO:+0200
TZNAME:CEST
DTSTART:20030330T010000
END:DAYLIGHT
BEGIN:STANDARD
TZOFFSETFROM:+0200
TZOFFSETTO:+0100
TZNAME:CET
DTSTART:20031026T010000
END:STANDARD
BEGIN:DAYLIGHT
TZOFFSETFROM:+0100
TZOFFSETTO:+0200
TZNAME:CEST
DTSTART:20040328T010000
END:DAYLIGHT
BEGIN:STANDARD
TZOFFSETFROM:+0200
TZOFFSETTO:+0100
TZNAME:CET
DTSTART:20041031T010000
END:STANDARD
BEGIN:DAYLIGHT
TZOFFSETFROM:+0100
TZOFFSETTO:+0200
TZNAME:CEST
DTSTART:20050327T010000
END:DAYLIGHT
BEGIN:STANDARD
TZOFFSETFROM:+0200
TZOFFSETTO:+0100
TZNAME:CET
DTSTART:20051030T010000
END:STANDARD
BEGIN:DAYLIGHT
TZOFFSETFROM:+0100
TZOFFSETTO:+0200
TZNAME:CEST
DTSTART:20060326T010000
END:DAYLIGHT
BEGIN:STANDARD
TZOFFSETFROM:+0200
TZOFFSETTO:+0100
TZNAME:CET
DTSTART:20061029T010000
END:STANDARD
BEGIN:DAYLIGHT
TZOFFSETFROM:+0100
TZOFFSETTO:+0200
TZNAME:CEST
DTSTART:20070325T010000
END:DAYLIGHT
BEGIN:STANDARD
TZOFFSETFROM:+0200
TZOFFSETTO:+0100
TZNAME:CET
DTSTART:20071028T010000
END:STANDARD
BEGIN:DAYLIGHT
TZOFFSETFROM:+0100
TZOFFSETTO:+0200
TZNAME:CEST
DTSTART:20080330T010000
END:DAYLIGHT
BEGIN:STANDARD
TZOFFSETFROM:+0200
TZOFFSETTO:+0100
TZNAME:CET
DTSTART:20081026T010000
END:STANDARD
BEGIN:DAYLIGHT
TZOFFSETFROM:+0100
TZOFFSETTO:+0200
TZNAME:CEST
DTSTART:20090329T010000
END:DAYLIGHT
BEGIN:STANDARD
TZOFFSETFROM:+0200
TZOFFSETTO:+0100
TZNAME:CET
DTSTART:20091025T010000
END:STANDARD
BEGIN:DAYLIGHT
TZOFFSETFROM:+0100
TZOFFSETTO:+0200
TZNAME:CEST
DTSTART:20100328T010000
END:DAYLIGHT
BEGIN:STANDARD
TZOFFSETFROM:+0200
TZOFFSETTO:+0100
TZNAME:CET
DTSTART:20101031T010000
END:STANDARD
BEGIN:DAYLIGHT
TZOFFSETFROM:+0100
TZOFFSETTO:+0200
TZNAME:CEST
DTSTART:20110327T010000
END:DAYLIGHT
BEGIN:STANDARD
TZOFFSETFROM:+0200
TZOFFSETTO:+0100
TZNAME:CET
DTSTART:20111030T010000
END:STANDARD
BEGIN:DAYLIGHT
TZOFFSETFROM:+0100
TZOFFSETTO:+0200
TZNAME:CEST
DTSTART:20120325T010000
END:DAYLIGHT
BEGIN:STANDARD
TZOFFSETFROM:+0200
TZOFFSETTO:+0100
TZNAME:CET
DTSTART:20121028T010000
END:STANDARD
BEGIN:DAYLIGHT
TZOFFSETFROM:+0100
TZOFFSETTO:+0200
TZNAME:CEST
DTSTART:20130331T010000
END:DAYLIGHT
BEGIN:STANDARD
TZOFFSETFROM:+0200
TZOFFSETTO:+0100
TZNAME:CET
DTSTART:20131027T010000
END:STANDARD
BEGIN:DAYLIGHT
TZOFFSETFROM:+0100
TZOFFSETTO:+0200
TZNAME:CEST
DTSTART:20140330T010000
END:DAYLIGHT
BEGIN:STANDARD
TZOFFSETFROM:+0200
TZOFFSETTO:+0100
TZNAME:CET
DTSTART:20141026T010000
END:STANDARD
BEGIN:DAYLIGHT
TZOFFSETFROM:+0100
TZOFFSETTO:+0200
TZNAME:CEST
DTSTART:20150329T010000
END:DAYLIGHT
BEGIN:STANDARD
TZOFFSETFROM:+0200
TZOFFSETTO:+0100
TZNAME:CET
DTSTART:20151025T010000
END:STANDARD
BEGIN:DAYLIGHT
TZOFFSETFROM:+0100
TZOFFSETTO:+0200
TZNAME:CEST
DTSTART:20160327T010000
END:DAYLIGHT
BEGIN:STANDARD
TZOFFSETFROM:+0200
TZOFFSETTO:+0100
TZNAME:CET
DTSTART:20161030T010000
END:STANDARD
BEGIN:DAYLIGHT
TZOFFSETFROM:+0100
TZOFFSETTO:+0200
TZNAME:CEST
DTSTART:20170326T010000
END:DAYLIGHT
BEGIN:STANDARD
TZOFFSETFROM:+0200
TZOFFSETTO:+0100
TZNAME:CET
DTSTART:20171029T010000
END:STANDARD
BEGIN:DAYLIGHT
TZOFFSETFROM:+0100
TZOFFSETTO:+0200
TZNAME:CEST
DTSTART:20180325T010000
END:DAYLIGHT
BEGIN:STANDARD
TZOFFSETFROM:+0200
TZOFFSETTO:+0100
TZNAME:CET
DTSTART:20181028T010000
END:STANDARD
BEGIN:DAYLIGHT
TZOFFSETFROM:+0100
TZOFFSETTO:+0200
TZNAME:CEST
DTSTART:20190331T010000
END:DAYLIGHT
BEGIN:STANDARD
TZOFFSETFROM:+0200
TZOFFSETTO:+0100
TZNAME:CET
DTSTART:20191027T010000
END:STANDARD
BEGIN:DAYLIGHT
TZOFFSETFROM:+0100
TZOFFSETTO:+0200
TZNAME:CEST
DTSTART:20200329T010000
END:DAYLIGHT
BEGIN:STANDARD
TZOFFSETFROM:+0200
TZOFFSETTO:+0100
TZNAME:CET
DTSTART:20201025T010000
END:STANDARD
BEGIN:DAYLIGHT
TZOFFSETFROM:+0100
TZOFFSETTO:+0200
TZNAME:CEST
DTSTART:20210328T010000
END:DAYLIGHT
BEGIN:STANDARD
TZOFFSETFROM:+0200
TZOFFSETTO:+0100
TZNAME:CET
DTSTART:20211031T010000
END:STANDARD
BEGIN:DAYLIGHT
TZOFFSETFROM:+0100
TZOFFSETTO:+0200
TZNAME:CEST
DTSTART:20220327T010000
END:DAYLIGHT
BEGIN:STANDARD
TZOFFSETFROM:+0200
TZOFFSETTO:+0100
TZNAME:CET
DTSTART:20221030T010000
END:STANDARD
BEGIN:DAYLIGHT
TZOFFSETFROM:+0100
TZOFFSETTO:+0200
TZNAME:CEST
DTSTART:20230326T010000
END:DAYLIGHT
BEGIN:STANDARD
TZOFFSETFROM:+0200
TZOFFSETTO:+0100
TZNAME:CET
DTSTART:20231029T010000
END:STANDARD
BEGIN:DAYLIGHT
TZOFFSETFROM:+0100
TZOFFSETTO:+0200
TZNAME:CEST
DTSTART:20240331T010000
END:DAYLIGHT
BEGIN:STANDARD
TZOFFSETFROM:+0200
TZOFFSETTO:+0100
TZNAME:CET
DTSTART:20241027T010000
END:STANDARD
END:VTIMEZONE
BEGIN:VEVENT
DTSTART;TZID=Europe/Oslo:20260424T131113
DTEND;TZID=Europe/Oslo:20230424T200000
DTSTAMP:20260424T131113
CREATED:20230323T110932Z
LAST-MODIFIED:20230323T110932Z
UID:10000745-0-1682366400@oodk.org
SUMMARY:Rally: Konkurransekurs klasse 3 og elite
DESCRIPTION:
URL:https://oodk.org/aktivitet/rally-konkurransekurs-klasse-3-og-elite-2/
LOCATION:Brekke\, midtre plan
END:VEVENT
BEGIN:VEVENT
DTSTART;TZID=Europe/Oslo:20170601T180000
DTEND;TZID=Europe/Oslo:20170601T213000
DTSTAMP:20260424T131113
CREATED:20170405T053619Z
LAST-MODIFIED:20170405T053619Z
UID:10000356-1496340000-1496352600@oodk.org
SUMMARY:Oodk blåbæret
DESCRIPTION:AG konkurranse for nybegynnere og unge hunder.  På nedre plan 
URL:https://oodk.org/aktivitet/oodk-blabaeret/
END:VEVENT
BEGIN:VEVENT
DTSTART;TZID=Europe/Oslo:20170606T180000
DTEND;TZID=Europe/Oslo:20170606T203000
DTSTAMP:20260424T131113
CREATED:20170328T065356Z
LAST-MODIFIED:20170328T065507Z
UID:10000350-1496772000-1496781000@oodk.org
SUMMARY:Videregående trening agility
DESCRIPTION:Mer info her
URL:https://oodk.org/aktivitet/videregaende-trening-agility-copy-10/
LOCATION:Brekke
END:VEVENT
BEGIN:VEVENT
DTSTART;TZID=Europe/Oslo:20170606T190000
DTEND;TZID=Europe/Oslo:20170606T200000
DTSTAMP:20260424T131113
CREATED:20170420T094403Z
LAST-MODIFIED:20170425T071221Z
UID:10000179-1496775600-1496779200@oodk.org
SUMMARY:Lydighetstrening
DESCRIPTION:
URL:https://oodk.org/aktivitet/lydighetstrening-5-copy-copy/
LOCATION:Brekke
END:VEVENT
BEGIN:VEVENT
DTSTART;TZID=Europe/Oslo:20170607T180000
DTEND;TZID=Europe/Oslo:20170607T193000
DTSTAMP:20260424T131113
CREATED:20170308T092523Z
LAST-MODIFIED:20170308T092742Z
UID:10000319-1496858400-1496863800@oodk.org
SUMMARY:Fellestrening rallylydighet
DESCRIPTION:Mer info her
URL:https://oodk.org/aktivitet/fellestrening-rallylydighet-copy-copy-copy-copy-copy/
LOCATION:Brekke
END:VEVENT
BEGIN:VEVENT
DTSTART;TZID=Europe/Oslo:20170607T180000
DTEND;TZID=Europe/Oslo:20170607T193000
DTSTAMP:20260424T131113
CREATED:20170310T163027Z
LAST-MODIFIED:20170310T163250Z
UID:10000336-1496858400-1496863800@oodk.org
SUMMARY:Bronsemerkekurs
DESCRIPTION:Mer info her
URL:https://oodk.org/aktivitet/bronsemerkekurs-copy-copy-copy-copy-copy/
LOCATION:Brekke
END:VEVENT
BEGIN:VEVENT
DTSTART;TZID=Europe/Oslo:20170608T180000
DTEND;TZID=Europe/Oslo:20170608T203000
DTSTAMP:20260424T131113
CREATED:20170406T141324Z
LAST-MODIFIED:20170406T141436Z
UID:10000366-1496944800-1496953800@oodk.org
SUMMARY:Agilitytrening alle
DESCRIPTION: 
URL:https://oodk.org/aktivitet/agilitytrening-alle-copy-copy-copy-copy/
LOCATION:Brekke
END:VEVENT
BEGIN:VEVENT
DTSTART;VALUE=DATE:20170610
DTEND;VALUE=DATE:20170611
DTSTAMP:20260424T131113
CREATED:20170126T123826Z
LAST-MODIFIED:20170126T123826Z
UID:10000301-1497052800-1497139199@oodk.org
SUMMARY:Bruksstevne
DESCRIPTION:Mer info kommer
URL:https://oodk.org/aktivitet/bruksstevne/
LOCATION:Brekke
END:VEVENT
BEGIN:VEVENT
DTSTART;TZID=Europe/Oslo:20170613T180000
DTEND;TZID=Europe/Oslo:20170613T203000
DTSTAMP:20260424T131113
CREATED:20170328T065353Z
LAST-MODIFIED:20170328T065526Z
UID:10000349-1497376800-1497385800@oodk.org
SUMMARY:Videregående trening agility
DESCRIPTION:Mer info her
URL:https://oodk.org/aktivitet/videregaende-trening-agility-copy-9/
LOCATION:Brekke
END:VEVENT
BEGIN:VEVENT
DTSTART;TZID=Europe/Oslo:20170613T190000
DTEND;TZID=Europe/Oslo:20170613T200000
DTSTAMP:20260424T131113
CREATED:20170420T094437Z
LAST-MODIFIED:20170425T071159Z
UID:10000370-1497380400-1497384000@oodk.org
SUMMARY:Lydighetstrening
DESCRIPTION:
URL:https://oodk.org/aktivitet/lydighetstrening-6-2/
LOCATION:Brekke
END:VEVENT
BEGIN:VEVENT
DTSTART;VALUE=DATE:20170614
DTEND;VALUE=DATE:20170615
DTSTAMP:20260424T131113
CREATED:20161116T102314Z
LAST-MODIFIED:20161116T102314Z
UID:10000273-1497398400-1497484799@oodk.org
SUMMARY:Klubbmesterskap rallylydighet
DESCRIPTION:Mer info kommer
URL:https://oodk.org/aktivitet/klubbmesterskap-rallylydighet/
END:VEVENT
BEGIN:VEVENT
DTSTART;TZID=Europe/Oslo:20170614T180000
DTEND;TZID=Europe/Oslo:20170614T193000
DTSTAMP:20260424T131113
CREATED:20170308T092520Z
LAST-MODIFIED:20170308T092805Z
UID:10000318-1497463200-1497468600@oodk.org
SUMMARY:Fellestrening rallylydighet
DESCRIPTION:Mer info her
URL:https://oodk.org/aktivitet/fellestrening-rallylydighet-copy-copy-copy-copy/
LOCATION:Brekke
END:VEVENT
BEGIN:VEVENT
DTSTART;TZID=Europe/Oslo:20170614T180000
DTEND;TZID=Europe/Oslo:20170614T193000
DTSTAMP:20260424T131113
CREATED:20170310T163022Z
LAST-MODIFIED:20170310T163329Z
UID:10000334-1497463200-1497468600@oodk.org
SUMMARY:Bronsemerkekurs
DESCRIPTION:Mer info her
URL:https://oodk.org/aktivitet/bronsemerkekurs-copy-copy-copy-copy/
LOCATION:Brekke
END:VEVENT
BEGIN:VEVENT
DTSTART;TZID=Europe/Oslo:20170615T180000
DTEND;TZID=Europe/Oslo:20170615T203000
DTSTAMP:20260424T131113
CREATED:20170406T141536Z
LAST-MODIFIED:20170406T141807Z
UID:10000368-1497549600-1497558600@oodk.org
SUMMARY:Agilitytrening alle
DESCRIPTION:
URL:https://oodk.org/aktivitet/agilitytrening-alle-copy-copy-copy-copy-copy-copy/
LOCATION:Brekke
END:VEVENT
BEGIN:VEVENT
DTSTART;TZID=Europe/Oslo:20170617T090000
DTEND;TZID=Europe/Oslo:20170618T160000
DTSTAMP:20260424T131113
CREATED:20170328T063808Z
LAST-MODIFIED:20170328T063808Z
UID:10000149-1497690000-1497801600@oodk.org
SUMMARY:Føringskurs i agility med instruktør Enya Habel
DESCRIPTION:Mer info her
URL:https://oodk.org/aktivitet/foringskurs-i-agility-med-instruktor-enya-habel/
LOCATION:Brekke
END:VEVENT
BEGIN:VEVENT
DTSTART;TZID=Europe/Oslo:20170620T180000
DTEND;TZID=Europe/Oslo:20170620T203000
DTSTAMP:20260424T131113
CREATED:20170328T065350Z
LAST-MODIFIED:20170328T065545Z
UID:10000347-1497981600-1497990600@oodk.org
SUMMARY:Videregående trening agility
DESCRIPTION:Mer info her
URL:https://oodk.org/aktivitet/videregaende-trening-agility-copy-8/
LOCATION:Brekke
END:VEVENT
BEGIN:VEVENT
DTSTART;TZID=Europe/Oslo:20170620T190000
DTEND;TZID=Europe/Oslo:20170620T210000
DTSTAMP:20260424T131113
CREATED:20170420T094554Z
LAST-MODIFIED:20170420T094919Z
UID:10000375-1497985200-1497992400@oodk.org
SUMMARY:LP - Treningsstevne
DESCRIPTION:
URL:https://oodk.org/aktivitet/lydighetstrening-6-3/
LOCATION:Brekke
END:VEVENT
BEGIN:VEVENT
DTSTART;TZID=Europe/Oslo:20170621T180000
DTEND;TZID=Europe/Oslo:20170621T193000
DTSTAMP:20260424T131113
CREATED:20170308T092516Z
LAST-MODIFIED:20170308T092824Z
UID:10000317-1498068000-1498073400@oodk.org
SUMMARY:Fellestrening rallylydighet
DESCRIPTION:Mer info her
URL:https://oodk.org/aktivitet/fellestrening-rallylydighet-copy-copy-copy/
LOCATION:Brekke
END:VEVENT
BEGIN:VEVENT
DTSTART;TZID=Europe/Oslo:20170621T180000
DTEND;TZID=Europe/Oslo:20170621T193000
DTSTAMP:20260424T131113
CREATED:20170310T163015Z
LAST-MODIFIED:20170310T163356Z
UID:10000332-1498068000-1498073400@oodk.org
SUMMARY:Bronsemerkekurs
DESCRIPTION:Mer info her
URL:https://oodk.org/aktivitet/bronsemerkekurs-copy-copy-copy/
LOCATION:Brekke
END:VEVENT
BEGIN:VEVENT
DTSTART;TZID=Europe/Oslo:20170622T180000
DTEND;TZID=Europe/Oslo:20170622T203000
DTSTAMP:20260424T131113
CREATED:20170406T141445Z
LAST-MODIFIED:20170406T141549Z
UID:10000367-1498154400-1498163400@oodk.org
SUMMARY:Agilitytrening alle
DESCRIPTION:
URL:https://oodk.org/aktivitet/agilitytrening-alle-copy-copy-copy-copy-copy/
LOCATION:Brekke
END:VEVENT
BEGIN:VEVENT
DTSTART;TZID=Europe/Oslo:20170625T120000
DTEND;TZID=Europe/Oslo:20170625T160000
DTSTAMP:20260424T131113
CREATED:20170616T120631Z
LAST-MODIFIED:20170616T120631Z
UID:10000381-1498392000-1498406400@oodk.org
SUMMARY:Sommeravslutning
DESCRIPTION:
URL:https://oodk.org/aktivitet/sommeravslutning-3/
LOCATION:Brekke
END:VEVENT
BEGIN:VEVENT
DTSTART;TZID=Europe/Oslo:20170627T190000
DTEND;TZID=Europe/Oslo:20170627T200000
DTSTAMP:20260424T131113
CREATED:20170420T095301Z
LAST-MODIFIED:20170425T071110Z
UID:10000377-1498590000-1498593600@oodk.org
SUMMARY:Lydighetstrening
DESCRIPTION:
URL:https://oodk.org/aktivitet/lydighetstrening-5-6/
LOCATION:Brekke
END:VEVENT
END:VCALENDAR