BEGIN:VCALENDAR
VERSION:2.0
PRODID:-//Oslo og Omegn Dressurklubb - ECPv6.15.20//NONSGML v1.0//EN
CALSCALE:GREGORIAN
METHOD:PUBLISH
X-WR-CALNAME:Oslo og Omegn Dressurklubb
X-ORIGINAL-URL:https://oodk.org
X-WR-CALDESC:Arrangement for Oslo og Omegn Dressurklubb
REFRESH-INTERVAL;VALUE=DURATION:PT1H
X-Robots-Tag:noindex
X-PUBLISHED-TTL:PT1H
BEGIN:VTIMEZONE
TZID:Europe/Oslo
BEGIN:DAYLIGHT
TZOFFSETFROM:+0100
TZOFFSETTO:+0200
TZNAME:CEST
DTSTART:19800406T010000
END:DAYLIGHT
BEGIN:STANDARD
TZOFFSETFROM:+0200
TZOFFSETTO:+0100
TZNAME:CET
DTSTART:19800928T010000
END:STANDARD
BEGIN:DAYLIGHT
TZOFFSETFROM:+0100
TZOFFSETTO:+0200
TZNAME:CEST
DTSTART:19810329T010000
END:DAYLIGHT
BEGIN:STANDARD
TZOFFSETFROM:+0200
TZOFFSETTO:+0100
TZNAME:CET
DTSTART:19810927T010000
END:STANDARD
BEGIN:DAYLIGHT
TZOFFSETFROM:+0100
TZOFFSETTO:+0200
TZNAME:CEST
DTSTART:19820328T010000
END:DAYLIGHT
BEGIN:STANDARD
TZOFFSETFROM:+0200
TZOFFSETTO:+0100
TZNAME:CET
DTSTART:19820926T010000
END:STANDARD
BEGIN:DAYLIGHT
TZOFFSETFROM:+0100
TZOFFSETTO:+0200
TZNAME:CEST
DTSTART:19830327T010000
END:DAYLIGHT
BEGIN:STANDARD
TZOFFSETFROM:+0200
TZOFFSETTO:+0100
TZNAME:CET
DTSTART:19830925T010000
END:STANDARD
BEGIN:DAYLIGHT
TZOFFSETFROM:+0100
TZOFFSETTO:+0200
TZNAME:CEST
DTSTART:19840325T010000
END:DAYLIGHT
BEGIN:STANDARD
TZOFFSETFROM:+0200
TZOFFSETTO:+0100
TZNAME:CET
DTSTART:19840930T010000
END:STANDARD
BEGIN:DAYLIGHT
TZOFFSETFROM:+0100
TZOFFSETTO:+0200
TZNAME:CEST
DTSTART:19850331T010000
END:DAYLIGHT
BEGIN:STANDARD
TZOFFSETFROM:+0200
TZOFFSETTO:+0100
TZNAME:CET
DTSTART:19850929T010000
END:STANDARD
BEGIN:DAYLIGHT
TZOFFSETFROM:+0100
TZOFFSETTO:+0200
TZNAME:CEST
DTSTART:19860330T010000
END:DAYLIGHT
BEGIN:STANDARD
TZOFFSETFROM:+0200
TZOFFSETTO:+0100
TZNAME:CET
DTSTART:19860928T010000
END:STANDARD
BEGIN:DAYLIGHT
TZOFFSETFROM:+0100
TZOFFSETTO:+0200
TZNAME:CEST
DTSTART:19870329T010000
END:DAYLIGHT
BEGIN:STANDARD
TZOFFSETFROM:+0200
TZOFFSETTO:+0100
TZNAME:CET
DTSTART:19870927T010000
END:STANDARD
BEGIN:DAYLIGHT
TZOFFSETFROM:+0100
TZOFFSETTO:+0200
TZNAME:CEST
DTSTART:19880327T010000
END:DAYLIGHT
BEGIN:STANDARD
TZOFFSETFROM:+0200
TZOFFSETTO:+0100
TZNAME:CET
DTSTART:19880925T010000
END:STANDARD
BEGIN:DAYLIGHT
TZOFFSETFROM:+0100
TZOFFSETTO:+0200
TZNAME:CEST
DTSTART:19890326T010000
END:DAYLIGHT
BEGIN:STANDARD
TZOFFSETFROM:+0200
TZOFFSETTO:+0100
TZNAME:CET
DTSTART:19890924T010000
END:STANDARD
BEGIN:DAYLIGHT
TZOFFSETFROM:+0100
TZOFFSETTO:+0200
TZNAME:CEST
DTSTART:19900325T010000
END:DAYLIGHT
BEGIN:STANDARD
TZOFFSETFROM:+0200
TZOFFSETTO:+0100
TZNAME:CET
DTSTART:19900930T010000
END:STANDARD
BEGIN:DAYLIGHT
TZOFFSETFROM:+0100
TZOFFSETTO:+0200
TZNAME:CEST
DTSTART:19910331T010000
END:DAYLIGHT
BEGIN:STANDARD
TZOFFSETFROM:+0200
TZOFFSETTO:+0100
TZNAME:CET
DTSTART:19910929T010000
END:STANDARD
BEGIN:DAYLIGHT
TZOFFSETFROM:+0100
TZOFFSETTO:+0200
TZNAME:CEST
DTSTART:19920329T010000
END:DAYLIGHT
BEGIN:STANDARD
TZOFFSETFROM:+0200
TZOFFSETTO:+0100
TZNAME:CET
DTSTART:19920927T010000
END:STANDARD
BEGIN:DAYLIGHT
TZOFFSETFROM:+0100
TZOFFSETTO:+0200
TZNAME:CEST
DTSTART:19930328T010000
END:DAYLIGHT
BEGIN:STANDARD
TZOFFSETFROM:+0200
TZOFFSETTO:+0100
TZNAME:CET
DTSTART:19930926T010000
END:STANDARD
BEGIN:DAYLIGHT
TZOFFSETFROM:+0100
TZOFFSETTO:+0200
TZNAME:CEST
DTSTART:19940327T010000
END:DAYLIGHT
BEGIN:STANDARD
TZOFFSETFROM:+0200
TZOFFSETTO:+0100
TZNAME:CET
DTSTART:19940925T010000
END:STANDARD
BEGIN:DAYLIGHT
TZOFFSETFROM:+0100
TZOFFSETTO:+0200
TZNAME:CEST
DTSTART:19950326T010000
END:DAYLIGHT
BEGIN:STANDARD
TZOFFSETFROM:+0200
TZOFFSETTO:+0100
TZNAME:CET
DTSTART:19950924T010000
END:STANDARD
BEGIN:DAYLIGHT
TZOFFSETFROM:+0100
TZOFFSETTO:+0200
TZNAME:CEST
DTSTART:19960331T010000
END:DAYLIGHT
BEGIN:STANDARD
TZOFFSETFROM:+0200
TZOFFSETTO:+0100
TZNAME:CET
DTSTART:19961027T010000
END:STANDARD
BEGIN:DAYLIGHT
TZOFFSETFROM:+0100
TZOFFSETTO:+0200
TZNAME:CEST
DTSTART:19970330T010000
END:DAYLIGHT
BEGIN:STANDARD
TZOFFSETFROM:+0200
TZOFFSETTO:+0100
TZNAME:CET
DTSTART:19971026T010000
END:STANDARD
BEGIN:DAYLIGHT
TZOFFSETFROM:+0100
TZOFFSETTO:+0200
TZNAME:CEST
DTSTART:19980329T010000
END:DAYLIGHT
BEGIN:STANDARD
TZOFFSETFROM:+0200
TZOFFSETTO:+0100
TZNAME:CET
DTSTART:19981025T010000
END:STANDARD
BEGIN:DAYLIGHT
TZOFFSETFROM:+0100
TZOFFSETTO:+0200
TZNAME:CEST
DTSTART:19990328T010000
END:DAYLIGHT
BEGIN:STANDARD
TZOFFSETFROM:+0200
TZOFFSETTO:+0100
TZNAME:CET
DTSTART:19991031T010000
END:STANDARD
BEGIN:DAYLIGHT
TZOFFSETFROM:+0100
TZOFFSETTO:+0200
TZNAME:CEST
DTSTART:20000326T010000
END:DAYLIGHT
BEGIN:STANDARD
TZOFFSETFROM:+0200
TZOFFSETTO:+0100
TZNAME:CET
DTSTART:20001029T010000
END:STANDARD
BEGIN:DAYLIGHT
TZOFFSETFROM:+0100
TZOFFSETTO:+0200
TZNAME:CEST
DTSTART:20010325T010000
END:DAYLIGHT
BEGIN:STANDARD
TZOFFSETFROM:+0200
TZOFFSETTO:+0100
TZNAME:CET
DTSTART:20011028T010000
END:STANDARD
BEGIN:DAYLIGHT
TZOFFSETFROM:+0100
TZOFFSETTO:+0200
TZNAME:CEST
DTSTART:20020331T010000
END:DAYLIGHT
BEGIN:STANDARD
TZOFFSETFROM:+0200
TZOFFSETTO:+0100
TZNAME:CET
DTSTART:20021027T010000
END:STANDARD
BEGIN:DAYLIGHT
TZOFFSETFROM:+0100
TZOFFSETTO:+0200
TZNAME:CEST
DTSTART:20030330T010000
END:DAYLIGHT
BEGIN:STANDARD
TZOFFSETFROM:+0200
TZOFFSETTO:+0100
TZNAME:CET
DTSTART:20031026T010000
END:STANDARD
BEGIN:DAYLIGHT
TZOFFSETFROM:+0100
TZOFFSETTO:+0200
TZNAME:CEST
DTSTART:20040328T010000
END:DAYLIGHT
BEGIN:STANDARD
TZOFFSETFROM:+0200
TZOFFSETTO:+0100
TZNAME:CET
DTSTART:20041031T010000
END:STANDARD
BEGIN:DAYLIGHT
TZOFFSETFROM:+0100
TZOFFSETTO:+0200
TZNAME:CEST
DTSTART:20050327T010000
END:DAYLIGHT
BEGIN:STANDARD
TZOFFSETFROM:+0200
TZOFFSETTO:+0100
TZNAME:CET
DTSTART:20051030T010000
END:STANDARD
BEGIN:DAYLIGHT
TZOFFSETFROM:+0100
TZOFFSETTO:+0200
TZNAME:CEST
DTSTART:20060326T010000
END:DAYLIGHT
BEGIN:STANDARD
TZOFFSETFROM:+0200
TZOFFSETTO:+0100
TZNAME:CET
DTSTART:20061029T010000
END:STANDARD
BEGIN:DAYLIGHT
TZOFFSETFROM:+0100
TZOFFSETTO:+0200
TZNAME:CEST
DTSTART:20070325T010000
END:DAYLIGHT
BEGIN:STANDARD
TZOFFSETFROM:+0200
TZOFFSETTO:+0100
TZNAME:CET
DTSTART:20071028T010000
END:STANDARD
BEGIN:DAYLIGHT
TZOFFSETFROM:+0100
TZOFFSETTO:+0200
TZNAME:CEST
DTSTART:20080330T010000
END:DAYLIGHT
BEGIN:STANDARD
TZOFFSETFROM:+0200
TZOFFSETTO:+0100
TZNAME:CET
DTSTART:20081026T010000
END:STANDARD
BEGIN:DAYLIGHT
TZOFFSETFROM:+0100
TZOFFSETTO:+0200
TZNAME:CEST
DTSTART:20090329T010000
END:DAYLIGHT
BEGIN:STANDARD
TZOFFSETFROM:+0200
TZOFFSETTO:+0100
TZNAME:CET
DTSTART:20091025T010000
END:STANDARD
BEGIN:DAYLIGHT
TZOFFSETFROM:+0100
TZOFFSETTO:+0200
TZNAME:CEST
DTSTART:20100328T010000
END:DAYLIGHT
BEGIN:STANDARD
TZOFFSETFROM:+0200
TZOFFSETTO:+0100
TZNAME:CET
DTSTART:20101031T010000
END:STANDARD
BEGIN:DAYLIGHT
TZOFFSETFROM:+0100
TZOFFSETTO:+0200
TZNAME:CEST
DTSTART:20110327T010000
END:DAYLIGHT
BEGIN:STANDARD
TZOFFSETFROM:+0200
TZOFFSETTO:+0100
TZNAME:CET
DTSTART:20111030T010000
END:STANDARD
BEGIN:DAYLIGHT
TZOFFSETFROM:+0100
TZOFFSETTO:+0200
TZNAME:CEST
DTSTART:20120325T010000
END:DAYLIGHT
BEGIN:STANDARD
TZOFFSETFROM:+0200
TZOFFSETTO:+0100
TZNAME:CET
DTSTART:20121028T010000
END:STANDARD
BEGIN:DAYLIGHT
TZOFFSETFROM:+0100
TZOFFSETTO:+0200
TZNAME:CEST
DTSTART:20130331T010000
END:DAYLIGHT
BEGIN:STANDARD
TZOFFSETFROM:+0200
TZOFFSETTO:+0100
TZNAME:CET
DTSTART:20131027T010000
END:STANDARD
BEGIN:DAYLIGHT
TZOFFSETFROM:+0100
TZOFFSETTO:+0200
TZNAME:CEST
DTSTART:20140330T010000
END:DAYLIGHT
BEGIN:STANDARD
TZOFFSETFROM:+0200
TZOFFSETTO:+0100
TZNAME:CET
DTSTART:20141026T010000
END:STANDARD
BEGIN:DAYLIGHT
TZOFFSETFROM:+0100
TZOFFSETTO:+0200
TZNAME:CEST
DTSTART:20150329T010000
END:DAYLIGHT
BEGIN:STANDARD
TZOFFSETFROM:+0200
TZOFFSETTO:+0100
TZNAME:CET
DTSTART:20151025T010000
END:STANDARD
BEGIN:DAYLIGHT
TZOFFSETFROM:+0100
TZOFFSETTO:+0200
TZNAME:CEST
DTSTART:20160327T010000
END:DAYLIGHT
BEGIN:STANDARD
TZOFFSETFROM:+0200
TZOFFSETTO:+0100
TZNAME:CET
DTSTART:20161030T010000
END:STANDARD
BEGIN:DAYLIGHT
TZOFFSETFROM:+0100
TZOFFSETTO:+0200
TZNAME:CEST
DTSTART:20170326T010000
END:DAYLIGHT
BEGIN:STANDARD
TZOFFSETFROM:+0200
TZOFFSETTO:+0100
TZNAME:CET
DTSTART:20171029T010000
END:STANDARD
BEGIN:DAYLIGHT
TZOFFSETFROM:+0100
TZOFFSETTO:+0200
TZNAME:CEST
DTSTART:20180325T010000
END:DAYLIGHT
BEGIN:STANDARD
TZOFFSETFROM:+0200
TZOFFSETTO:+0100
TZNAME:CET
DTSTART:20181028T010000
END:STANDARD
BEGIN:DAYLIGHT
TZOFFSETFROM:+0100
TZOFFSETTO:+0200
TZNAME:CEST
DTSTART:20190331T010000
END:DAYLIGHT
BEGIN:STANDARD
TZOFFSETFROM:+0200
TZOFFSETTO:+0100
TZNAME:CET
DTSTART:20191027T010000
END:STANDARD
BEGIN:DAYLIGHT
TZOFFSETFROM:+0100
TZOFFSETTO:+0200
TZNAME:CEST
DTSTART:20200329T010000
END:DAYLIGHT
BEGIN:STANDARD
TZOFFSETFROM:+0200
TZOFFSETTO:+0100
TZNAME:CET
DTSTART:20201025T010000
END:STANDARD
BEGIN:DAYLIGHT
TZOFFSETFROM:+0100
TZOFFSETTO:+0200
TZNAME:CEST
DTSTART:20210328T010000
END:DAYLIGHT
BEGIN:STANDARD
TZOFFSETFROM:+0200
TZOFFSETTO:+0100
TZNAME:CET
DTSTART:20211031T010000
END:STANDARD
BEGIN:DAYLIGHT
TZOFFSETFROM:+0100
TZOFFSETTO:+0200
TZNAME:CEST
DTSTART:20220327T010000
END:DAYLIGHT
BEGIN:STANDARD
TZOFFSETFROM:+0200
TZOFFSETTO:+0100
TZNAME:CET
DTSTART:20221030T010000
END:STANDARD
BEGIN:DAYLIGHT
TZOFFSETFROM:+0100
TZOFFSETTO:+0200
TZNAME:CEST
DTSTART:20230326T010000
END:DAYLIGHT
BEGIN:STANDARD
TZOFFSETFROM:+0200
TZOFFSETTO:+0100
TZNAME:CET
DTSTART:20231029T010000
END:STANDARD
BEGIN:DAYLIGHT
TZOFFSETFROM:+0100
TZOFFSETTO:+0200
TZNAME:CEST
DTSTART:20240331T010000
END:DAYLIGHT
BEGIN:STANDARD
TZOFFSETFROM:+0200
TZOFFSETTO:+0100
TZNAME:CET
DTSTART:20241027T010000
END:STANDARD
END:VTIMEZONE
BEGIN:VEVENT
DTSTART;TZID=Europe/Oslo:20260424T070424
DTEND;TZID=Europe/Oslo:20230424T200000
DTSTAMP:20260424T070424
CREATED:20230323T110932Z
LAST-MODIFIED:20230323T110932Z
UID:10000745-0-1682366400@oodk.org
SUMMARY:Rally: Konkurransekurs klasse 3 og elite
DESCRIPTION:
URL:https://oodk.org/aktivitet/rally-konkurransekurs-klasse-3-og-elite-2/
LOCATION:Brekke\, midtre plan
END:VEVENT
BEGIN:VEVENT
DTSTART;VALUE=DATE:20170902
DTEND;VALUE=DATE:20170903
DTSTAMP:20260424T070424
CREATED:20170126T123859Z
LAST-MODIFIED:20170126T123859Z
UID:10000302-1504310400-1504396799@oodk.org
SUMMARY:Agilitystevne
DESCRIPTION:Mer info kommer
URL:https://oodk.org/aktivitet/agilitystevne-2/
LOCATION:Brekke
END:VEVENT
BEGIN:VEVENT
DTSTART;VALUE=DATE:20170903
DTEND;VALUE=DATE:20170904
DTSTAMP:20260424T070424
CREATED:20170126T123942Z
LAST-MODIFIED:20170126T123942Z
UID:10000304-1504396800-1504483199@oodk.org
SUMMARY:Lydighetsstevne
DESCRIPTION:Mer info kommer
URL:https://oodk.org/aktivitet/lydighetsstevne-2/
LOCATION:Brekke
END:VEVENT
BEGIN:VEVENT
DTSTART;TZID=Europe/Oslo:20170905T180000
DTEND;TZID=Europe/Oslo:20170905T203000
DTSTAMP:20260424T070424
CREATED:20170328T065337Z
LAST-MODIFIED:20170328T065753Z
UID:10000342-1504634400-1504643400@oodk.org
SUMMARY:Videregående trening agility
DESCRIPTION:Mer info her
URL:https://oodk.org/aktivitet/videregaende-trening-agility-copy-4/
LOCATION:Brekke
END:VEVENT
BEGIN:VEVENT
DTSTART;TZID=Europe/Oslo:20170905T190000
DTEND;TZID=Europe/Oslo:20170905T200000
DTSTAMP:20260424T070424
CREATED:20170808T094643Z
LAST-MODIFIED:20170808T094909Z
UID:10000409-1504638000-1504641600@oodk.org
SUMMARY:Lydighetstrening
DESCRIPTION:
URL:https://oodk.org/aktivitet/lydighetstrening-9-copy-2/
END:VEVENT
BEGIN:VEVENT
DTSTART;TZID=Europe/Oslo:20170906T180000
DTEND;TZID=Europe/Oslo:20170906T203000
DTSTAMP:20260424T070424
CREATED:20170904T181153Z
LAST-MODIFIED:20170904T181204Z
UID:10000202-1504720800-1504729800@oodk.org
SUMMARY:Rallytrening
DESCRIPTION:Nybegynnertrening fra kl 18:00-19:30 \nVideregåendetrening fra kl 19:30-21:00
URL:https://oodk.org/aktivitet/rallytrening-2/
END:VEVENT
BEGIN:VEVENT
DTSTART;TZID=Europe/Oslo:20170912T180000
DTEND;TZID=Europe/Oslo:20170912T203000
DTSTAMP:20260424T070424
CREATED:20170328T065334Z
LAST-MODIFIED:20170328T065821Z
UID:10000339-1505239200-1505248200@oodk.org
SUMMARY:Videregående trening agility
DESCRIPTION:Mer info her
URL:https://oodk.org/aktivitet/videregaende-trening-agility-copy-3/
LOCATION:Brekke
END:VEVENT
BEGIN:VEVENT
DTSTART;TZID=Europe/Oslo:20170912T190000
DTEND;TZID=Europe/Oslo:20170912T200000
DTSTAMP:20260424T070424
CREATED:20170808T094701Z
LAST-MODIFIED:20170808T094935Z
UID:10000411-1505242800-1505246400@oodk.org
SUMMARY:Lydighetstrening
DESCRIPTION:
URL:https://oodk.org/aktivitet/lydighetstrening-9-copy-3/
END:VEVENT
BEGIN:VEVENT
DTSTART;TZID=Europe/Oslo:20170912T190000
DTEND;TZID=Europe/Oslo:20170912T210000
DTSTAMP:20260424T070424
CREATED:20170808T093701Z
LAST-MODIFIED:20170808T093701Z
UID:10000394-1505242800-1505250000@oodk.org
SUMMARY:Gjennomgang av nytt regelverk i rally
DESCRIPTION:
URL:https://oodk.org/aktivitet/gjennomgang-av-nytt-regelverk-i-rally/
LOCATION:Hege Wang/Nera\, Langsetveien 18\, Kjelså\, Norge
END:VEVENT
BEGIN:VEVENT
DTSTART;TZID=Europe/Oslo:20170913T180000
DTEND;TZID=Europe/Oslo:20170913T213000
DTSTAMP:20260424T070424
CREATED:20170904T181259Z
LAST-MODIFIED:20170904T181325Z
UID:10000204-1505325600-1505338200@oodk.org
SUMMARY:Rallytrening
DESCRIPTION:Nybegynnertrening fra kl 18:00-19:30 \nVideregåendetrening fra kl 19:30-21:00
URL:https://oodk.org/aktivitet/rallytrening-3/
END:VEVENT
BEGIN:VEVENT
DTSTART;TZID=Europe/Oslo:20170919T180000
DTEND;TZID=Europe/Oslo:20170919T203000
DTSTAMP:20260424T070424
CREATED:20170328T065328Z
LAST-MODIFIED:20170328T065841Z
UID:10000153-1505844000-1505853000@oodk.org
SUMMARY:Videregående trening agility
DESCRIPTION:Mer info her
URL:https://oodk.org/aktivitet/videregaende-trening-agility-copy-2/
LOCATION:Brekke
END:VEVENT
BEGIN:VEVENT
DTSTART;TZID=Europe/Oslo:20170919T190000
DTEND;TZID=Europe/Oslo:20170919T200000
DTSTAMP:20260424T070424
CREATED:20170808T094714Z
LAST-MODIFIED:20170808T094955Z
UID:10000412-1505847600-1505851200@oodk.org
SUMMARY:Lydighetstrening
DESCRIPTION:
URL:https://oodk.org/aktivitet/lydighetstrening-9-copy-4/
END:VEVENT
BEGIN:VEVENT
DTSTART;TZID=Europe/Oslo:20170920T180000
DTEND;TZID=Europe/Oslo:20170920T213000
DTSTAMP:20260424T070424
CREATED:20170904T181432Z
LAST-MODIFIED:20170904T181432Z
UID:10000416-1505930400-1505943000@oodk.org
SUMMARY:Rallytrening
DESCRIPTION:Nybegynnertrening fra kl 18:00-19:30 \nVideregåendetrening fra kl 19:30-21:00
URL:https://oodk.org/aktivitet/rallytrening-4/
END:VEVENT
BEGIN:VEVENT
DTSTART;TZID=Europe/Oslo:20170923T090000
DTEND;TZID=Europe/Oslo:20170923T160000
DTSTAMP:20260424T070424
CREATED:20170916T155713Z
LAST-MODIFIED:20170916T155713Z
UID:10000427-1506157200-1506182400@oodk.org
SUMMARY:Sporkurs
DESCRIPTION:
URL:https://oodk.org/aktivitet/sporkurs-3/
END:VEVENT
BEGIN:VEVENT
DTSTART;TZID=Europe/Oslo:20170923T100000
DTEND;TZID=Europe/Oslo:20170923T160000
DTSTAMP:20260424T070424
CREATED:20170802T200903Z
LAST-MODIFIED:20170802T200914Z
UID:10000390-1506160800-1506182400@oodk.org
SUMMARY:Rallykurs for videregående
DESCRIPTION:
URL:https://oodk.org/aktivitet/rallykurs-for-videregaende/
END:VEVENT
BEGIN:VEVENT
DTSTART;TZID=Europe/Oslo:20170924T090000
DTEND;TZID=Europe/Oslo:20170924T160000
DTSTAMP:20260424T070424
CREATED:20170916T155735Z
LAST-MODIFIED:20170916T155735Z
UID:10000429-1506243600-1506268800@oodk.org
SUMMARY:Sporkurs
DESCRIPTION:
URL:https://oodk.org/aktivitet/sporkurs-4/
END:VEVENT
BEGIN:VEVENT
DTSTART;TZID=Europe/Oslo:20170924T100000
DTEND;TZID=Europe/Oslo:20170924T160000
DTSTAMP:20260424T070424
CREATED:20170802T201004Z
LAST-MODIFIED:20170802T201020Z
UID:10000391-1506247200-1506268800@oodk.org
SUMMARY:Rallykurs for videregående
DESCRIPTION:
URL:https://oodk.org/aktivitet/rallykurs-for-videregaende-2/
END:VEVENT
BEGIN:VEVENT
DTSTART;TZID=Europe/Oslo:20170926T190000
DTEND;TZID=Europe/Oslo:20170926T200000
DTSTAMP:20260424T070424
CREATED:20170808T094734Z
LAST-MODIFIED:20170808T095011Z
UID:10000413-1506452400-1506456000@oodk.org
SUMMARY:Lydighetstrening
DESCRIPTION:
URL:https://oodk.org/aktivitet/lydighetstrening-9-copy-5/
END:VEVENT
BEGIN:VEVENT
DTSTART;TZID=Europe/Oslo:20170927T180000
DTEND;TZID=Europe/Oslo:20170927T200000
DTSTAMP:20260424T070424
CREATED:20170904T180335Z
LAST-MODIFIED:20170904T180725Z
UID:10000191-1506535200-1506542400@oodk.org
SUMMARY:Kurs i grunnferdigheter i bruks
DESCRIPTION:Teori
URL:https://oodk.org/aktivitet/kurs-i-grunnferdigheter-i-bruks-for-klubbens-medlemmer/
END:VEVENT
BEGIN:VEVENT
DTSTART;TZID=Europe/Oslo:20170927T180000
DTEND;TZID=Europe/Oslo:20170927T213000
DTSTAMP:20260424T070424
CREATED:20170904T181458Z
LAST-MODIFIED:20170904T181458Z
UID:10000417-1506535200-1506547800@oodk.org
SUMMARY:Rallytrening
DESCRIPTION:Nybegynnertrening fra kl 18:00-19:30 \nVideregåendetrening fra kl 19:30-21:00
URL:https://oodk.org/aktivitet/rallytrening-5/
END:VEVENT
BEGIN:VEVENT
DTSTART;VALUE=DATE:20170930
DTEND;VALUE=DATE:20171001
DTSTAMP:20260424T070424
CREATED:20170414T182625Z
LAST-MODIFIED:20170416T201624Z
UID:10000161-1506729600-1506815999@oodk.org
SUMMARY:Junior NM Agility
DESCRIPTION:Arrangør NKKU
URL:https://oodk.org/aktivitet/junior-nm-agility/
LOCATION:Brekke
END:VEVENT
END:VCALENDAR