BEGIN:VCALENDAR
VERSION:2.0
PRODID:-//Oslo og Omegn Dressurklubb - ECPv6.15.20//NONSGML v1.0//EN
CALSCALE:GREGORIAN
METHOD:PUBLISH
X-WR-CALNAME:Oslo og Omegn Dressurklubb
X-ORIGINAL-URL:https://oodk.org
X-WR-CALDESC:Arrangement for Oslo og Omegn Dressurklubb
REFRESH-INTERVAL;VALUE=DURATION:PT1H
X-Robots-Tag:noindex
X-PUBLISHED-TTL:PT1H
BEGIN:VTIMEZONE
TZID:Europe/Oslo
BEGIN:DAYLIGHT
TZOFFSETFROM:+0100
TZOFFSETTO:+0200
TZNAME:CEST
DTSTART:19800406T010000
END:DAYLIGHT
BEGIN:STANDARD
TZOFFSETFROM:+0200
TZOFFSETTO:+0100
TZNAME:CET
DTSTART:19800928T010000
END:STANDARD
BEGIN:DAYLIGHT
TZOFFSETFROM:+0100
TZOFFSETTO:+0200
TZNAME:CEST
DTSTART:19810329T010000
END:DAYLIGHT
BEGIN:STANDARD
TZOFFSETFROM:+0200
TZOFFSETTO:+0100
TZNAME:CET
DTSTART:19810927T010000
END:STANDARD
BEGIN:DAYLIGHT
TZOFFSETFROM:+0100
TZOFFSETTO:+0200
TZNAME:CEST
DTSTART:19820328T010000
END:DAYLIGHT
BEGIN:STANDARD
TZOFFSETFROM:+0200
TZOFFSETTO:+0100
TZNAME:CET
DTSTART:19820926T010000
END:STANDARD
BEGIN:DAYLIGHT
TZOFFSETFROM:+0100
TZOFFSETTO:+0200
TZNAME:CEST
DTSTART:19830327T010000
END:DAYLIGHT
BEGIN:STANDARD
TZOFFSETFROM:+0200
TZOFFSETTO:+0100
TZNAME:CET
DTSTART:19830925T010000
END:STANDARD
BEGIN:DAYLIGHT
TZOFFSETFROM:+0100
TZOFFSETTO:+0200
TZNAME:CEST
DTSTART:19840325T010000
END:DAYLIGHT
BEGIN:STANDARD
TZOFFSETFROM:+0200
TZOFFSETTO:+0100
TZNAME:CET
DTSTART:19840930T010000
END:STANDARD
BEGIN:DAYLIGHT
TZOFFSETFROM:+0100
TZOFFSETTO:+0200
TZNAME:CEST
DTSTART:19850331T010000
END:DAYLIGHT
BEGIN:STANDARD
TZOFFSETFROM:+0200
TZOFFSETTO:+0100
TZNAME:CET
DTSTART:19850929T010000
END:STANDARD
BEGIN:DAYLIGHT
TZOFFSETFROM:+0100
TZOFFSETTO:+0200
TZNAME:CEST
DTSTART:19860330T010000
END:DAYLIGHT
BEGIN:STANDARD
TZOFFSETFROM:+0200
TZOFFSETTO:+0100
TZNAME:CET
DTSTART:19860928T010000
END:STANDARD
BEGIN:DAYLIGHT
TZOFFSETFROM:+0100
TZOFFSETTO:+0200
TZNAME:CEST
DTSTART:19870329T010000
END:DAYLIGHT
BEGIN:STANDARD
TZOFFSETFROM:+0200
TZOFFSETTO:+0100
TZNAME:CET
DTSTART:19870927T010000
END:STANDARD
BEGIN:DAYLIGHT
TZOFFSETFROM:+0100
TZOFFSETTO:+0200
TZNAME:CEST
DTSTART:19880327T010000
END:DAYLIGHT
BEGIN:STANDARD
TZOFFSETFROM:+0200
TZOFFSETTO:+0100
TZNAME:CET
DTSTART:19880925T010000
END:STANDARD
BEGIN:DAYLIGHT
TZOFFSETFROM:+0100
TZOFFSETTO:+0200
TZNAME:CEST
DTSTART:19890326T010000
END:DAYLIGHT
BEGIN:STANDARD
TZOFFSETFROM:+0200
TZOFFSETTO:+0100
TZNAME:CET
DTSTART:19890924T010000
END:STANDARD
BEGIN:DAYLIGHT
TZOFFSETFROM:+0100
TZOFFSETTO:+0200
TZNAME:CEST
DTSTART:19900325T010000
END:DAYLIGHT
BEGIN:STANDARD
TZOFFSETFROM:+0200
TZOFFSETTO:+0100
TZNAME:CET
DTSTART:19900930T010000
END:STANDARD
BEGIN:DAYLIGHT
TZOFFSETFROM:+0100
TZOFFSETTO:+0200
TZNAME:CEST
DTSTART:19910331T010000
END:DAYLIGHT
BEGIN:STANDARD
TZOFFSETFROM:+0200
TZOFFSETTO:+0100
TZNAME:CET
DTSTART:19910929T010000
END:STANDARD
BEGIN:DAYLIGHT
TZOFFSETFROM:+0100
TZOFFSETTO:+0200
TZNAME:CEST
DTSTART:19920329T010000
END:DAYLIGHT
BEGIN:STANDARD
TZOFFSETFROM:+0200
TZOFFSETTO:+0100
TZNAME:CET
DTSTART:19920927T010000
END:STANDARD
BEGIN:DAYLIGHT
TZOFFSETFROM:+0100
TZOFFSETTO:+0200
TZNAME:CEST
DTSTART:19930328T010000
END:DAYLIGHT
BEGIN:STANDARD
TZOFFSETFROM:+0200
TZOFFSETTO:+0100
TZNAME:CET
DTSTART:19930926T010000
END:STANDARD
BEGIN:DAYLIGHT
TZOFFSETFROM:+0100
TZOFFSETTO:+0200
TZNAME:CEST
DTSTART:19940327T010000
END:DAYLIGHT
BEGIN:STANDARD
TZOFFSETFROM:+0200
TZOFFSETTO:+0100
TZNAME:CET
DTSTART:19940925T010000
END:STANDARD
BEGIN:DAYLIGHT
TZOFFSETFROM:+0100
TZOFFSETTO:+0200
TZNAME:CEST
DTSTART:19950326T010000
END:DAYLIGHT
BEGIN:STANDARD
TZOFFSETFROM:+0200
TZOFFSETTO:+0100
TZNAME:CET
DTSTART:19950924T010000
END:STANDARD
BEGIN:DAYLIGHT
TZOFFSETFROM:+0100
TZOFFSETTO:+0200
TZNAME:CEST
DTSTART:19960331T010000
END:DAYLIGHT
BEGIN:STANDARD
TZOFFSETFROM:+0200
TZOFFSETTO:+0100
TZNAME:CET
DTSTART:19961027T010000
END:STANDARD
BEGIN:DAYLIGHT
TZOFFSETFROM:+0100
TZOFFSETTO:+0200
TZNAME:CEST
DTSTART:19970330T010000
END:DAYLIGHT
BEGIN:STANDARD
TZOFFSETFROM:+0200
TZOFFSETTO:+0100
TZNAME:CET
DTSTART:19971026T010000
END:STANDARD
BEGIN:DAYLIGHT
TZOFFSETFROM:+0100
TZOFFSETTO:+0200
TZNAME:CEST
DTSTART:19980329T010000
END:DAYLIGHT
BEGIN:STANDARD
TZOFFSETFROM:+0200
TZOFFSETTO:+0100
TZNAME:CET
DTSTART:19981025T010000
END:STANDARD
BEGIN:DAYLIGHT
TZOFFSETFROM:+0100
TZOFFSETTO:+0200
TZNAME:CEST
DTSTART:19990328T010000
END:DAYLIGHT
BEGIN:STANDARD
TZOFFSETFROM:+0200
TZOFFSETTO:+0100
TZNAME:CET
DTSTART:19991031T010000
END:STANDARD
BEGIN:DAYLIGHT
TZOFFSETFROM:+0100
TZOFFSETTO:+0200
TZNAME:CEST
DTSTART:20000326T010000
END:DAYLIGHT
BEGIN:STANDARD
TZOFFSETFROM:+0200
TZOFFSETTO:+0100
TZNAME:CET
DTSTART:20001029T010000
END:STANDARD
BEGIN:DAYLIGHT
TZOFFSETFROM:+0100
TZOFFSETTO:+0200
TZNAME:CEST
DTSTART:20010325T010000
END:DAYLIGHT
BEGIN:STANDARD
TZOFFSETFROM:+0200
TZOFFSETTO:+0100
TZNAME:CET
DTSTART:20011028T010000
END:STANDARD
BEGIN:DAYLIGHT
TZOFFSETFROM:+0100
TZOFFSETTO:+0200
TZNAME:CEST
DTSTART:20020331T010000
END:DAYLIGHT
BEGIN:STANDARD
TZOFFSETFROM:+0200
TZOFFSETTO:+0100
TZNAME:CET
DTSTART:20021027T010000
END:STANDARD
BEGIN:DAYLIGHT
TZOFFSETFROM:+0100
TZOFFSETTO:+0200
TZNAME:CEST
DTSTART:20030330T010000
END:DAYLIGHT
BEGIN:STANDARD
TZOFFSETFROM:+0200
TZOFFSETTO:+0100
TZNAME:CET
DTSTART:20031026T010000
END:STANDARD
BEGIN:DAYLIGHT
TZOFFSETFROM:+0100
TZOFFSETTO:+0200
TZNAME:CEST
DTSTART:20040328T010000
END:DAYLIGHT
BEGIN:STANDARD
TZOFFSETFROM:+0200
TZOFFSETTO:+0100
TZNAME:CET
DTSTART:20041031T010000
END:STANDARD
BEGIN:DAYLIGHT
TZOFFSETFROM:+0100
TZOFFSETTO:+0200
TZNAME:CEST
DTSTART:20050327T010000
END:DAYLIGHT
BEGIN:STANDARD
TZOFFSETFROM:+0200
TZOFFSETTO:+0100
TZNAME:CET
DTSTART:20051030T010000
END:STANDARD
BEGIN:DAYLIGHT
TZOFFSETFROM:+0100
TZOFFSETTO:+0200
TZNAME:CEST
DTSTART:20060326T010000
END:DAYLIGHT
BEGIN:STANDARD
TZOFFSETFROM:+0200
TZOFFSETTO:+0100
TZNAME:CET
DTSTART:20061029T010000
END:STANDARD
BEGIN:DAYLIGHT
TZOFFSETFROM:+0100
TZOFFSETTO:+0200
TZNAME:CEST
DTSTART:20070325T010000
END:DAYLIGHT
BEGIN:STANDARD
TZOFFSETFROM:+0200
TZOFFSETTO:+0100
TZNAME:CET
DTSTART:20071028T010000
END:STANDARD
BEGIN:DAYLIGHT
TZOFFSETFROM:+0100
TZOFFSETTO:+0200
TZNAME:CEST
DTSTART:20080330T010000
END:DAYLIGHT
BEGIN:STANDARD
TZOFFSETFROM:+0200
TZOFFSETTO:+0100
TZNAME:CET
DTSTART:20081026T010000
END:STANDARD
BEGIN:DAYLIGHT
TZOFFSETFROM:+0100
TZOFFSETTO:+0200
TZNAME:CEST
DTSTART:20090329T010000
END:DAYLIGHT
BEGIN:STANDARD
TZOFFSETFROM:+0200
TZOFFSETTO:+0100
TZNAME:CET
DTSTART:20091025T010000
END:STANDARD
BEGIN:DAYLIGHT
TZOFFSETFROM:+0100
TZOFFSETTO:+0200
TZNAME:CEST
DTSTART:20100328T010000
END:DAYLIGHT
BEGIN:STANDARD
TZOFFSETFROM:+0200
TZOFFSETTO:+0100
TZNAME:CET
DTSTART:20101031T010000
END:STANDARD
BEGIN:DAYLIGHT
TZOFFSETFROM:+0100
TZOFFSETTO:+0200
TZNAME:CEST
DTSTART:20110327T010000
END:DAYLIGHT
BEGIN:STANDARD
TZOFFSETFROM:+0200
TZOFFSETTO:+0100
TZNAME:CET
DTSTART:20111030T010000
END:STANDARD
BEGIN:DAYLIGHT
TZOFFSETFROM:+0100
TZOFFSETTO:+0200
TZNAME:CEST
DTSTART:20120325T010000
END:DAYLIGHT
BEGIN:STANDARD
TZOFFSETFROM:+0200
TZOFFSETTO:+0100
TZNAME:CET
DTSTART:20121028T010000
END:STANDARD
BEGIN:DAYLIGHT
TZOFFSETFROM:+0100
TZOFFSETTO:+0200
TZNAME:CEST
DTSTART:20130331T010000
END:DAYLIGHT
BEGIN:STANDARD
TZOFFSETFROM:+0200
TZOFFSETTO:+0100
TZNAME:CET
DTSTART:20131027T010000
END:STANDARD
BEGIN:DAYLIGHT
TZOFFSETFROM:+0100
TZOFFSETTO:+0200
TZNAME:CEST
DTSTART:20140330T010000
END:DAYLIGHT
BEGIN:STANDARD
TZOFFSETFROM:+0200
TZOFFSETTO:+0100
TZNAME:CET
DTSTART:20141026T010000
END:STANDARD
BEGIN:DAYLIGHT
TZOFFSETFROM:+0100
TZOFFSETTO:+0200
TZNAME:CEST
DTSTART:20150329T010000
END:DAYLIGHT
BEGIN:STANDARD
TZOFFSETFROM:+0200
TZOFFSETTO:+0100
TZNAME:CET
DTSTART:20151025T010000
END:STANDARD
BEGIN:DAYLIGHT
TZOFFSETFROM:+0100
TZOFFSETTO:+0200
TZNAME:CEST
DTSTART:20160327T010000
END:DAYLIGHT
BEGIN:STANDARD
TZOFFSETFROM:+0200
TZOFFSETTO:+0100
TZNAME:CET
DTSTART:20161030T010000
END:STANDARD
BEGIN:DAYLIGHT
TZOFFSETFROM:+0100
TZOFFSETTO:+0200
TZNAME:CEST
DTSTART:20170326T010000
END:DAYLIGHT
BEGIN:STANDARD
TZOFFSETFROM:+0200
TZOFFSETTO:+0100
TZNAME:CET
DTSTART:20171029T010000
END:STANDARD
BEGIN:DAYLIGHT
TZOFFSETFROM:+0100
TZOFFSETTO:+0200
TZNAME:CEST
DTSTART:20180325T010000
END:DAYLIGHT
BEGIN:STANDARD
TZOFFSETFROM:+0200
TZOFFSETTO:+0100
TZNAME:CET
DTSTART:20181028T010000
END:STANDARD
BEGIN:DAYLIGHT
TZOFFSETFROM:+0100
TZOFFSETTO:+0200
TZNAME:CEST
DTSTART:20190331T010000
END:DAYLIGHT
BEGIN:STANDARD
TZOFFSETFROM:+0200
TZOFFSETTO:+0100
TZNAME:CET
DTSTART:20191027T010000
END:STANDARD
BEGIN:DAYLIGHT
TZOFFSETFROM:+0100
TZOFFSETTO:+0200
TZNAME:CEST
DTSTART:20200329T010000
END:DAYLIGHT
BEGIN:STANDARD
TZOFFSETFROM:+0200
TZOFFSETTO:+0100
TZNAME:CET
DTSTART:20201025T010000
END:STANDARD
BEGIN:DAYLIGHT
TZOFFSETFROM:+0100
TZOFFSETTO:+0200
TZNAME:CEST
DTSTART:20210328T010000
END:DAYLIGHT
BEGIN:STANDARD
TZOFFSETFROM:+0200
TZOFFSETTO:+0100
TZNAME:CET
DTSTART:20211031T010000
END:STANDARD
BEGIN:DAYLIGHT
TZOFFSETFROM:+0100
TZOFFSETTO:+0200
TZNAME:CEST
DTSTART:20220327T010000
END:DAYLIGHT
BEGIN:STANDARD
TZOFFSETFROM:+0200
TZOFFSETTO:+0100
TZNAME:CET
DTSTART:20221030T010000
END:STANDARD
BEGIN:DAYLIGHT
TZOFFSETFROM:+0100
TZOFFSETTO:+0200
TZNAME:CEST
DTSTART:20230326T010000
END:DAYLIGHT
BEGIN:STANDARD
TZOFFSETFROM:+0200
TZOFFSETTO:+0100
TZNAME:CET
DTSTART:20231029T010000
END:STANDARD
BEGIN:DAYLIGHT
TZOFFSETFROM:+0100
TZOFFSETTO:+0200
TZNAME:CEST
DTSTART:20240331T010000
END:DAYLIGHT
BEGIN:STANDARD
TZOFFSETFROM:+0200
TZOFFSETTO:+0100
TZNAME:CET
DTSTART:20241027T010000
END:STANDARD
END:VTIMEZONE
BEGIN:VEVENT
DTSTART;TZID=Europe/Oslo:20260423T182006
DTEND;TZID=Europe/Oslo:20230424T200000
DTSTAMP:20260423T182006
CREATED:20230323T110932Z
LAST-MODIFIED:20230323T110932Z
UID:10000745-0-1682366400@oodk.org
SUMMARY:Rally: Konkurransekurs klasse 3 og elite
DESCRIPTION:
URL:https://oodk.org/aktivitet/rally-konkurransekurs-klasse-3-og-elite-2/
LOCATION:Brekke\, midtre plan
END:VEVENT
BEGIN:VEVENT
DTSTART;TZID=Europe/Oslo:20180502T080000
DTEND;TZID=Europe/Oslo:20180502T170000
DTSTAMP:20260423T182006
CREATED:20180417T121305Z
LAST-MODIFIED:20180417T123706Z
UID:10000489-1525248000-1525280400@oodk.org
SUMMARY:Oppstart trening i rally
DESCRIPTION:For både nybegynnere og viderekomne. \n 
URL:https://oodk.org/aktivitet/oppstart-trening-i-rally/
END:VEVENT
BEGIN:VEVENT
DTSTART;TZID=Europe/Oslo:20180502T183000
DTEND;TZID=Europe/Oslo:20180502T203000
DTSTAMP:20260423T182006
CREATED:20180213T201544Z
LAST-MODIFIED:20180213T201544Z
UID:10000213-1525285800-1525293000@oodk.org
SUMMARY:Kurs i konkurranselydighet
DESCRIPTION:
URL:https://oodk.org/aktivitet/kurs-i-konkurranselydighet/
END:VEVENT
BEGIN:VEVENT
DTSTART;TZID=Europe/Oslo:20180503T183000
DTEND;TZID=Europe/Oslo:20180503T213000
DTSTAMP:20260423T182006
CREATED:20180417T120947Z
LAST-MODIFIED:20180417T121134Z
UID:10000488-1525372200-1525383000@oodk.org
SUMMARY:Vårdugnad
DESCRIPTION:
URL:https://oodk.org/aktivitet/vardugnad/
END:VEVENT
BEGIN:VEVENT
DTSTART;VALUE=DATE:20180505
DTEND;VALUE=DATE:20180507
DTSTAMP:20260423T182006
CREATED:20180213T203338Z
LAST-MODIFIED:20180213T203338Z
UID:10000220-1525478400-1525651199@oodk.org
SUMMARY:Nybegynnerkurs i agility
DESCRIPTION:
URL:https://oodk.org/aktivitet/nybegynnerkurs-i-agility-2/
END:VEVENT
BEGIN:VEVENT
DTSTART;TZID=Europe/Oslo:20180505T100000
DTEND;TZID=Europe/Oslo:20180506T160000
DTSTAMP:20260423T182006
CREATED:20180507T093827Z
LAST-MODIFIED:20180507T093935Z
UID:10000249-1525514400-1525622400@oodk.org
SUMMARY:Feltsøkkurs
DESCRIPTION:Ved Steinbordet i Maridalen. Instruktør Finn Hugo Øien.
URL:https://oodk.org/aktivitet/feltsokkurs/
END:VEVENT
BEGIN:VEVENT
DTSTART;TZID=Europe/Oslo:20180507T180000
DTEND;TZID=Europe/Oslo:20180507T210000
DTSTAMP:20260423T182006
CREATED:20180507T085251Z
LAST-MODIFIED:20180507T085251Z
UID:10000490-1525716000-1525726800@oodk.org
SUMMARY:Oppstart trening brukslydighet
DESCRIPTION:
URL:https://oodk.org/aktivitet/oppstart-trening-brukslydighet/
END:VEVENT
BEGIN:VEVENT
DTSTART;TZID=Europe/Oslo:20180508T180000
DTEND;TZID=Europe/Oslo:20180508T203000
DTSTAMP:20260423T182006
CREATED:20180213T203502Z
LAST-MODIFIED:20180213T203502Z
UID:10000222-1525802400-1525811400@oodk.org
SUMMARY:Oppstart videregående trening i agility
DESCRIPTION:
URL:https://oodk.org/aktivitet/oppstart-videregaende-trening-i-agility/
END:VEVENT
BEGIN:VEVENT
DTSTART;TZID=Europe/Oslo:20180508T180000
DTEND;TZID=Europe/Oslo:20180508T210000
DTSTAMP:20260423T182006
CREATED:20180507T092348Z
LAST-MODIFIED:20180507T092348Z
UID:10000243-1525802400-1525813200@oodk.org
SUMMARY:Oppstart trening LP
DESCRIPTION:
URL:https://oodk.org/aktivitet/oppstart-trening-lp/
END:VEVENT
BEGIN:VEVENT
DTSTART;TZID=Europe/Oslo:20180509T180000
DTEND;TZID=Europe/Oslo:20180509T210000
DTSTAMP:20260423T182006
CREATED:20180507T225731Z
LAST-MODIFIED:20180507T225731Z
UID:10000496-1525888800-1525899600@oodk.org
SUMMARY:Treningsstevne Rallylydighet alle klasser
DESCRIPTION:
URL:https://oodk.org/aktivitet/treningsstevne-rallylydighet-alle-klasser/
END:VEVENT
BEGIN:VEVENT
DTSTART;TZID=Europe/Oslo:20180510T180000
DTEND;TZID=Europe/Oslo:20180510T203000
DTSTAMP:20260423T182006
CREATED:20180213T203551Z
LAST-MODIFIED:20180213T203551Z
UID:10000224-1525975200-1525984200@oodk.org
SUMMARY:Oppstart nybegynnertrening i agility
DESCRIPTION:
URL:https://oodk.org/aktivitet/oppstart-nybegynnertrening-i-agility/
END:VEVENT
BEGIN:VEVENT
DTSTART;VALUE=DATE:20180512
DTEND;VALUE=DATE:20180514
DTSTAMP:20260423T182006
CREATED:20180213T203626Z
LAST-MODIFIED:20180213T203626Z
UID:10000472-1526083200-1526255999@oodk.org
SUMMARY:Føringskurs i agility
DESCRIPTION:
URL:https://oodk.org/aktivitet/foringskurs-i-agility/
END:VEVENT
BEGIN:VEVENT
DTSTART;TZID=Europe/Oslo:20180514T180000
DTEND;TZID=Europe/Oslo:20180514T210000
DTSTAMP:20260423T182006
CREATED:20180507T085709Z
LAST-MODIFIED:20180507T085709Z
UID:10000491-1526320800-1526331600@oodk.org
SUMMARY:Trening brukslydighet
DESCRIPTION:
URL:https://oodk.org/aktivitet/trening-brukslydighet/
END:VEVENT
BEGIN:VEVENT
DTSTART;TZID=Europe/Oslo:20180515T180000
DTEND;TZID=Europe/Oslo:20180515T203000
DTSTAMP:20260423T182006
CREATED:20180604T105519Z
LAST-MODIFIED:20180604T105519Z
UID:10000497-1526407200-1526416200@oodk.org
SUMMARY:Videregående trening Agility
DESCRIPTION:
URL:https://oodk.org/aktivitet/videregaende-trening-agility-2/
END:VEVENT
BEGIN:VEVENT
DTSTART;TZID=Europe/Oslo:20180515T180000
DTEND;TZID=Europe/Oslo:20180515T210000
DTSTAMP:20260423T182006
CREATED:20180507T093016Z
LAST-MODIFIED:20180507T093016Z
UID:10000245-1526407200-1526418000@oodk.org
SUMMARY:Trening LP
DESCRIPTION:
URL:https://oodk.org/aktivitet/trening-lp/
END:VEVENT
BEGIN:VEVENT
DTSTART;TZID=Europe/Oslo:20180516T180000
DTEND;TZID=Europe/Oslo:20180516T210000
DTSTAMP:20260423T182006
CREATED:20180604T111738Z
LAST-MODIFIED:20180604T111738Z
UID:10000513-1526493600-1526504400@oodk.org
SUMMARY:Trening rally
DESCRIPTION:
URL:https://oodk.org/aktivitet/trening-rally/
END:VEVENT
BEGIN:VEVENT
DTSTART;TZID=Europe/Oslo:20180516T183000
DTEND;TZID=Europe/Oslo:20180516T203000
DTSTAMP:20260423T182006
CREATED:20180213T201640Z
LAST-MODIFIED:20180213T201640Z
UID:10000214-1526495400-1526502600@oodk.org
SUMMARY:Kurs i konkurranselydighet
DESCRIPTION:
URL:https://oodk.org/aktivitet/kurs-i-konkurranselydighet-2/
END:VEVENT
BEGIN:VEVENT
DTSTART;TZID=Europe/Oslo:20180522T180000
DTEND;TZID=Europe/Oslo:20180522T203000
DTSTAMP:20260423T182006
CREATED:20180604T105728Z
LAST-MODIFIED:20180604T105728Z
UID:10000498-1527012000-1527021000@oodk.org
SUMMARY:Videregående trening i agility
DESCRIPTION:
URL:https://oodk.org/aktivitet/videregaende-trening-i-agility/
END:VEVENT
BEGIN:VEVENT
DTSTART;TZID=Europe/Oslo:20180522T180000
DTEND;TZID=Europe/Oslo:20180522T210000
DTSTAMP:20260423T182006
CREATED:20180507T093333Z
LAST-MODIFIED:20180507T093333Z
UID:10000247-1527012000-1527022800@oodk.org
SUMMARY:Trening LP
DESCRIPTION:
URL:https://oodk.org/aktivitet/trening-lp-2/
END:VEVENT
BEGIN:VEVENT
DTSTART;TZID=Europe/Oslo:20180523T180000
DTEND;TZID=Europe/Oslo:20180523T210000
DTSTAMP:20260423T182006
CREATED:20180604T111807Z
LAST-MODIFIED:20180604T111807Z
UID:10000514-1527098400-1527109200@oodk.org
SUMMARY:Trening rally
DESCRIPTION:
URL:https://oodk.org/aktivitet/trening-rally-2/
END:VEVENT
BEGIN:VEVENT
DTSTART;VALUE=DATE:20180524
DTEND;VALUE=DATE:20180525
DTSTAMP:20260423T182006
CREATED:20180213T203716Z
LAST-MODIFIED:20180213T203716Z
UID:10000473-1527120000-1527206399@oodk.org
SUMMARY:Blåbærkonkurranse 1 i agility
DESCRIPTION:
URL:https://oodk.org/aktivitet/blabaerkonkurranse-1-i-agility/
END:VEVENT
BEGIN:VEVENT
DTSTART;TZID=Europe/Oslo:20180524T180000
DTEND;TZID=Europe/Oslo:20180524T193000
DTSTAMP:20260423T182006
CREATED:20180409T065007Z
LAST-MODIFIED:20180409T065007Z
UID:10000480-1527184800-1527190200@oodk.org
SUMMARY:Bronsemerkekurs
DESCRIPTION:
URL:https://oodk.org/aktivitet/bronsemerkekurs-2/
END:VEVENT
BEGIN:VEVENT
DTSTART;TZID=Europe/Oslo:20180528T180000
DTEND;TZID=Europe/Oslo:20180528T210000
DTSTAMP:20260423T182006
CREATED:20180507T091359Z
LAST-MODIFIED:20180507T091359Z
UID:10000234-1527530400-1527541200@oodk.org
SUMMARY:Trening brukslydighet
DESCRIPTION:
URL:https://oodk.org/aktivitet/trening-brukslydighet-2/
END:VEVENT
BEGIN:VEVENT
DTSTART;TZID=Europe/Oslo:20180529T180000
DTEND;TZID=Europe/Oslo:20180529T203000
DTSTAMP:20260423T182006
CREATED:20180604T105820Z
LAST-MODIFIED:20180604T105820Z
UID:10000499-1527616800-1527625800@oodk.org
SUMMARY:Videregående trening i agility
DESCRIPTION:
URL:https://oodk.org/aktivitet/videregaende-trening-i-agility-2/
END:VEVENT
BEGIN:VEVENT
DTSTART;TZID=Europe/Oslo:20180529T180000
DTEND;TZID=Europe/Oslo:20180529T210000
DTSTAMP:20260423T182006
CREATED:20180507T093404Z
LAST-MODIFIED:20180507T093404Z
UID:10000248-1527616800-1527627600@oodk.org
SUMMARY:Trening LP
DESCRIPTION:
URL:https://oodk.org/aktivitet/trening-lp-3/
END:VEVENT
BEGIN:VEVENT
DTSTART;TZID=Europe/Oslo:20180530T180000
DTEND;TZID=Europe/Oslo:20180530T210000
DTSTAMP:20260423T182006
CREATED:20180604T112051Z
LAST-MODIFIED:20180604T112051Z
UID:10000258-1527703200-1527714000@oodk.org
SUMMARY:Treningsstevne Rallylydighet alle klasser
DESCRIPTION:
URL:https://oodk.org/aktivitet/treningsstevne-rallylydighet-alle-klasser-2/
END:VEVENT
BEGIN:VEVENT
DTSTART;TZID=Europe/Oslo:20180530T183000
DTEND;TZID=Europe/Oslo:20180530T203000
DTSTAMP:20260423T182006
CREATED:20180213T201718Z
LAST-MODIFIED:20180213T201718Z
UID:10000215-1527705000-1527712200@oodk.org
SUMMARY:Kurs i konkurranselydighet
DESCRIPTION:
URL:https://oodk.org/aktivitet/kurs-i-konkurranselydighet-3/
END:VEVENT
BEGIN:VEVENT
DTSTART;TZID=Europe/Oslo:20180531T180000
DTEND;TZID=Europe/Oslo:20180531T193000
DTSTAMP:20260423T182006
CREATED:20180409T065040Z
LAST-MODIFIED:20180409T065040Z
UID:10000481-1527789600-1527795000@oodk.org
SUMMARY:Bronsemerkekurs
DESCRIPTION:
URL:https://oodk.org/aktivitet/bronsemerkekurs-3/
END:VEVENT
BEGIN:VEVENT
DTSTART;TZID=Europe/Oslo:20180531T180000
DTEND;TZID=Europe/Oslo:20180531T200000
DTSTAMP:20260423T182006
CREATED:20180604T110439Z
LAST-MODIFIED:20180604T110439Z
UID:10000504-1527789600-1527796800@oodk.org
SUMMARY:Nybegynner-trening i agility
DESCRIPTION:
URL:https://oodk.org/aktivitet/nybegynner-trening-i-agility/
END:VEVENT
END:VCALENDAR