BEGIN:VCALENDAR
VERSION:2.0
PRODID:-//Oslo og Omegn Dressurklubb - ECPv6.15.20//NONSGML v1.0//EN
CALSCALE:GREGORIAN
METHOD:PUBLISH
X-WR-CALNAME:Oslo og Omegn Dressurklubb
X-ORIGINAL-URL:https://oodk.org
X-WR-CALDESC:Arrangement for Oslo og Omegn Dressurklubb
REFRESH-INTERVAL;VALUE=DURATION:PT1H
X-Robots-Tag:noindex
X-PUBLISHED-TTL:PT1H
BEGIN:VTIMEZONE
TZID:Europe/Oslo
BEGIN:DAYLIGHT
TZOFFSETFROM:+0100
TZOFFSETTO:+0200
TZNAME:CEST
DTSTART:19800406T010000
END:DAYLIGHT
BEGIN:STANDARD
TZOFFSETFROM:+0200
TZOFFSETTO:+0100
TZNAME:CET
DTSTART:19800928T010000
END:STANDARD
BEGIN:DAYLIGHT
TZOFFSETFROM:+0100
TZOFFSETTO:+0200
TZNAME:CEST
DTSTART:19810329T010000
END:DAYLIGHT
BEGIN:STANDARD
TZOFFSETFROM:+0200
TZOFFSETTO:+0100
TZNAME:CET
DTSTART:19810927T010000
END:STANDARD
BEGIN:DAYLIGHT
TZOFFSETFROM:+0100
TZOFFSETTO:+0200
TZNAME:CEST
DTSTART:19820328T010000
END:DAYLIGHT
BEGIN:STANDARD
TZOFFSETFROM:+0200
TZOFFSETTO:+0100
TZNAME:CET
DTSTART:19820926T010000
END:STANDARD
BEGIN:DAYLIGHT
TZOFFSETFROM:+0100
TZOFFSETTO:+0200
TZNAME:CEST
DTSTART:19830327T010000
END:DAYLIGHT
BEGIN:STANDARD
TZOFFSETFROM:+0200
TZOFFSETTO:+0100
TZNAME:CET
DTSTART:19830925T010000
END:STANDARD
BEGIN:DAYLIGHT
TZOFFSETFROM:+0100
TZOFFSETTO:+0200
TZNAME:CEST
DTSTART:19840325T010000
END:DAYLIGHT
BEGIN:STANDARD
TZOFFSETFROM:+0200
TZOFFSETTO:+0100
TZNAME:CET
DTSTART:19840930T010000
END:STANDARD
BEGIN:DAYLIGHT
TZOFFSETFROM:+0100
TZOFFSETTO:+0200
TZNAME:CEST
DTSTART:19850331T010000
END:DAYLIGHT
BEGIN:STANDARD
TZOFFSETFROM:+0200
TZOFFSETTO:+0100
TZNAME:CET
DTSTART:19850929T010000
END:STANDARD
BEGIN:DAYLIGHT
TZOFFSETFROM:+0100
TZOFFSETTO:+0200
TZNAME:CEST
DTSTART:19860330T010000
END:DAYLIGHT
BEGIN:STANDARD
TZOFFSETFROM:+0200
TZOFFSETTO:+0100
TZNAME:CET
DTSTART:19860928T010000
END:STANDARD
BEGIN:DAYLIGHT
TZOFFSETFROM:+0100
TZOFFSETTO:+0200
TZNAME:CEST
DTSTART:19870329T010000
END:DAYLIGHT
BEGIN:STANDARD
TZOFFSETFROM:+0200
TZOFFSETTO:+0100
TZNAME:CET
DTSTART:19870927T010000
END:STANDARD
BEGIN:DAYLIGHT
TZOFFSETFROM:+0100
TZOFFSETTO:+0200
TZNAME:CEST
DTSTART:19880327T010000
END:DAYLIGHT
BEGIN:STANDARD
TZOFFSETFROM:+0200
TZOFFSETTO:+0100
TZNAME:CET
DTSTART:19880925T010000
END:STANDARD
BEGIN:DAYLIGHT
TZOFFSETFROM:+0100
TZOFFSETTO:+0200
TZNAME:CEST
DTSTART:19890326T010000
END:DAYLIGHT
BEGIN:STANDARD
TZOFFSETFROM:+0200
TZOFFSETTO:+0100
TZNAME:CET
DTSTART:19890924T010000
END:STANDARD
BEGIN:DAYLIGHT
TZOFFSETFROM:+0100
TZOFFSETTO:+0200
TZNAME:CEST
DTSTART:19900325T010000
END:DAYLIGHT
BEGIN:STANDARD
TZOFFSETFROM:+0200
TZOFFSETTO:+0100
TZNAME:CET
DTSTART:19900930T010000
END:STANDARD
BEGIN:DAYLIGHT
TZOFFSETFROM:+0100
TZOFFSETTO:+0200
TZNAME:CEST
DTSTART:19910331T010000
END:DAYLIGHT
BEGIN:STANDARD
TZOFFSETFROM:+0200
TZOFFSETTO:+0100
TZNAME:CET
DTSTART:19910929T010000
END:STANDARD
BEGIN:DAYLIGHT
TZOFFSETFROM:+0100
TZOFFSETTO:+0200
TZNAME:CEST
DTSTART:19920329T010000
END:DAYLIGHT
BEGIN:STANDARD
TZOFFSETFROM:+0200
TZOFFSETTO:+0100
TZNAME:CET
DTSTART:19920927T010000
END:STANDARD
BEGIN:DAYLIGHT
TZOFFSETFROM:+0100
TZOFFSETTO:+0200
TZNAME:CEST
DTSTART:19930328T010000
END:DAYLIGHT
BEGIN:STANDARD
TZOFFSETFROM:+0200
TZOFFSETTO:+0100
TZNAME:CET
DTSTART:19930926T010000
END:STANDARD
BEGIN:DAYLIGHT
TZOFFSETFROM:+0100
TZOFFSETTO:+0200
TZNAME:CEST
DTSTART:19940327T010000
END:DAYLIGHT
BEGIN:STANDARD
TZOFFSETFROM:+0200
TZOFFSETTO:+0100
TZNAME:CET
DTSTART:19940925T010000
END:STANDARD
BEGIN:DAYLIGHT
TZOFFSETFROM:+0100
TZOFFSETTO:+0200
TZNAME:CEST
DTSTART:19950326T010000
END:DAYLIGHT
BEGIN:STANDARD
TZOFFSETFROM:+0200
TZOFFSETTO:+0100
TZNAME:CET
DTSTART:19950924T010000
END:STANDARD
BEGIN:DAYLIGHT
TZOFFSETFROM:+0100
TZOFFSETTO:+0200
TZNAME:CEST
DTSTART:19960331T010000
END:DAYLIGHT
BEGIN:STANDARD
TZOFFSETFROM:+0200
TZOFFSETTO:+0100
TZNAME:CET
DTSTART:19961027T010000
END:STANDARD
BEGIN:DAYLIGHT
TZOFFSETFROM:+0100
TZOFFSETTO:+0200
TZNAME:CEST
DTSTART:19970330T010000
END:DAYLIGHT
BEGIN:STANDARD
TZOFFSETFROM:+0200
TZOFFSETTO:+0100
TZNAME:CET
DTSTART:19971026T010000
END:STANDARD
BEGIN:DAYLIGHT
TZOFFSETFROM:+0100
TZOFFSETTO:+0200
TZNAME:CEST
DTSTART:19980329T010000
END:DAYLIGHT
BEGIN:STANDARD
TZOFFSETFROM:+0200
TZOFFSETTO:+0100
TZNAME:CET
DTSTART:19981025T010000
END:STANDARD
BEGIN:DAYLIGHT
TZOFFSETFROM:+0100
TZOFFSETTO:+0200
TZNAME:CEST
DTSTART:19990328T010000
END:DAYLIGHT
BEGIN:STANDARD
TZOFFSETFROM:+0200
TZOFFSETTO:+0100
TZNAME:CET
DTSTART:19991031T010000
END:STANDARD
BEGIN:DAYLIGHT
TZOFFSETFROM:+0100
TZOFFSETTO:+0200
TZNAME:CEST
DTSTART:20000326T010000
END:DAYLIGHT
BEGIN:STANDARD
TZOFFSETFROM:+0200
TZOFFSETTO:+0100
TZNAME:CET
DTSTART:20001029T010000
END:STANDARD
BEGIN:DAYLIGHT
TZOFFSETFROM:+0100
TZOFFSETTO:+0200
TZNAME:CEST
DTSTART:20010325T010000
END:DAYLIGHT
BEGIN:STANDARD
TZOFFSETFROM:+0200
TZOFFSETTO:+0100
TZNAME:CET
DTSTART:20011028T010000
END:STANDARD
BEGIN:DAYLIGHT
TZOFFSETFROM:+0100
TZOFFSETTO:+0200
TZNAME:CEST
DTSTART:20020331T010000
END:DAYLIGHT
BEGIN:STANDARD
TZOFFSETFROM:+0200
TZOFFSETTO:+0100
TZNAME:CET
DTSTART:20021027T010000
END:STANDARD
BEGIN:DAYLIGHT
TZOFFSETFROM:+0100
TZOFFSETTO:+0200
TZNAME:CEST
DTSTART:20030330T010000
END:DAYLIGHT
BEGIN:STANDARD
TZOFFSETFROM:+0200
TZOFFSETTO:+0100
TZNAME:CET
DTSTART:20031026T010000
END:STANDARD
BEGIN:DAYLIGHT
TZOFFSETFROM:+0100
TZOFFSETTO:+0200
TZNAME:CEST
DTSTART:20040328T010000
END:DAYLIGHT
BEGIN:STANDARD
TZOFFSETFROM:+0200
TZOFFSETTO:+0100
TZNAME:CET
DTSTART:20041031T010000
END:STANDARD
BEGIN:DAYLIGHT
TZOFFSETFROM:+0100
TZOFFSETTO:+0200
TZNAME:CEST
DTSTART:20050327T010000
END:DAYLIGHT
BEGIN:STANDARD
TZOFFSETFROM:+0200
TZOFFSETTO:+0100
TZNAME:CET
DTSTART:20051030T010000
END:STANDARD
BEGIN:DAYLIGHT
TZOFFSETFROM:+0100
TZOFFSETTO:+0200
TZNAME:CEST
DTSTART:20060326T010000
END:DAYLIGHT
BEGIN:STANDARD
TZOFFSETFROM:+0200
TZOFFSETTO:+0100
TZNAME:CET
DTSTART:20061029T010000
END:STANDARD
BEGIN:DAYLIGHT
TZOFFSETFROM:+0100
TZOFFSETTO:+0200
TZNAME:CEST
DTSTART:20070325T010000
END:DAYLIGHT
BEGIN:STANDARD
TZOFFSETFROM:+0200
TZOFFSETTO:+0100
TZNAME:CET
DTSTART:20071028T010000
END:STANDARD
BEGIN:DAYLIGHT
TZOFFSETFROM:+0100
TZOFFSETTO:+0200
TZNAME:CEST
DTSTART:20080330T010000
END:DAYLIGHT
BEGIN:STANDARD
TZOFFSETFROM:+0200
TZOFFSETTO:+0100
TZNAME:CET
DTSTART:20081026T010000
END:STANDARD
BEGIN:DAYLIGHT
TZOFFSETFROM:+0100
TZOFFSETTO:+0200
TZNAME:CEST
DTSTART:20090329T010000
END:DAYLIGHT
BEGIN:STANDARD
TZOFFSETFROM:+0200
TZOFFSETTO:+0100
TZNAME:CET
DTSTART:20091025T010000
END:STANDARD
BEGIN:DAYLIGHT
TZOFFSETFROM:+0100
TZOFFSETTO:+0200
TZNAME:CEST
DTSTART:20100328T010000
END:DAYLIGHT
BEGIN:STANDARD
TZOFFSETFROM:+0200
TZOFFSETTO:+0100
TZNAME:CET
DTSTART:20101031T010000
END:STANDARD
BEGIN:DAYLIGHT
TZOFFSETFROM:+0100
TZOFFSETTO:+0200
TZNAME:CEST
DTSTART:20110327T010000
END:DAYLIGHT
BEGIN:STANDARD
TZOFFSETFROM:+0200
TZOFFSETTO:+0100
TZNAME:CET
DTSTART:20111030T010000
END:STANDARD
BEGIN:DAYLIGHT
TZOFFSETFROM:+0100
TZOFFSETTO:+0200
TZNAME:CEST
DTSTART:20120325T010000
END:DAYLIGHT
BEGIN:STANDARD
TZOFFSETFROM:+0200
TZOFFSETTO:+0100
TZNAME:CET
DTSTART:20121028T010000
END:STANDARD
BEGIN:DAYLIGHT
TZOFFSETFROM:+0100
TZOFFSETTO:+0200
TZNAME:CEST
DTSTART:20130331T010000
END:DAYLIGHT
BEGIN:STANDARD
TZOFFSETFROM:+0200
TZOFFSETTO:+0100
TZNAME:CET
DTSTART:20131027T010000
END:STANDARD
BEGIN:DAYLIGHT
TZOFFSETFROM:+0100
TZOFFSETTO:+0200
TZNAME:CEST
DTSTART:20140330T010000
END:DAYLIGHT
BEGIN:STANDARD
TZOFFSETFROM:+0200
TZOFFSETTO:+0100
TZNAME:CET
DTSTART:20141026T010000
END:STANDARD
BEGIN:DAYLIGHT
TZOFFSETFROM:+0100
TZOFFSETTO:+0200
TZNAME:CEST
DTSTART:20150329T010000
END:DAYLIGHT
BEGIN:STANDARD
TZOFFSETFROM:+0200
TZOFFSETTO:+0100
TZNAME:CET
DTSTART:20151025T010000
END:STANDARD
BEGIN:DAYLIGHT
TZOFFSETFROM:+0100
TZOFFSETTO:+0200
TZNAME:CEST
DTSTART:20160327T010000
END:DAYLIGHT
BEGIN:STANDARD
TZOFFSETFROM:+0200
TZOFFSETTO:+0100
TZNAME:CET
DTSTART:20161030T010000
END:STANDARD
BEGIN:DAYLIGHT
TZOFFSETFROM:+0100
TZOFFSETTO:+0200
TZNAME:CEST
DTSTART:20170326T010000
END:DAYLIGHT
BEGIN:STANDARD
TZOFFSETFROM:+0200
TZOFFSETTO:+0100
TZNAME:CET
DTSTART:20171029T010000
END:STANDARD
BEGIN:DAYLIGHT
TZOFFSETFROM:+0100
TZOFFSETTO:+0200
TZNAME:CEST
DTSTART:20180325T010000
END:DAYLIGHT
BEGIN:STANDARD
TZOFFSETFROM:+0200
TZOFFSETTO:+0100
TZNAME:CET
DTSTART:20181028T010000
END:STANDARD
BEGIN:DAYLIGHT
TZOFFSETFROM:+0100
TZOFFSETTO:+0200
TZNAME:CEST
DTSTART:20190331T010000
END:DAYLIGHT
BEGIN:STANDARD
TZOFFSETFROM:+0200
TZOFFSETTO:+0100
TZNAME:CET
DTSTART:20191027T010000
END:STANDARD
BEGIN:DAYLIGHT
TZOFFSETFROM:+0100
TZOFFSETTO:+0200
TZNAME:CEST
DTSTART:20200329T010000
END:DAYLIGHT
BEGIN:STANDARD
TZOFFSETFROM:+0200
TZOFFSETTO:+0100
TZNAME:CET
DTSTART:20201025T010000
END:STANDARD
BEGIN:DAYLIGHT
TZOFFSETFROM:+0100
TZOFFSETTO:+0200
TZNAME:CEST
DTSTART:20210328T010000
END:DAYLIGHT
BEGIN:STANDARD
TZOFFSETFROM:+0200
TZOFFSETTO:+0100
TZNAME:CET
DTSTART:20211031T010000
END:STANDARD
BEGIN:DAYLIGHT
TZOFFSETFROM:+0100
TZOFFSETTO:+0200
TZNAME:CEST
DTSTART:20220327T010000
END:DAYLIGHT
BEGIN:STANDARD
TZOFFSETFROM:+0200
TZOFFSETTO:+0100
TZNAME:CET
DTSTART:20221030T010000
END:STANDARD
BEGIN:DAYLIGHT
TZOFFSETFROM:+0100
TZOFFSETTO:+0200
TZNAME:CEST
DTSTART:20230326T010000
END:DAYLIGHT
BEGIN:STANDARD
TZOFFSETFROM:+0200
TZOFFSETTO:+0100
TZNAME:CET
DTSTART:20231029T010000
END:STANDARD
BEGIN:DAYLIGHT
TZOFFSETFROM:+0100
TZOFFSETTO:+0200
TZNAME:CEST
DTSTART:20240331T010000
END:DAYLIGHT
BEGIN:STANDARD
TZOFFSETFROM:+0200
TZOFFSETTO:+0100
TZNAME:CET
DTSTART:20241027T010000
END:STANDARD
END:VTIMEZONE
BEGIN:VEVENT
DTSTART;TZID=Europe/Oslo:20260423T134613
DTEND;TZID=Europe/Oslo:20230424T200000
DTSTAMP:20260423T134613
CREATED:20230323T110932Z
LAST-MODIFIED:20230323T110932Z
UID:10000745-0-1682366400@oodk.org
SUMMARY:Rally: Konkurransekurs klasse 3 og elite
DESCRIPTION:
URL:https://oodk.org/aktivitet/rally-konkurransekurs-klasse-3-og-elite-2/
LOCATION:Brekke\, midtre plan
END:VEVENT
BEGIN:VEVENT
DTSTART;VALUE=DATE:20180811
DTEND;VALUE=DATE:20180812
DTSTAMP:20260423T134613
CREATED:20180213T203806Z
LAST-MODIFIED:20180213T203806Z
UID:10000474-1533945600-1534031999@oodk.org
SUMMARY:Klubbmesterskap i agility
DESCRIPTION:
URL:https://oodk.org/aktivitet/klubbmesterskap-i-agility/
END:VEVENT
BEGIN:VEVENT
DTSTART;TZID=Europe/Oslo:20180813T180000
DTEND;TZID=Europe/Oslo:20180813T210000
DTSTAMP:20260423T134613
CREATED:20180821T092003Z
LAST-MODIFIED:20180821T092003Z
UID:10000262-1534183200-1534194000@oodk.org
SUMMARY:Oppstart trening brukslydighet
DESCRIPTION:
URL:https://oodk.org/aktivitet/oppstart-trening-brukslydighet-2/
END:VEVENT
BEGIN:VEVENT
DTSTART;TZID=Europe/Oslo:20180814T180000
DTEND;TZID=Europe/Oslo:20180814T210000
DTSTAMP:20260423T134613
CREATED:20180828T074324Z
LAST-MODIFIED:20180828T074605Z
UID:10000272-1534269600-1534280400@oodk.org
SUMMARY:Oppstart agility viderekommende
DESCRIPTION:
URL:https://oodk.org/aktivitet/oppstart-agility-viderekommende/
END:VEVENT
BEGIN:VEVENT
DTSTART;TZID=Europe/Oslo:20180814T180000
DTEND;TZID=Europe/Oslo:20180814T210000
DTSTAMP:20260423T134613
CREATED:20180828T075053Z
LAST-MODIFIED:20180828T075053Z
UID:10000521-1534269600-1534280400@oodk.org
SUMMARY:Oppstart trening LP
DESCRIPTION:
URL:https://oodk.org/aktivitet/oppstart-trening-lp-2/
END:VEVENT
BEGIN:VEVENT
DTSTART;TZID=Europe/Oslo:20180815T180000
DTEND;TZID=Europe/Oslo:20180815T210000
DTSTAMP:20260423T134613
CREATED:20180821T092903Z
LAST-MODIFIED:20180821T092903Z
UID:10000270-1534356000-1534366800@oodk.org
SUMMARY:Oppstart trening rallylydighet
DESCRIPTION:
URL:https://oodk.org/aktivitet/oppstart-trening-rallylydighet/
END:VEVENT
BEGIN:VEVENT
DTSTART;TZID=Europe/Oslo:20180816T180000
DTEND;TZID=Europe/Oslo:20180816T210000
DTSTAMP:20260423T134613
CREATED:20180821T092053Z
LAST-MODIFIED:20180821T092053Z
UID:10000264-1534442400-1534453200@oodk.org
SUMMARY:Oppstart brukstrening
DESCRIPTION:
URL:https://oodk.org/aktivitet/oppstart-brukstrening/
END:VEVENT
BEGIN:VEVENT
DTSTART;TZID=Europe/Oslo:20180816T180000
DTEND;TZID=Europe/Oslo:20180816T210000
DTSTAMP:20260423T134613
CREATED:20180828T074404Z
LAST-MODIFIED:20180828T074524Z
UID:10000274-1534442400-1534453200@oodk.org
SUMMARY:Oppstart agility nybegynnere
DESCRIPTION:
URL:https://oodk.org/aktivitet/oppstart-agility-nybegynnere/
END:VEVENT
BEGIN:VEVENT
DTSTART;TZID=Europe/Oslo:20180820T180000
DTEND;TZID=Europe/Oslo:20180820T210000
DTSTAMP:20260423T134613
CREATED:20180828T075238Z
LAST-MODIFIED:20180828T075238Z
UID:10000522-1534788000-1534798800@oodk.org
SUMMARY:Trening brukslydighet
DESCRIPTION:
URL:https://oodk.org/aktivitet/trening-brukslydighet-12/
END:VEVENT
BEGIN:VEVENT
DTSTART;TZID=Europe/Oslo:20180821T180000
DTEND;TZID=Europe/Oslo:20180821T210000
DTSTAMP:20260423T134613
CREATED:20180828T075350Z
LAST-MODIFIED:20180828T075350Z
UID:10000524-1534874400-1534885200@oodk.org
SUMMARY:Trening LP
DESCRIPTION:
URL:https://oodk.org/aktivitet/trening-lp-8/
END:VEVENT
BEGIN:VEVENT
DTSTART;TZID=Europe/Oslo:20180821T180000
DTEND;TZID=Europe/Oslo:20180821T210000
DTSTAMP:20260423T134613
CREATED:20180828T082048Z
LAST-MODIFIED:20180828T082208Z
UID:10000534-1534874400-1534885200@oodk.org
SUMMARY:Trening agility viderekommende
DESCRIPTION:
URL:https://oodk.org/aktivitet/trening-agility-viderekommende-copy/
END:VEVENT
BEGIN:VEVENT
DTSTART;TZID=Europe/Oslo:20180822T180000
DTEND;TZID=Europe/Oslo:20180822T210000
DTSTAMP:20260423T134613
CREATED:20180828T081720Z
LAST-MODIFIED:20180828T081720Z
UID:10000531-1534960800-1534971600@oodk.org
SUMMARY:Trening rallylydighet
DESCRIPTION:
URL:https://oodk.org/aktivitet/trening-rallylydighet-2/
END:VEVENT
BEGIN:VEVENT
DTSTART;VALUE=DATE:20180823
DTEND;VALUE=DATE:20180824
DTSTAMP:20260423T134613
CREATED:20180213T203850Z
LAST-MODIFIED:20180213T203850Z
UID:10000475-1534982400-1535068799@oodk.org
SUMMARY:Blåbærkonkurranse 2 i agility
DESCRIPTION:
URL:https://oodk.org/aktivitet/blabaerkonkurranse-2-i-agility/
END:VEVENT
BEGIN:VEVENT
DTSTART;TZID=Europe/Oslo:20180823T180000
DTEND;TZID=Europe/Oslo:20180823T193000
DTSTAMP:20260423T134613
CREATED:20180409T065308Z
LAST-MODIFIED:20180409T065308Z
UID:10000485-1535047200-1535052600@oodk.org
SUMMARY:Bronsemerkekurs
DESCRIPTION:
URL:https://oodk.org/aktivitet/bronsemerkekurs-7/
END:VEVENT
BEGIN:VEVENT
DTSTART;VALUE=DATE:20180825
DTEND;VALUE=DATE:20180827
DTSTAMP:20260423T134613
CREATED:20180614T205155Z
LAST-MODIFIED:20180614T205155Z
UID:10000260-1535155200-1535327999@oodk.org
SUMMARY:Nybegynnerkurs i rallylydighet
DESCRIPTION:
URL:https://oodk.org/aktivitet/nybegynnerkurs-i-rallylydighet-4/
END:VEVENT
BEGIN:VEVENT
DTSTART;TZID=Europe/Oslo:20180827T180000
DTEND;TZID=Europe/Oslo:20180827T210000
DTSTAMP:20260423T134613
CREATED:20180828T074704Z
LAST-MODIFIED:20180828T074704Z
UID:10000516-1535392800-1535403600@oodk.org
SUMMARY:Trening brukslydighet
DESCRIPTION:
URL:https://oodk.org/aktivitet/trening-brukslydighet-6/
END:VEVENT
BEGIN:VEVENT
DTSTART;TZID=Europe/Oslo:20180828T180000
DTEND;TZID=Europe/Oslo:20180828T210000
DTSTAMP:20260423T134613
CREATED:20180828T075413Z
LAST-MODIFIED:20180828T075413Z
UID:10000523-1535479200-1535490000@oodk.org
SUMMARY:Trening LP
DESCRIPTION:
URL:https://oodk.org/aktivitet/trening-lp-9/
END:VEVENT
BEGIN:VEVENT
DTSTART;TZID=Europe/Oslo:20180828T180000
DTEND;TZID=Europe/Oslo:20180828T210000
DTSTAMP:20260423T134613
CREATED:20180828T082032Z
LAST-MODIFIED:20180828T082110Z
UID:10000533-1535479200-1535490000@oodk.org
SUMMARY:Trening agility viderekommende
DESCRIPTION:
URL:https://oodk.org/aktivitet/trening-agility-viderekommende/
END:VEVENT
BEGIN:VEVENT
DTSTART;TZID=Europe/Oslo:20180829T180000
DTEND;TZID=Europe/Oslo:20180829T210000
DTSTAMP:20260423T134613
CREATED:20180828T081253Z
LAST-MODIFIED:20180828T081454Z
UID:10000532-1535565600-1535576400@oodk.org
SUMMARY:Trening rallylydighet
DESCRIPTION:
URL:https://oodk.org/aktivitet/trening-rallylydighet/
END:VEVENT
BEGIN:VEVENT
DTSTART;TZID=Europe/Oslo:20180830T180000
DTEND;TZID=Europe/Oslo:20180830T193000
DTSTAMP:20260423T134613
CREATED:20180409T065335Z
LAST-MODIFIED:20180409T065335Z
UID:10000486-1535652000-1535657400@oodk.org
SUMMARY:Bronsemerkekurs
DESCRIPTION:
URL:https://oodk.org/aktivitet/bronsemerkekurs-8/
END:VEVENT
BEGIN:VEVENT
DTSTART;TZID=Europe/Oslo:20180830T180000
DTEND;TZID=Europe/Oslo:20180830T210000
DTSTAMP:20260423T134613
CREATED:20180828T083034Z
LAST-MODIFIED:20180828T083034Z
UID:10000540-1535652000-1535662800@oodk.org
SUMMARY:Trening agility nybegynner
DESCRIPTION:
URL:https://oodk.org/aktivitet/trening-agility-nybegynner/
END:VEVENT
END:VCALENDAR