BEGIN:VCALENDAR
VERSION:2.0
PRODID:-//Oslo og Omegn Dressurklubb - ECPv6.15.20//NONSGML v1.0//EN
CALSCALE:GREGORIAN
METHOD:PUBLISH
X-ORIGINAL-URL:https://oodk.org
X-WR-CALDESC:Arrangement for Oslo og Omegn Dressurklubb
REFRESH-INTERVAL;VALUE=DURATION:PT1H
X-Robots-Tag:noindex
X-PUBLISHED-TTL:PT1H
BEGIN:VTIMEZONE
TZID:Europe/Oslo
BEGIN:DAYLIGHT
TZOFFSETFROM:+0100
TZOFFSETTO:+0200
TZNAME:CEST
DTSTART:19800406T010000
END:DAYLIGHT
BEGIN:STANDARD
TZOFFSETFROM:+0200
TZOFFSETTO:+0100
TZNAME:CET
DTSTART:19800928T010000
END:STANDARD
BEGIN:DAYLIGHT
TZOFFSETFROM:+0100
TZOFFSETTO:+0200
TZNAME:CEST
DTSTART:19810329T010000
END:DAYLIGHT
BEGIN:STANDARD
TZOFFSETFROM:+0200
TZOFFSETTO:+0100
TZNAME:CET
DTSTART:19810927T010000
END:STANDARD
BEGIN:DAYLIGHT
TZOFFSETFROM:+0100
TZOFFSETTO:+0200
TZNAME:CEST
DTSTART:19820328T010000
END:DAYLIGHT
BEGIN:STANDARD
TZOFFSETFROM:+0200
TZOFFSETTO:+0100
TZNAME:CET
DTSTART:19820926T010000
END:STANDARD
BEGIN:DAYLIGHT
TZOFFSETFROM:+0100
TZOFFSETTO:+0200
TZNAME:CEST
DTSTART:19830327T010000
END:DAYLIGHT
BEGIN:STANDARD
TZOFFSETFROM:+0200
TZOFFSETTO:+0100
TZNAME:CET
DTSTART:19830925T010000
END:STANDARD
BEGIN:DAYLIGHT
TZOFFSETFROM:+0100
TZOFFSETTO:+0200
TZNAME:CEST
DTSTART:19840325T010000
END:DAYLIGHT
BEGIN:STANDARD
TZOFFSETFROM:+0200
TZOFFSETTO:+0100
TZNAME:CET
DTSTART:19840930T010000
END:STANDARD
BEGIN:DAYLIGHT
TZOFFSETFROM:+0100
TZOFFSETTO:+0200
TZNAME:CEST
DTSTART:19850331T010000
END:DAYLIGHT
BEGIN:STANDARD
TZOFFSETFROM:+0200
TZOFFSETTO:+0100
TZNAME:CET
DTSTART:19850929T010000
END:STANDARD
BEGIN:DAYLIGHT
TZOFFSETFROM:+0100
TZOFFSETTO:+0200
TZNAME:CEST
DTSTART:19860330T010000
END:DAYLIGHT
BEGIN:STANDARD
TZOFFSETFROM:+0200
TZOFFSETTO:+0100
TZNAME:CET
DTSTART:19860928T010000
END:STANDARD
BEGIN:DAYLIGHT
TZOFFSETFROM:+0100
TZOFFSETTO:+0200
TZNAME:CEST
DTSTART:19870329T010000
END:DAYLIGHT
BEGIN:STANDARD
TZOFFSETFROM:+0200
TZOFFSETTO:+0100
TZNAME:CET
DTSTART:19870927T010000
END:STANDARD
BEGIN:DAYLIGHT
TZOFFSETFROM:+0100
TZOFFSETTO:+0200
TZNAME:CEST
DTSTART:19880327T010000
END:DAYLIGHT
BEGIN:STANDARD
TZOFFSETFROM:+0200
TZOFFSETTO:+0100
TZNAME:CET
DTSTART:19880925T010000
END:STANDARD
BEGIN:DAYLIGHT
TZOFFSETFROM:+0100
TZOFFSETTO:+0200
TZNAME:CEST
DTSTART:19890326T010000
END:DAYLIGHT
BEGIN:STANDARD
TZOFFSETFROM:+0200
TZOFFSETTO:+0100
TZNAME:CET
DTSTART:19890924T010000
END:STANDARD
BEGIN:DAYLIGHT
TZOFFSETFROM:+0100
TZOFFSETTO:+0200
TZNAME:CEST
DTSTART:19900325T010000
END:DAYLIGHT
BEGIN:STANDARD
TZOFFSETFROM:+0200
TZOFFSETTO:+0100
TZNAME:CET
DTSTART:19900930T010000
END:STANDARD
BEGIN:DAYLIGHT
TZOFFSETFROM:+0100
TZOFFSETTO:+0200
TZNAME:CEST
DTSTART:19910331T010000
END:DAYLIGHT
BEGIN:STANDARD
TZOFFSETFROM:+0200
TZOFFSETTO:+0100
TZNAME:CET
DTSTART:19910929T010000
END:STANDARD
BEGIN:DAYLIGHT
TZOFFSETFROM:+0100
TZOFFSETTO:+0200
TZNAME:CEST
DTSTART:19920329T010000
END:DAYLIGHT
BEGIN:STANDARD
TZOFFSETFROM:+0200
TZOFFSETTO:+0100
TZNAME:CET
DTSTART:19920927T010000
END:STANDARD
BEGIN:DAYLIGHT
TZOFFSETFROM:+0100
TZOFFSETTO:+0200
TZNAME:CEST
DTSTART:19930328T010000
END:DAYLIGHT
BEGIN:STANDARD
TZOFFSETFROM:+0200
TZOFFSETTO:+0100
TZNAME:CET
DTSTART:19930926T010000
END:STANDARD
BEGIN:DAYLIGHT
TZOFFSETFROM:+0100
TZOFFSETTO:+0200
TZNAME:CEST
DTSTART:19940327T010000
END:DAYLIGHT
BEGIN:STANDARD
TZOFFSETFROM:+0200
TZOFFSETTO:+0100
TZNAME:CET
DTSTART:19940925T010000
END:STANDARD
BEGIN:DAYLIGHT
TZOFFSETFROM:+0100
TZOFFSETTO:+0200
TZNAME:CEST
DTSTART:19950326T010000
END:DAYLIGHT
BEGIN:STANDARD
TZOFFSETFROM:+0200
TZOFFSETTO:+0100
TZNAME:CET
DTSTART:19950924T010000
END:STANDARD
BEGIN:DAYLIGHT
TZOFFSETFROM:+0100
TZOFFSETTO:+0200
TZNAME:CEST
DTSTART:19960331T010000
END:DAYLIGHT
BEGIN:STANDARD
TZOFFSETFROM:+0200
TZOFFSETTO:+0100
TZNAME:CET
DTSTART:19961027T010000
END:STANDARD
BEGIN:DAYLIGHT
TZOFFSETFROM:+0100
TZOFFSETTO:+0200
TZNAME:CEST
DTSTART:19970330T010000
END:DAYLIGHT
BEGIN:STANDARD
TZOFFSETFROM:+0200
TZOFFSETTO:+0100
TZNAME:CET
DTSTART:19971026T010000
END:STANDARD
BEGIN:DAYLIGHT
TZOFFSETFROM:+0100
TZOFFSETTO:+0200
TZNAME:CEST
DTSTART:19980329T010000
END:DAYLIGHT
BEGIN:STANDARD
TZOFFSETFROM:+0200
TZOFFSETTO:+0100
TZNAME:CET
DTSTART:19981025T010000
END:STANDARD
BEGIN:DAYLIGHT
TZOFFSETFROM:+0100
TZOFFSETTO:+0200
TZNAME:CEST
DTSTART:19990328T010000
END:DAYLIGHT
BEGIN:STANDARD
TZOFFSETFROM:+0200
TZOFFSETTO:+0100
TZNAME:CET
DTSTART:19991031T010000
END:STANDARD
BEGIN:DAYLIGHT
TZOFFSETFROM:+0100
TZOFFSETTO:+0200
TZNAME:CEST
DTSTART:20000326T010000
END:DAYLIGHT
BEGIN:STANDARD
TZOFFSETFROM:+0200
TZOFFSETTO:+0100
TZNAME:CET
DTSTART:20001029T010000
END:STANDARD
BEGIN:DAYLIGHT
TZOFFSETFROM:+0100
TZOFFSETTO:+0200
TZNAME:CEST
DTSTART:20010325T010000
END:DAYLIGHT
BEGIN:STANDARD
TZOFFSETFROM:+0200
TZOFFSETTO:+0100
TZNAME:CET
DTSTART:20011028T010000
END:STANDARD
BEGIN:DAYLIGHT
TZOFFSETFROM:+0100
TZOFFSETTO:+0200
TZNAME:CEST
DTSTART:20020331T010000
END:DAYLIGHT
BEGIN:STANDARD
TZOFFSETFROM:+0200
TZOFFSETTO:+0100
TZNAME:CET
DTSTART:20021027T010000
END:STANDARD
BEGIN:DAYLIGHT
TZOFFSETFROM:+0100
TZOFFSETTO:+0200
TZNAME:CEST
DTSTART:20030330T010000
END:DAYLIGHT
BEGIN:STANDARD
TZOFFSETFROM:+0200
TZOFFSETTO:+0100
TZNAME:CET
DTSTART:20031026T010000
END:STANDARD
BEGIN:DAYLIGHT
TZOFFSETFROM:+0100
TZOFFSETTO:+0200
TZNAME:CEST
DTSTART:20040328T010000
END:DAYLIGHT
BEGIN:STANDARD
TZOFFSETFROM:+0200
TZOFFSETTO:+0100
TZNAME:CET
DTSTART:20041031T010000
END:STANDARD
BEGIN:DAYLIGHT
TZOFFSETFROM:+0100
TZOFFSETTO:+0200
TZNAME:CEST
DTSTART:20050327T010000
END:DAYLIGHT
BEGIN:STANDARD
TZOFFSETFROM:+0200
TZOFFSETTO:+0100
TZNAME:CET
DTSTART:20051030T010000
END:STANDARD
BEGIN:DAYLIGHT
TZOFFSETFROM:+0100
TZOFFSETTO:+0200
TZNAME:CEST
DTSTART:20060326T010000
END:DAYLIGHT
BEGIN:STANDARD
TZOFFSETFROM:+0200
TZOFFSETTO:+0100
TZNAME:CET
DTSTART:20061029T010000
END:STANDARD
BEGIN:DAYLIGHT
TZOFFSETFROM:+0100
TZOFFSETTO:+0200
TZNAME:CEST
DTSTART:20070325T010000
END:DAYLIGHT
BEGIN:STANDARD
TZOFFSETFROM:+0200
TZOFFSETTO:+0100
TZNAME:CET
DTSTART:20071028T010000
END:STANDARD
BEGIN:DAYLIGHT
TZOFFSETFROM:+0100
TZOFFSETTO:+0200
TZNAME:CEST
DTSTART:20080330T010000
END:DAYLIGHT
BEGIN:STANDARD
TZOFFSETFROM:+0200
TZOFFSETTO:+0100
TZNAME:CET
DTSTART:20081026T010000
END:STANDARD
BEGIN:DAYLIGHT
TZOFFSETFROM:+0100
TZOFFSETTO:+0200
TZNAME:CEST
DTSTART:20090329T010000
END:DAYLIGHT
BEGIN:STANDARD
TZOFFSETFROM:+0200
TZOFFSETTO:+0100
TZNAME:CET
DTSTART:20091025T010000
END:STANDARD
BEGIN:DAYLIGHT
TZOFFSETFROM:+0100
TZOFFSETTO:+0200
TZNAME:CEST
DTSTART:20100328T010000
END:DAYLIGHT
BEGIN:STANDARD
TZOFFSETFROM:+0200
TZOFFSETTO:+0100
TZNAME:CET
DTSTART:20101031T010000
END:STANDARD
BEGIN:DAYLIGHT
TZOFFSETFROM:+0100
TZOFFSETTO:+0200
TZNAME:CEST
DTSTART:20110327T010000
END:DAYLIGHT
BEGIN:STANDARD
TZOFFSETFROM:+0200
TZOFFSETTO:+0100
TZNAME:CET
DTSTART:20111030T010000
END:STANDARD
BEGIN:DAYLIGHT
TZOFFSETFROM:+0100
TZOFFSETTO:+0200
TZNAME:CEST
DTSTART:20120325T010000
END:DAYLIGHT
BEGIN:STANDARD
TZOFFSETFROM:+0200
TZOFFSETTO:+0100
TZNAME:CET
DTSTART:20121028T010000
END:STANDARD
BEGIN:DAYLIGHT
TZOFFSETFROM:+0100
TZOFFSETTO:+0200
TZNAME:CEST
DTSTART:20130331T010000
END:DAYLIGHT
BEGIN:STANDARD
TZOFFSETFROM:+0200
TZOFFSETTO:+0100
TZNAME:CET
DTSTART:20131027T010000
END:STANDARD
BEGIN:DAYLIGHT
TZOFFSETFROM:+0100
TZOFFSETTO:+0200
TZNAME:CEST
DTSTART:20140330T010000
END:DAYLIGHT
BEGIN:STANDARD
TZOFFSETFROM:+0200
TZOFFSETTO:+0100
TZNAME:CET
DTSTART:20141026T010000
END:STANDARD
BEGIN:DAYLIGHT
TZOFFSETFROM:+0100
TZOFFSETTO:+0200
TZNAME:CEST
DTSTART:20150329T010000
END:DAYLIGHT
BEGIN:STANDARD
TZOFFSETFROM:+0200
TZOFFSETTO:+0100
TZNAME:CET
DTSTART:20151025T010000
END:STANDARD
BEGIN:DAYLIGHT
TZOFFSETFROM:+0100
TZOFFSETTO:+0200
TZNAME:CEST
DTSTART:20160327T010000
END:DAYLIGHT
BEGIN:STANDARD
TZOFFSETFROM:+0200
TZOFFSETTO:+0100
TZNAME:CET
DTSTART:20161030T010000
END:STANDARD
BEGIN:DAYLIGHT
TZOFFSETFROM:+0100
TZOFFSETTO:+0200
TZNAME:CEST
DTSTART:20170326T010000
END:DAYLIGHT
BEGIN:STANDARD
TZOFFSETFROM:+0200
TZOFFSETTO:+0100
TZNAME:CET
DTSTART:20171029T010000
END:STANDARD
BEGIN:DAYLIGHT
TZOFFSETFROM:+0100
TZOFFSETTO:+0200
TZNAME:CEST
DTSTART:20180325T010000
END:DAYLIGHT
BEGIN:STANDARD
TZOFFSETFROM:+0200
TZOFFSETTO:+0100
TZNAME:CET
DTSTART:20181028T010000
END:STANDARD
BEGIN:DAYLIGHT
TZOFFSETFROM:+0100
TZOFFSETTO:+0200
TZNAME:CEST
DTSTART:20190331T010000
END:DAYLIGHT
BEGIN:STANDARD
TZOFFSETFROM:+0200
TZOFFSETTO:+0100
TZNAME:CET
DTSTART:20191027T010000
END:STANDARD
BEGIN:DAYLIGHT
TZOFFSETFROM:+0100
TZOFFSETTO:+0200
TZNAME:CEST
DTSTART:20200329T010000
END:DAYLIGHT
BEGIN:STANDARD
TZOFFSETFROM:+0200
TZOFFSETTO:+0100
TZNAME:CET
DTSTART:20201025T010000
END:STANDARD
BEGIN:DAYLIGHT
TZOFFSETFROM:+0100
TZOFFSETTO:+0200
TZNAME:CEST
DTSTART:20210328T010000
END:DAYLIGHT
BEGIN:STANDARD
TZOFFSETFROM:+0200
TZOFFSETTO:+0100
TZNAME:CET
DTSTART:20211031T010000
END:STANDARD
BEGIN:DAYLIGHT
TZOFFSETFROM:+0100
TZOFFSETTO:+0200
TZNAME:CEST
DTSTART:20220327T010000
END:DAYLIGHT
BEGIN:STANDARD
TZOFFSETFROM:+0200
TZOFFSETTO:+0100
TZNAME:CET
DTSTART:20221030T010000
END:STANDARD
BEGIN:DAYLIGHT
TZOFFSETFROM:+0100
TZOFFSETTO:+0200
TZNAME:CEST
DTSTART:20230326T010000
END:DAYLIGHT
BEGIN:STANDARD
TZOFFSETFROM:+0200
TZOFFSETTO:+0100
TZNAME:CET
DTSTART:20231029T010000
END:STANDARD
BEGIN:DAYLIGHT
TZOFFSETFROM:+0100
TZOFFSETTO:+0200
TZNAME:CEST
DTSTART:20240331T010000
END:DAYLIGHT
BEGIN:STANDARD
TZOFFSETFROM:+0200
TZOFFSETTO:+0100
TZNAME:CET
DTSTART:20241027T010000
END:STANDARD
END:VTIMEZONE
BEGIN:VEVENT
DTSTART;TZID=Europe/Oslo:20260423T121433
DTEND;TZID=Europe/Oslo:20230424T200000
DTSTAMP:20260423T121433
CREATED:20230323T110932Z
LAST-MODIFIED:20230323T110932Z
UID:10000745-0-1682366400@oodk.org
SUMMARY:Rally: Konkurransekurs klasse 3 og elite
DESCRIPTION:
URL:https://oodk.org/aktivitet/rally-konkurransekurs-klasse-3-og-elite-2/
LOCATION:Brekke\, midtre plan
END:VEVENT
BEGIN:VEVENT
DTSTART;TZID=Europe/Oslo:20180901T080000
DTEND;TZID=Europe/Oslo:20180901T170000
DTSTAMP:20260423T121433
CREATED:20180507T094455Z
LAST-MODIFIED:20180507T094455Z
UID:10000493-1535788800-1535821200@oodk.org
SUMMARY:Stevne Agility
DESCRIPTION:
URL:https://oodk.org/aktivitet/stevne-agility/
END:VEVENT
BEGIN:VEVENT
DTSTART;TZID=Europe/Oslo:20180902T080000
DTEND;TZID=Europe/Oslo:20180902T170000
DTSTAMP:20260423T121433
CREATED:20180507T094523Z
LAST-MODIFIED:20180507T094523Z
UID:10000494-1535875200-1535907600@oodk.org
SUMMARY:Stevne LP
DESCRIPTION:
URL:https://oodk.org/aktivitet/stevne-lp/
END:VEVENT
BEGIN:VEVENT
DTSTART;TZID=Europe/Oslo:20180903T180000
DTEND;TZID=Europe/Oslo:20180903T210000
DTSTAMP:20260423T121433
CREATED:20180828T074733Z
LAST-MODIFIED:20180828T074733Z
UID:10000517-1535997600-1536008400@oodk.org
SUMMARY:Trening brukslydighet
DESCRIPTION:
URL:https://oodk.org/aktivitet/trening-brukslydighet-8/
END:VEVENT
BEGIN:VEVENT
DTSTART;TZID=Europe/Oslo:20180904T180000
DTEND;TZID=Europe/Oslo:20180904T210000
DTSTAMP:20260423T121433
CREATED:20180828T075445Z
LAST-MODIFIED:20180828T075445Z
UID:10000525-1536084000-1536094800@oodk.org
SUMMARY:Trening LP
DESCRIPTION:
URL:https://oodk.org/aktivitet/trening-lp-10/
END:VEVENT
BEGIN:VEVENT
DTSTART;TZID=Europe/Oslo:20180904T180000
DTEND;TZID=Europe/Oslo:20180904T210000
DTSTAMP:20260423T121433
CREATED:20180828T082312Z
LAST-MODIFIED:20180828T082312Z
UID:10000535-1536084000-1536094800@oodk.org
SUMMARY:Trening agility viderekommende
DESCRIPTION:
URL:https://oodk.org/aktivitet/trening-agility-viderekommende-2/
END:VEVENT
BEGIN:VEVENT
DTSTART;TZID=Europe/Oslo:20180905T180000
DTEND;TZID=Europe/Oslo:20180905T210000
DTSTAMP:20260423T121433
CREATED:20180821T092543Z
LAST-MODIFIED:20180821T092543Z
UID:10000268-1536170400-1536181200@oodk.org
SUMMARY:Treningsstevne rallylydighet
DESCRIPTION:Dommerelev: Lise-Lotte Gundersen
URL:https://oodk.org/aktivitet/treningsstevne-rallylydighet/
END:VEVENT
BEGIN:VEVENT
DTSTART;TZID=Europe/Oslo:20180906T180000
DTEND;TZID=Europe/Oslo:20180906T193000
DTSTAMP:20260423T121433
CREATED:20180409T065402Z
LAST-MODIFIED:20180409T065402Z
UID:10000487-1536256800-1536262200@oodk.org
SUMMARY:Bronsemerkekurs
DESCRIPTION:
URL:https://oodk.org/aktivitet/bronsemerkekurs-9/
END:VEVENT
BEGIN:VEVENT
DTSTART;TZID=Europe/Oslo:20180906T180000
DTEND;TZID=Europe/Oslo:20180906T210000
DTSTAMP:20260423T121433
CREATED:20180828T083213Z
LAST-MODIFIED:20180828T083213Z
UID:10000539-1536256800-1536267600@oodk.org
SUMMARY:Trening agility nybegynner
DESCRIPTION:
URL:https://oodk.org/aktivitet/trening-agility-nybegynner-2/
END:VEVENT
BEGIN:VEVENT
DTSTART;VALUE=DATE:20180908
DTEND;VALUE=DATE:20180910
DTSTAMP:20260423T121433
CREATED:20180213T203935Z
LAST-MODIFIED:20180213T203935Z
UID:10000476-1536364800-1536537599@oodk.org
SUMMARY:Føringskurs i agility
DESCRIPTION:
URL:https://oodk.org/aktivitet/foringskurs-i-agility-2/
END:VEVENT
BEGIN:VEVENT
DTSTART;TZID=Europe/Oslo:20180910T180000
DTEND;TZID=Europe/Oslo:20180910T210000
DTSTAMP:20260423T121433
CREATED:20180828T074757Z
LAST-MODIFIED:20180828T074757Z
UID:10000518-1536602400-1536613200@oodk.org
SUMMARY:Trening brukslydighet
DESCRIPTION:
URL:https://oodk.org/aktivitet/trening-brukslydighet-9/
END:VEVENT
BEGIN:VEVENT
DTSTART;TZID=Europe/Oslo:20180911T180000
DTEND;TZID=Europe/Oslo:20180911T210000
DTSTAMP:20260423T121433
CREATED:20180828T075527Z
LAST-MODIFIED:20180828T075527Z
UID:10000526-1536688800-1536699600@oodk.org
SUMMARY:Trening LP
DESCRIPTION:
URL:https://oodk.org/aktivitet/trening-lp-11/
END:VEVENT
BEGIN:VEVENT
DTSTART;TZID=Europe/Oslo:20180911T180000
DTEND;TZID=Europe/Oslo:20180911T210000
DTSTAMP:20260423T121433
CREATED:20180828T082352Z
LAST-MODIFIED:20180828T082352Z
UID:10000536-1536688800-1536699600@oodk.org
SUMMARY:Trening agility viderekommende
DESCRIPTION:
URL:https://oodk.org/aktivitet/trening-agility-viderekommende-3/
END:VEVENT
BEGIN:VEVENT
DTSTART;TZID=Europe/Oslo:20180912T180000
DTEND;TZID=Europe/Oslo:20180912T210000
DTSTAMP:20260423T121433
CREATED:20180828T083438Z
LAST-MODIFIED:20180828T083438Z
UID:10000284-1536775200-1536786000@oodk.org
SUMMARY:Trening rallylydighet
DESCRIPTION:
URL:https://oodk.org/aktivitet/trening-rallylydighet-3/
END:VEVENT
BEGIN:VEVENT
DTSTART;TZID=Europe/Oslo:20180913T180000
DTEND;TZID=Europe/Oslo:20180913T210000
DTSTAMP:20260423T121433
CREATED:20180828T083243Z
LAST-MODIFIED:20180828T083243Z
UID:10000281-1536861600-1536872400@oodk.org
SUMMARY:Trening agility nybegynner
DESCRIPTION:
URL:https://oodk.org/aktivitet/trening-agility-nybegynner-3/
END:VEVENT
BEGIN:VEVENT
DTSTART;TZID=Europe/Oslo:20180917T180000
DTEND;TZID=Europe/Oslo:20180917T210000
DTSTAMP:20260423T121433
CREATED:20180828T074834Z
LAST-MODIFIED:20180828T074834Z
UID:10000519-1537207200-1537218000@oodk.org
SUMMARY:Trening brukslydighet
DESCRIPTION:
URL:https://oodk.org/aktivitet/trening-brukslydighet-10/
END:VEVENT
BEGIN:VEVENT
DTSTART;TZID=Europe/Oslo:20180918T180000
DTEND;TZID=Europe/Oslo:20180918T210000
DTSTAMP:20260423T121433
CREATED:20180828T080450Z
LAST-MODIFIED:20180828T080450Z
UID:10000527-1537293600-1537304400@oodk.org
SUMMARY:Trening LP
DESCRIPTION:
URL:https://oodk.org/aktivitet/trening-lp-12/
END:VEVENT
BEGIN:VEVENT
DTSTART;TZID=Europe/Oslo:20180918T180000
DTEND;TZID=Europe/Oslo:20180918T210000
DTSTAMP:20260423T121433
CREATED:20180828T082448Z
LAST-MODIFIED:20180828T082448Z
UID:10000537-1537293600-1537304400@oodk.org
SUMMARY:Trening agility viderekommende
DESCRIPTION:
URL:https://oodk.org/aktivitet/trening-agility-viderekommende-4/
END:VEVENT
BEGIN:VEVENT
DTSTART;TZID=Europe/Oslo:20180919T180000
DTEND;TZID=Europe/Oslo:20180919T210000
DTSTAMP:20260423T121433
CREATED:20180828T083514Z
LAST-MODIFIED:20180828T083514Z
UID:10000285-1537380000-1537390800@oodk.org
SUMMARY:Trening rallylydighet
DESCRIPTION:
URL:https://oodk.org/aktivitet/trening-rallylydighet-4/
END:VEVENT
BEGIN:VEVENT
DTSTART;TZID=Europe/Oslo:20180920T180000
DTEND;TZID=Europe/Oslo:20180920T210000
DTSTAMP:20260423T121433
CREATED:20180828T083319Z
LAST-MODIFIED:20180828T083319Z
UID:10000282-1537466400-1537477200@oodk.org
SUMMARY:Trening agility nybegynner
DESCRIPTION:
URL:https://oodk.org/aktivitet/trening-agility-nybegynner-4/
END:VEVENT
BEGIN:VEVENT
DTSTART;TZID=Europe/Oslo:20180922T080000
DTEND;TZID=Europe/Oslo:20180922T170000
DTSTAMP:20260423T121433
CREATED:20180507T094655Z
LAST-MODIFIED:20180507T094655Z
UID:10000495-1537603200-1537635600@oodk.org
SUMMARY:Stevne Rallylydighet
DESCRIPTION:
URL:https://oodk.org/aktivitet/stevne-rallylydighet/
END:VEVENT
BEGIN:VEVENT
DTSTART;TZID=Europe/Oslo:20180924T180000
DTEND;TZID=Europe/Oslo:20180924T210000
DTSTAMP:20260423T121433
CREATED:20180828T074857Z
LAST-MODIFIED:20180828T074857Z
UID:10000520-1537812000-1537822800@oodk.org
SUMMARY:Trening brukslydighet
DESCRIPTION:
URL:https://oodk.org/aktivitet/trening-brukslydighet-11/
END:VEVENT
BEGIN:VEVENT
DTSTART;TZID=Europe/Oslo:20180925T180000
DTEND;TZID=Europe/Oslo:20180925T210000
DTSTAMP:20260423T121433
CREATED:20180828T080647Z
LAST-MODIFIED:20180828T080647Z
UID:10000529-1537898400-1537909200@oodk.org
SUMMARY:Trening LP
DESCRIPTION:
URL:https://oodk.org/aktivitet/trening-lp-14/
END:VEVENT
BEGIN:VEVENT
DTSTART;TZID=Europe/Oslo:20180925T180000
DTEND;TZID=Europe/Oslo:20180925T210000
DTSTAMP:20260423T121433
CREATED:20180828T082527Z
LAST-MODIFIED:20180828T082527Z
UID:10000538-1537898400-1537909200@oodk.org
SUMMARY:Trening agility viderekommende
DESCRIPTION:
URL:https://oodk.org/aktivitet/trening-agility-viderekommende-5/
END:VEVENT
BEGIN:VEVENT
DTSTART;TZID=Europe/Oslo:20180926T180000
DTEND;TZID=Europe/Oslo:20180926T210000
DTSTAMP:20260423T121433
CREATED:20180821T092210Z
LAST-MODIFIED:20180821T092435Z
UID:10000266-1537984800-1537995600@oodk.org
SUMMARY:Treningsstevne rallylydighet
DESCRIPTION:Dommerelev: Lise-Lotte Gundersen
URL:https://oodk.org/aktivitet/oppstart-rallytrening/
END:VEVENT
BEGIN:VEVENT
DTSTART;TZID=Europe/Oslo:20180927T180000
DTEND;TZID=Europe/Oslo:20180927T210000
DTSTAMP:20260423T121433
CREATED:20180828T083343Z
LAST-MODIFIED:20180828T083343Z
UID:10000283-1538071200-1538082000@oodk.org
SUMMARY:Trening agility nybegynner
DESCRIPTION:
URL:https://oodk.org/aktivitet/trening-agility-nybegynner-5/
END:VEVENT
END:VCALENDAR