BEGIN:VCALENDAR
VERSION:2.0
PRODID:-//Oslo og Omegn Dressurklubb - ECPv6.15.20//NONSGML v1.0//EN
CALSCALE:GREGORIAN
METHOD:PUBLISH
X-WR-CALNAME:Oslo og Omegn Dressurklubb
X-ORIGINAL-URL:https://oodk.org
X-WR-CALDESC:Arrangement for Oslo og Omegn Dressurklubb
REFRESH-INTERVAL;VALUE=DURATION:PT1H
X-Robots-Tag:noindex
X-PUBLISHED-TTL:PT1H
BEGIN:VTIMEZONE
TZID:Europe/Oslo
BEGIN:DAYLIGHT
TZOFFSETFROM:+0100
TZOFFSETTO:+0200
TZNAME:CEST
DTSTART:19800406T010000
END:DAYLIGHT
BEGIN:STANDARD
TZOFFSETFROM:+0200
TZOFFSETTO:+0100
TZNAME:CET
DTSTART:19800928T010000
END:STANDARD
BEGIN:DAYLIGHT
TZOFFSETFROM:+0100
TZOFFSETTO:+0200
TZNAME:CEST
DTSTART:19810329T010000
END:DAYLIGHT
BEGIN:STANDARD
TZOFFSETFROM:+0200
TZOFFSETTO:+0100
TZNAME:CET
DTSTART:19810927T010000
END:STANDARD
BEGIN:DAYLIGHT
TZOFFSETFROM:+0100
TZOFFSETTO:+0200
TZNAME:CEST
DTSTART:19820328T010000
END:DAYLIGHT
BEGIN:STANDARD
TZOFFSETFROM:+0200
TZOFFSETTO:+0100
TZNAME:CET
DTSTART:19820926T010000
END:STANDARD
BEGIN:DAYLIGHT
TZOFFSETFROM:+0100
TZOFFSETTO:+0200
TZNAME:CEST
DTSTART:19830327T010000
END:DAYLIGHT
BEGIN:STANDARD
TZOFFSETFROM:+0200
TZOFFSETTO:+0100
TZNAME:CET
DTSTART:19830925T010000
END:STANDARD
BEGIN:DAYLIGHT
TZOFFSETFROM:+0100
TZOFFSETTO:+0200
TZNAME:CEST
DTSTART:19840325T010000
END:DAYLIGHT
BEGIN:STANDARD
TZOFFSETFROM:+0200
TZOFFSETTO:+0100
TZNAME:CET
DTSTART:19840930T010000
END:STANDARD
BEGIN:DAYLIGHT
TZOFFSETFROM:+0100
TZOFFSETTO:+0200
TZNAME:CEST
DTSTART:19850331T010000
END:DAYLIGHT
BEGIN:STANDARD
TZOFFSETFROM:+0200
TZOFFSETTO:+0100
TZNAME:CET
DTSTART:19850929T010000
END:STANDARD
BEGIN:DAYLIGHT
TZOFFSETFROM:+0100
TZOFFSETTO:+0200
TZNAME:CEST
DTSTART:19860330T010000
END:DAYLIGHT
BEGIN:STANDARD
TZOFFSETFROM:+0200
TZOFFSETTO:+0100
TZNAME:CET
DTSTART:19860928T010000
END:STANDARD
BEGIN:DAYLIGHT
TZOFFSETFROM:+0100
TZOFFSETTO:+0200
TZNAME:CEST
DTSTART:19870329T010000
END:DAYLIGHT
BEGIN:STANDARD
TZOFFSETFROM:+0200
TZOFFSETTO:+0100
TZNAME:CET
DTSTART:19870927T010000
END:STANDARD
BEGIN:DAYLIGHT
TZOFFSETFROM:+0100
TZOFFSETTO:+0200
TZNAME:CEST
DTSTART:19880327T010000
END:DAYLIGHT
BEGIN:STANDARD
TZOFFSETFROM:+0200
TZOFFSETTO:+0100
TZNAME:CET
DTSTART:19880925T010000
END:STANDARD
BEGIN:DAYLIGHT
TZOFFSETFROM:+0100
TZOFFSETTO:+0200
TZNAME:CEST
DTSTART:19890326T010000
END:DAYLIGHT
BEGIN:STANDARD
TZOFFSETFROM:+0200
TZOFFSETTO:+0100
TZNAME:CET
DTSTART:19890924T010000
END:STANDARD
BEGIN:DAYLIGHT
TZOFFSETFROM:+0100
TZOFFSETTO:+0200
TZNAME:CEST
DTSTART:19900325T010000
END:DAYLIGHT
BEGIN:STANDARD
TZOFFSETFROM:+0200
TZOFFSETTO:+0100
TZNAME:CET
DTSTART:19900930T010000
END:STANDARD
BEGIN:DAYLIGHT
TZOFFSETFROM:+0100
TZOFFSETTO:+0200
TZNAME:CEST
DTSTART:19910331T010000
END:DAYLIGHT
BEGIN:STANDARD
TZOFFSETFROM:+0200
TZOFFSETTO:+0100
TZNAME:CET
DTSTART:19910929T010000
END:STANDARD
BEGIN:DAYLIGHT
TZOFFSETFROM:+0100
TZOFFSETTO:+0200
TZNAME:CEST
DTSTART:19920329T010000
END:DAYLIGHT
BEGIN:STANDARD
TZOFFSETFROM:+0200
TZOFFSETTO:+0100
TZNAME:CET
DTSTART:19920927T010000
END:STANDARD
BEGIN:DAYLIGHT
TZOFFSETFROM:+0100
TZOFFSETTO:+0200
TZNAME:CEST
DTSTART:19930328T010000
END:DAYLIGHT
BEGIN:STANDARD
TZOFFSETFROM:+0200
TZOFFSETTO:+0100
TZNAME:CET
DTSTART:19930926T010000
END:STANDARD
BEGIN:DAYLIGHT
TZOFFSETFROM:+0100
TZOFFSETTO:+0200
TZNAME:CEST
DTSTART:19940327T010000
END:DAYLIGHT
BEGIN:STANDARD
TZOFFSETFROM:+0200
TZOFFSETTO:+0100
TZNAME:CET
DTSTART:19940925T010000
END:STANDARD
BEGIN:DAYLIGHT
TZOFFSETFROM:+0100
TZOFFSETTO:+0200
TZNAME:CEST
DTSTART:19950326T010000
END:DAYLIGHT
BEGIN:STANDARD
TZOFFSETFROM:+0200
TZOFFSETTO:+0100
TZNAME:CET
DTSTART:19950924T010000
END:STANDARD
BEGIN:DAYLIGHT
TZOFFSETFROM:+0100
TZOFFSETTO:+0200
TZNAME:CEST
DTSTART:19960331T010000
END:DAYLIGHT
BEGIN:STANDARD
TZOFFSETFROM:+0200
TZOFFSETTO:+0100
TZNAME:CET
DTSTART:19961027T010000
END:STANDARD
BEGIN:DAYLIGHT
TZOFFSETFROM:+0100
TZOFFSETTO:+0200
TZNAME:CEST
DTSTART:19970330T010000
END:DAYLIGHT
BEGIN:STANDARD
TZOFFSETFROM:+0200
TZOFFSETTO:+0100
TZNAME:CET
DTSTART:19971026T010000
END:STANDARD
BEGIN:DAYLIGHT
TZOFFSETFROM:+0100
TZOFFSETTO:+0200
TZNAME:CEST
DTSTART:19980329T010000
END:DAYLIGHT
BEGIN:STANDARD
TZOFFSETFROM:+0200
TZOFFSETTO:+0100
TZNAME:CET
DTSTART:19981025T010000
END:STANDARD
BEGIN:DAYLIGHT
TZOFFSETFROM:+0100
TZOFFSETTO:+0200
TZNAME:CEST
DTSTART:19990328T010000
END:DAYLIGHT
BEGIN:STANDARD
TZOFFSETFROM:+0200
TZOFFSETTO:+0100
TZNAME:CET
DTSTART:19991031T010000
END:STANDARD
BEGIN:DAYLIGHT
TZOFFSETFROM:+0100
TZOFFSETTO:+0200
TZNAME:CEST
DTSTART:20000326T010000
END:DAYLIGHT
BEGIN:STANDARD
TZOFFSETFROM:+0200
TZOFFSETTO:+0100
TZNAME:CET
DTSTART:20001029T010000
END:STANDARD
BEGIN:DAYLIGHT
TZOFFSETFROM:+0100
TZOFFSETTO:+0200
TZNAME:CEST
DTSTART:20010325T010000
END:DAYLIGHT
BEGIN:STANDARD
TZOFFSETFROM:+0200
TZOFFSETTO:+0100
TZNAME:CET
DTSTART:20011028T010000
END:STANDARD
BEGIN:DAYLIGHT
TZOFFSETFROM:+0100
TZOFFSETTO:+0200
TZNAME:CEST
DTSTART:20020331T010000
END:DAYLIGHT
BEGIN:STANDARD
TZOFFSETFROM:+0200
TZOFFSETTO:+0100
TZNAME:CET
DTSTART:20021027T010000
END:STANDARD
BEGIN:DAYLIGHT
TZOFFSETFROM:+0100
TZOFFSETTO:+0200
TZNAME:CEST
DTSTART:20030330T010000
END:DAYLIGHT
BEGIN:STANDARD
TZOFFSETFROM:+0200
TZOFFSETTO:+0100
TZNAME:CET
DTSTART:20031026T010000
END:STANDARD
BEGIN:DAYLIGHT
TZOFFSETFROM:+0100
TZOFFSETTO:+0200
TZNAME:CEST
DTSTART:20040328T010000
END:DAYLIGHT
BEGIN:STANDARD
TZOFFSETFROM:+0200
TZOFFSETTO:+0100
TZNAME:CET
DTSTART:20041031T010000
END:STANDARD
BEGIN:DAYLIGHT
TZOFFSETFROM:+0100
TZOFFSETTO:+0200
TZNAME:CEST
DTSTART:20050327T010000
END:DAYLIGHT
BEGIN:STANDARD
TZOFFSETFROM:+0200
TZOFFSETTO:+0100
TZNAME:CET
DTSTART:20051030T010000
END:STANDARD
BEGIN:DAYLIGHT
TZOFFSETFROM:+0100
TZOFFSETTO:+0200
TZNAME:CEST
DTSTART:20060326T010000
END:DAYLIGHT
BEGIN:STANDARD
TZOFFSETFROM:+0200
TZOFFSETTO:+0100
TZNAME:CET
DTSTART:20061029T010000
END:STANDARD
BEGIN:DAYLIGHT
TZOFFSETFROM:+0100
TZOFFSETTO:+0200
TZNAME:CEST
DTSTART:20070325T010000
END:DAYLIGHT
BEGIN:STANDARD
TZOFFSETFROM:+0200
TZOFFSETTO:+0100
TZNAME:CET
DTSTART:20071028T010000
END:STANDARD
BEGIN:DAYLIGHT
TZOFFSETFROM:+0100
TZOFFSETTO:+0200
TZNAME:CEST
DTSTART:20080330T010000
END:DAYLIGHT
BEGIN:STANDARD
TZOFFSETFROM:+0200
TZOFFSETTO:+0100
TZNAME:CET
DTSTART:20081026T010000
END:STANDARD
BEGIN:DAYLIGHT
TZOFFSETFROM:+0100
TZOFFSETTO:+0200
TZNAME:CEST
DTSTART:20090329T010000
END:DAYLIGHT
BEGIN:STANDARD
TZOFFSETFROM:+0200
TZOFFSETTO:+0100
TZNAME:CET
DTSTART:20091025T010000
END:STANDARD
BEGIN:DAYLIGHT
TZOFFSETFROM:+0100
TZOFFSETTO:+0200
TZNAME:CEST
DTSTART:20100328T010000
END:DAYLIGHT
BEGIN:STANDARD
TZOFFSETFROM:+0200
TZOFFSETTO:+0100
TZNAME:CET
DTSTART:20101031T010000
END:STANDARD
BEGIN:DAYLIGHT
TZOFFSETFROM:+0100
TZOFFSETTO:+0200
TZNAME:CEST
DTSTART:20110327T010000
END:DAYLIGHT
BEGIN:STANDARD
TZOFFSETFROM:+0200
TZOFFSETTO:+0100
TZNAME:CET
DTSTART:20111030T010000
END:STANDARD
BEGIN:DAYLIGHT
TZOFFSETFROM:+0100
TZOFFSETTO:+0200
TZNAME:CEST
DTSTART:20120325T010000
END:DAYLIGHT
BEGIN:STANDARD
TZOFFSETFROM:+0200
TZOFFSETTO:+0100
TZNAME:CET
DTSTART:20121028T010000
END:STANDARD
BEGIN:DAYLIGHT
TZOFFSETFROM:+0100
TZOFFSETTO:+0200
TZNAME:CEST
DTSTART:20130331T010000
END:DAYLIGHT
BEGIN:STANDARD
TZOFFSETFROM:+0200
TZOFFSETTO:+0100
TZNAME:CET
DTSTART:20131027T010000
END:STANDARD
BEGIN:DAYLIGHT
TZOFFSETFROM:+0100
TZOFFSETTO:+0200
TZNAME:CEST
DTSTART:20140330T010000
END:DAYLIGHT
BEGIN:STANDARD
TZOFFSETFROM:+0200
TZOFFSETTO:+0100
TZNAME:CET
DTSTART:20141026T010000
END:STANDARD
BEGIN:DAYLIGHT
TZOFFSETFROM:+0100
TZOFFSETTO:+0200
TZNAME:CEST
DTSTART:20150329T010000
END:DAYLIGHT
BEGIN:STANDARD
TZOFFSETFROM:+0200
TZOFFSETTO:+0100
TZNAME:CET
DTSTART:20151025T010000
END:STANDARD
BEGIN:DAYLIGHT
TZOFFSETFROM:+0100
TZOFFSETTO:+0200
TZNAME:CEST
DTSTART:20160327T010000
END:DAYLIGHT
BEGIN:STANDARD
TZOFFSETFROM:+0200
TZOFFSETTO:+0100
TZNAME:CET
DTSTART:20161030T010000
END:STANDARD
BEGIN:DAYLIGHT
TZOFFSETFROM:+0100
TZOFFSETTO:+0200
TZNAME:CEST
DTSTART:20170326T010000
END:DAYLIGHT
BEGIN:STANDARD
TZOFFSETFROM:+0200
TZOFFSETTO:+0100
TZNAME:CET
DTSTART:20171029T010000
END:STANDARD
BEGIN:DAYLIGHT
TZOFFSETFROM:+0100
TZOFFSETTO:+0200
TZNAME:CEST
DTSTART:20180325T010000
END:DAYLIGHT
BEGIN:STANDARD
TZOFFSETFROM:+0200
TZOFFSETTO:+0100
TZNAME:CET
DTSTART:20181028T010000
END:STANDARD
BEGIN:DAYLIGHT
TZOFFSETFROM:+0100
TZOFFSETTO:+0200
TZNAME:CEST
DTSTART:20190331T010000
END:DAYLIGHT
BEGIN:STANDARD
TZOFFSETFROM:+0200
TZOFFSETTO:+0100
TZNAME:CET
DTSTART:20191027T010000
END:STANDARD
BEGIN:DAYLIGHT
TZOFFSETFROM:+0100
TZOFFSETTO:+0200
TZNAME:CEST
DTSTART:20200329T010000
END:DAYLIGHT
BEGIN:STANDARD
TZOFFSETFROM:+0200
TZOFFSETTO:+0100
TZNAME:CET
DTSTART:20201025T010000
END:STANDARD
BEGIN:DAYLIGHT
TZOFFSETFROM:+0100
TZOFFSETTO:+0200
TZNAME:CEST
DTSTART:20210328T010000
END:DAYLIGHT
BEGIN:STANDARD
TZOFFSETFROM:+0200
TZOFFSETTO:+0100
TZNAME:CET
DTSTART:20211031T010000
END:STANDARD
BEGIN:DAYLIGHT
TZOFFSETFROM:+0100
TZOFFSETTO:+0200
TZNAME:CEST
DTSTART:20220327T010000
END:DAYLIGHT
BEGIN:STANDARD
TZOFFSETFROM:+0200
TZOFFSETTO:+0100
TZNAME:CET
DTSTART:20221030T010000
END:STANDARD
BEGIN:DAYLIGHT
TZOFFSETFROM:+0100
TZOFFSETTO:+0200
TZNAME:CEST
DTSTART:20230326T010000
END:DAYLIGHT
BEGIN:STANDARD
TZOFFSETFROM:+0200
TZOFFSETTO:+0100
TZNAME:CET
DTSTART:20231029T010000
END:STANDARD
BEGIN:DAYLIGHT
TZOFFSETFROM:+0100
TZOFFSETTO:+0200
TZNAME:CEST
DTSTART:20240331T010000
END:DAYLIGHT
BEGIN:STANDARD
TZOFFSETFROM:+0200
TZOFFSETTO:+0100
TZNAME:CET
DTSTART:20241027T010000
END:STANDARD
END:VTIMEZONE
BEGIN:VEVENT
DTSTART;TZID=Europe/Oslo:20260423T104243
DTEND;TZID=Europe/Oslo:20230424T200000
DTSTAMP:20260423T104243
CREATED:20230323T110932Z
LAST-MODIFIED:20230323T110932Z
UID:10000745-0-1682366400@oodk.org
SUMMARY:Rally: Konkurransekurs klasse 3 og elite
DESCRIPTION:
URL:https://oodk.org/aktivitet/rally-konkurransekurs-klasse-3-og-elite-2/
LOCATION:Brekke\, midtre plan
END:VEVENT
BEGIN:VEVENT
DTSTART;TZID=Europe/Oslo:20181001T180000
DTEND;TZID=Europe/Oslo:20181001T210000
DTSTAMP:20260423T104243
CREATED:20181023T110050Z
LAST-MODIFIED:20181023T110050Z
UID:10000287-1538416800-1538427600@oodk.org
SUMMARY:Trening brukslydighet
DESCRIPTION:
URL:https://oodk.org/aktivitet/trening-brukslydighet-13/
END:VEVENT
BEGIN:VEVENT
DTSTART;TZID=Europe/Oslo:20181002T180000
DTEND;TZID=Europe/Oslo:20181002T210000
DTSTAMP:20260423T104243
CREATED:20180507T090612Z
LAST-MODIFIED:20180507T090612Z
UID:10000492-1538503200-1538514000@oodk.org
SUMMARY:Klubbmesterskap LP
DESCRIPTION:
URL:https://oodk.org/aktivitet/klubbmesterskap-lp/
END:VEVENT
BEGIN:VEVENT
DTSTART;TZID=Europe/Oslo:20181003T180000
DTEND;TZID=Europe/Oslo:20181003T210000
DTSTAMP:20260423T104243
CREATED:20181023T110553Z
LAST-MODIFIED:20181023T110553Z
UID:10000543-1538589600-1538600400@oodk.org
SUMMARY:Trening rallylydighet
DESCRIPTION:
URL:https://oodk.org/aktivitet/trening-rallylydighet-5/
END:VEVENT
BEGIN:VEVENT
DTSTART;TZID=Europe/Oslo:20181004T180000
DTEND;TZID=Europe/Oslo:20181004T210000
DTSTAMP:20260423T104243
CREATED:20181023T110853Z
LAST-MODIFIED:20181023T110853Z
UID:10000547-1538676000-1538686800@oodk.org
SUMMARY:Trening agility
DESCRIPTION:
URL:https://oodk.org/aktivitet/trening-agility/
END:VEVENT
BEGIN:VEVENT
DTSTART;TZID=Europe/Oslo:20181008T180000
DTEND;TZID=Europe/Oslo:20181008T210000
DTSTAMP:20260423T104243
CREATED:20181023T110120Z
LAST-MODIFIED:20181023T110120Z
UID:10000289-1539021600-1539032400@oodk.org
SUMMARY:Trening brukslydighet
DESCRIPTION:
URL:https://oodk.org/aktivitet/trening-brukslydighet-14/
END:VEVENT
BEGIN:VEVENT
DTSTART;TZID=Europe/Oslo:20181009T180000
DTEND;TZID=Europe/Oslo:20181009T210000
DTSTAMP:20260423T104243
CREATED:20180828T080528Z
LAST-MODIFIED:20180828T080838Z
UID:10000528-1539108000-1539118800@oodk.org
SUMMARY:Trening LP
DESCRIPTION:
URL:https://oodk.org/aktivitet/trening-lp-13/
END:VEVENT
BEGIN:VEVENT
DTSTART;TZID=Europe/Oslo:20181010T180000
DTEND;TZID=Europe/Oslo:20181010T210000
DTSTAMP:20260423T104243
CREATED:20181023T110618Z
LAST-MODIFIED:20181023T110618Z
UID:10000544-1539194400-1539205200@oodk.org
SUMMARY:Trening rallylydighet
DESCRIPTION:
URL:https://oodk.org/aktivitet/trening-rallylydighet-6/
END:VEVENT
BEGIN:VEVENT
DTSTART;TZID=Europe/Oslo:20181011T180000
DTEND;TZID=Europe/Oslo:20181011T210000
DTSTAMP:20260423T104243
CREATED:20181023T110917Z
LAST-MODIFIED:20181023T110917Z
UID:10000548-1539280800-1539291600@oodk.org
SUMMARY:Trening agility
DESCRIPTION:
URL:https://oodk.org/aktivitet/trening-agility-2/
END:VEVENT
BEGIN:VEVENT
DTSTART;TZID=Europe/Oslo:20181015T180000
DTEND;TZID=Europe/Oslo:20181015T210000
DTSTAMP:20260423T104243
CREATED:20181023T110145Z
LAST-MODIFIED:20181023T110145Z
UID:10000291-1539626400-1539637200@oodk.org
SUMMARY:Trening brukslydighet
DESCRIPTION:
URL:https://oodk.org/aktivitet/trening-brukslydighet-15/
END:VEVENT
BEGIN:VEVENT
DTSTART;TZID=Europe/Oslo:20181016T180000
DTEND;TZID=Europe/Oslo:20181016T210000
DTSTAMP:20260423T104243
CREATED:20180828T080822Z
LAST-MODIFIED:20180828T081024Z
UID:10000530-1539712800-1539723600@oodk.org
SUMMARY:Trening LP
DESCRIPTION:
URL:https://oodk.org/aktivitet/trening-lp-13-copy/
END:VEVENT
BEGIN:VEVENT
DTSTART;TZID=Europe/Oslo:20181017T180000
DTEND;TZID=Europe/Oslo:20181017T210000
DTSTAMP:20260423T104243
CREATED:20181023T110710Z
LAST-MODIFIED:20181023T110710Z
UID:10000545-1539799200-1539810000@oodk.org
SUMMARY:Trening rallylydighet
DESCRIPTION:
URL:https://oodk.org/aktivitet/trening-rallylydighet-7/
END:VEVENT
BEGIN:VEVENT
DTSTART;TZID=Europe/Oslo:20181018T180000
DTEND;TZID=Europe/Oslo:20181018T210000
DTSTAMP:20260423T104243
CREATED:20181023T111004Z
LAST-MODIFIED:20181023T111004Z
UID:10000549-1539885600-1539896400@oodk.org
SUMMARY:Trening agility
DESCRIPTION:
URL:https://oodk.org/aktivitet/trening-agility-3/
END:VEVENT
BEGIN:VEVENT
DTSTART;TZID=Europe/Oslo:20181022T180000
DTEND;TZID=Europe/Oslo:20181022T210000
DTSTAMP:20260423T104243
CREATED:20181023T110210Z
LAST-MODIFIED:20181023T110210Z
UID:10000293-1540231200-1540242000@oodk.org
SUMMARY:Trening brukslydighet
DESCRIPTION:
URL:https://oodk.org/aktivitet/trening-brukslydighet-16/
END:VEVENT
BEGIN:VEVENT
DTSTART;TZID=Europe/Oslo:20181023T180000
DTEND;TZID=Europe/Oslo:20181023T210000
DTSTAMP:20260423T104243
CREATED:20181023T110350Z
LAST-MODIFIED:20181023T110350Z
UID:10000541-1540317600-1540328400@oodk.org
SUMMARY:Trening LP
DESCRIPTION:
URL:https://oodk.org/aktivitet/trening-lp-15/
END:VEVENT
BEGIN:VEVENT
DTSTART;TZID=Europe/Oslo:20181024T180000
DTEND;TZID=Europe/Oslo:20181024T210000
DTSTAMP:20260423T104243
CREATED:20181023T110740Z
LAST-MODIFIED:20181023T110740Z
UID:10000546-1540404000-1540414800@oodk.org
SUMMARY:Trening rallylydighet
DESCRIPTION:
URL:https://oodk.org/aktivitet/trening-rallylydighet-8/
END:VEVENT
BEGIN:VEVENT
DTSTART;TZID=Europe/Oslo:20181025T180000
DTEND;TZID=Europe/Oslo:20181025T210000
DTSTAMP:20260423T104243
CREATED:20181023T111038Z
LAST-MODIFIED:20181023T111038Z
UID:10000550-1540490400-1540501200@oodk.org
SUMMARY:Trening agility
DESCRIPTION:
URL:https://oodk.org/aktivitet/trening-agility-4/
END:VEVENT
BEGIN:VEVENT
DTSTART;TZID=Europe/Oslo:20181029T180000
DTEND;TZID=Europe/Oslo:20181029T210000
DTSTAMP:20260423T104243
CREATED:20181023T110253Z
LAST-MODIFIED:20181023T110253Z
UID:10000294-1540836000-1540846800@oodk.org
SUMMARY:Trening brukslydighet
DESCRIPTION:
URL:https://oodk.org/aktivitet/trening-brukslydighet-17/
END:VEVENT
BEGIN:VEVENT
DTSTART;TZID=Europe/Oslo:20181030T180000
DTEND;TZID=Europe/Oslo:20181030T210000
DTSTAMP:20260423T104243
CREATED:20181023T110423Z
LAST-MODIFIED:20181023T110423Z
UID:10000542-1540922400-1540933200@oodk.org
SUMMARY:Trening LP
DESCRIPTION:
URL:https://oodk.org/aktivitet/trening-lp-16/
END:VEVENT
BEGIN:VEVENT
DTSTART;TZID=Europe/Oslo:20181030T191500
DTEND;TZID=Europe/Oslo:20181030T220000
DTSTAMP:20260423T104243
CREATED:20181023T111413Z
LAST-MODIFIED:20181023T111413Z
UID:10000552-1540926900-1540936800@oodk.org
SUMMARY:Oppstart innendørs trening rally\, Bærum hundesenter
DESCRIPTION:
URL:https://oodk.org/aktivitet/oppstart-innendors-trening-rally-baerum-hundesenter/
END:VEVENT
END:VCALENDAR