BEGIN:VCALENDAR
VERSION:2.0
PRODID:-//Oslo og Omegn Dressurklubb - ECPv6.15.20//NONSGML v1.0//EN
CALSCALE:GREGORIAN
METHOD:PUBLISH
X-WR-CALNAME:Oslo og Omegn Dressurklubb
X-ORIGINAL-URL:https://oodk.org
X-WR-CALDESC:Arrangement for Oslo og Omegn Dressurklubb
REFRESH-INTERVAL;VALUE=DURATION:PT1H
X-Robots-Tag:noindex
X-PUBLISHED-TTL:PT1H
BEGIN:VTIMEZONE
TZID:Europe/Oslo
BEGIN:DAYLIGHT
TZOFFSETFROM:+0100
TZOFFSETTO:+0200
TZNAME:CEST
DTSTART:19800406T010000
END:DAYLIGHT
BEGIN:STANDARD
TZOFFSETFROM:+0200
TZOFFSETTO:+0100
TZNAME:CET
DTSTART:19800928T010000
END:STANDARD
BEGIN:DAYLIGHT
TZOFFSETFROM:+0100
TZOFFSETTO:+0200
TZNAME:CEST
DTSTART:19810329T010000
END:DAYLIGHT
BEGIN:STANDARD
TZOFFSETFROM:+0200
TZOFFSETTO:+0100
TZNAME:CET
DTSTART:19810927T010000
END:STANDARD
BEGIN:DAYLIGHT
TZOFFSETFROM:+0100
TZOFFSETTO:+0200
TZNAME:CEST
DTSTART:19820328T010000
END:DAYLIGHT
BEGIN:STANDARD
TZOFFSETFROM:+0200
TZOFFSETTO:+0100
TZNAME:CET
DTSTART:19820926T010000
END:STANDARD
BEGIN:DAYLIGHT
TZOFFSETFROM:+0100
TZOFFSETTO:+0200
TZNAME:CEST
DTSTART:19830327T010000
END:DAYLIGHT
BEGIN:STANDARD
TZOFFSETFROM:+0200
TZOFFSETTO:+0100
TZNAME:CET
DTSTART:19830925T010000
END:STANDARD
BEGIN:DAYLIGHT
TZOFFSETFROM:+0100
TZOFFSETTO:+0200
TZNAME:CEST
DTSTART:19840325T010000
END:DAYLIGHT
BEGIN:STANDARD
TZOFFSETFROM:+0200
TZOFFSETTO:+0100
TZNAME:CET
DTSTART:19840930T010000
END:STANDARD
BEGIN:DAYLIGHT
TZOFFSETFROM:+0100
TZOFFSETTO:+0200
TZNAME:CEST
DTSTART:19850331T010000
END:DAYLIGHT
BEGIN:STANDARD
TZOFFSETFROM:+0200
TZOFFSETTO:+0100
TZNAME:CET
DTSTART:19850929T010000
END:STANDARD
BEGIN:DAYLIGHT
TZOFFSETFROM:+0100
TZOFFSETTO:+0200
TZNAME:CEST
DTSTART:19860330T010000
END:DAYLIGHT
BEGIN:STANDARD
TZOFFSETFROM:+0200
TZOFFSETTO:+0100
TZNAME:CET
DTSTART:19860928T010000
END:STANDARD
BEGIN:DAYLIGHT
TZOFFSETFROM:+0100
TZOFFSETTO:+0200
TZNAME:CEST
DTSTART:19870329T010000
END:DAYLIGHT
BEGIN:STANDARD
TZOFFSETFROM:+0200
TZOFFSETTO:+0100
TZNAME:CET
DTSTART:19870927T010000
END:STANDARD
BEGIN:DAYLIGHT
TZOFFSETFROM:+0100
TZOFFSETTO:+0200
TZNAME:CEST
DTSTART:19880327T010000
END:DAYLIGHT
BEGIN:STANDARD
TZOFFSETFROM:+0200
TZOFFSETTO:+0100
TZNAME:CET
DTSTART:19880925T010000
END:STANDARD
BEGIN:DAYLIGHT
TZOFFSETFROM:+0100
TZOFFSETTO:+0200
TZNAME:CEST
DTSTART:19890326T010000
END:DAYLIGHT
BEGIN:STANDARD
TZOFFSETFROM:+0200
TZOFFSETTO:+0100
TZNAME:CET
DTSTART:19890924T010000
END:STANDARD
BEGIN:DAYLIGHT
TZOFFSETFROM:+0100
TZOFFSETTO:+0200
TZNAME:CEST
DTSTART:19900325T010000
END:DAYLIGHT
BEGIN:STANDARD
TZOFFSETFROM:+0200
TZOFFSETTO:+0100
TZNAME:CET
DTSTART:19900930T010000
END:STANDARD
BEGIN:DAYLIGHT
TZOFFSETFROM:+0100
TZOFFSETTO:+0200
TZNAME:CEST
DTSTART:19910331T010000
END:DAYLIGHT
BEGIN:STANDARD
TZOFFSETFROM:+0200
TZOFFSETTO:+0100
TZNAME:CET
DTSTART:19910929T010000
END:STANDARD
BEGIN:DAYLIGHT
TZOFFSETFROM:+0100
TZOFFSETTO:+0200
TZNAME:CEST
DTSTART:19920329T010000
END:DAYLIGHT
BEGIN:STANDARD
TZOFFSETFROM:+0200
TZOFFSETTO:+0100
TZNAME:CET
DTSTART:19920927T010000
END:STANDARD
BEGIN:DAYLIGHT
TZOFFSETFROM:+0100
TZOFFSETTO:+0200
TZNAME:CEST
DTSTART:19930328T010000
END:DAYLIGHT
BEGIN:STANDARD
TZOFFSETFROM:+0200
TZOFFSETTO:+0100
TZNAME:CET
DTSTART:19930926T010000
END:STANDARD
BEGIN:DAYLIGHT
TZOFFSETFROM:+0100
TZOFFSETTO:+0200
TZNAME:CEST
DTSTART:19940327T010000
END:DAYLIGHT
BEGIN:STANDARD
TZOFFSETFROM:+0200
TZOFFSETTO:+0100
TZNAME:CET
DTSTART:19940925T010000
END:STANDARD
BEGIN:DAYLIGHT
TZOFFSETFROM:+0100
TZOFFSETTO:+0200
TZNAME:CEST
DTSTART:19950326T010000
END:DAYLIGHT
BEGIN:STANDARD
TZOFFSETFROM:+0200
TZOFFSETTO:+0100
TZNAME:CET
DTSTART:19950924T010000
END:STANDARD
BEGIN:DAYLIGHT
TZOFFSETFROM:+0100
TZOFFSETTO:+0200
TZNAME:CEST
DTSTART:19960331T010000
END:DAYLIGHT
BEGIN:STANDARD
TZOFFSETFROM:+0200
TZOFFSETTO:+0100
TZNAME:CET
DTSTART:19961027T010000
END:STANDARD
BEGIN:DAYLIGHT
TZOFFSETFROM:+0100
TZOFFSETTO:+0200
TZNAME:CEST
DTSTART:19970330T010000
END:DAYLIGHT
BEGIN:STANDARD
TZOFFSETFROM:+0200
TZOFFSETTO:+0100
TZNAME:CET
DTSTART:19971026T010000
END:STANDARD
BEGIN:DAYLIGHT
TZOFFSETFROM:+0100
TZOFFSETTO:+0200
TZNAME:CEST
DTSTART:19980329T010000
END:DAYLIGHT
BEGIN:STANDARD
TZOFFSETFROM:+0200
TZOFFSETTO:+0100
TZNAME:CET
DTSTART:19981025T010000
END:STANDARD
BEGIN:DAYLIGHT
TZOFFSETFROM:+0100
TZOFFSETTO:+0200
TZNAME:CEST
DTSTART:19990328T010000
END:DAYLIGHT
BEGIN:STANDARD
TZOFFSETFROM:+0200
TZOFFSETTO:+0100
TZNAME:CET
DTSTART:19991031T010000
END:STANDARD
BEGIN:DAYLIGHT
TZOFFSETFROM:+0100
TZOFFSETTO:+0200
TZNAME:CEST
DTSTART:20000326T010000
END:DAYLIGHT
BEGIN:STANDARD
TZOFFSETFROM:+0200
TZOFFSETTO:+0100
TZNAME:CET
DTSTART:20001029T010000
END:STANDARD
BEGIN:DAYLIGHT
TZOFFSETFROM:+0100
TZOFFSETTO:+0200
TZNAME:CEST
DTSTART:20010325T010000
END:DAYLIGHT
BEGIN:STANDARD
TZOFFSETFROM:+0200
TZOFFSETTO:+0100
TZNAME:CET
DTSTART:20011028T010000
END:STANDARD
BEGIN:DAYLIGHT
TZOFFSETFROM:+0100
TZOFFSETTO:+0200
TZNAME:CEST
DTSTART:20020331T010000
END:DAYLIGHT
BEGIN:STANDARD
TZOFFSETFROM:+0200
TZOFFSETTO:+0100
TZNAME:CET
DTSTART:20021027T010000
END:STANDARD
BEGIN:DAYLIGHT
TZOFFSETFROM:+0100
TZOFFSETTO:+0200
TZNAME:CEST
DTSTART:20030330T010000
END:DAYLIGHT
BEGIN:STANDARD
TZOFFSETFROM:+0200
TZOFFSETTO:+0100
TZNAME:CET
DTSTART:20031026T010000
END:STANDARD
BEGIN:DAYLIGHT
TZOFFSETFROM:+0100
TZOFFSETTO:+0200
TZNAME:CEST
DTSTART:20040328T010000
END:DAYLIGHT
BEGIN:STANDARD
TZOFFSETFROM:+0200
TZOFFSETTO:+0100
TZNAME:CET
DTSTART:20041031T010000
END:STANDARD
BEGIN:DAYLIGHT
TZOFFSETFROM:+0100
TZOFFSETTO:+0200
TZNAME:CEST
DTSTART:20050327T010000
END:DAYLIGHT
BEGIN:STANDARD
TZOFFSETFROM:+0200
TZOFFSETTO:+0100
TZNAME:CET
DTSTART:20051030T010000
END:STANDARD
BEGIN:DAYLIGHT
TZOFFSETFROM:+0100
TZOFFSETTO:+0200
TZNAME:CEST
DTSTART:20060326T010000
END:DAYLIGHT
BEGIN:STANDARD
TZOFFSETFROM:+0200
TZOFFSETTO:+0100
TZNAME:CET
DTSTART:20061029T010000
END:STANDARD
BEGIN:DAYLIGHT
TZOFFSETFROM:+0100
TZOFFSETTO:+0200
TZNAME:CEST
DTSTART:20070325T010000
END:DAYLIGHT
BEGIN:STANDARD
TZOFFSETFROM:+0200
TZOFFSETTO:+0100
TZNAME:CET
DTSTART:20071028T010000
END:STANDARD
BEGIN:DAYLIGHT
TZOFFSETFROM:+0100
TZOFFSETTO:+0200
TZNAME:CEST
DTSTART:20080330T010000
END:DAYLIGHT
BEGIN:STANDARD
TZOFFSETFROM:+0200
TZOFFSETTO:+0100
TZNAME:CET
DTSTART:20081026T010000
END:STANDARD
BEGIN:DAYLIGHT
TZOFFSETFROM:+0100
TZOFFSETTO:+0200
TZNAME:CEST
DTSTART:20090329T010000
END:DAYLIGHT
BEGIN:STANDARD
TZOFFSETFROM:+0200
TZOFFSETTO:+0100
TZNAME:CET
DTSTART:20091025T010000
END:STANDARD
BEGIN:DAYLIGHT
TZOFFSETFROM:+0100
TZOFFSETTO:+0200
TZNAME:CEST
DTSTART:20100328T010000
END:DAYLIGHT
BEGIN:STANDARD
TZOFFSETFROM:+0200
TZOFFSETTO:+0100
TZNAME:CET
DTSTART:20101031T010000
END:STANDARD
BEGIN:DAYLIGHT
TZOFFSETFROM:+0100
TZOFFSETTO:+0200
TZNAME:CEST
DTSTART:20110327T010000
END:DAYLIGHT
BEGIN:STANDARD
TZOFFSETFROM:+0200
TZOFFSETTO:+0100
TZNAME:CET
DTSTART:20111030T010000
END:STANDARD
BEGIN:DAYLIGHT
TZOFFSETFROM:+0100
TZOFFSETTO:+0200
TZNAME:CEST
DTSTART:20120325T010000
END:DAYLIGHT
BEGIN:STANDARD
TZOFFSETFROM:+0200
TZOFFSETTO:+0100
TZNAME:CET
DTSTART:20121028T010000
END:STANDARD
BEGIN:DAYLIGHT
TZOFFSETFROM:+0100
TZOFFSETTO:+0200
TZNAME:CEST
DTSTART:20130331T010000
END:DAYLIGHT
BEGIN:STANDARD
TZOFFSETFROM:+0200
TZOFFSETTO:+0100
TZNAME:CET
DTSTART:20131027T010000
END:STANDARD
BEGIN:DAYLIGHT
TZOFFSETFROM:+0100
TZOFFSETTO:+0200
TZNAME:CEST
DTSTART:20140330T010000
END:DAYLIGHT
BEGIN:STANDARD
TZOFFSETFROM:+0200
TZOFFSETTO:+0100
TZNAME:CET
DTSTART:20141026T010000
END:STANDARD
BEGIN:DAYLIGHT
TZOFFSETFROM:+0100
TZOFFSETTO:+0200
TZNAME:CEST
DTSTART:20150329T010000
END:DAYLIGHT
BEGIN:STANDARD
TZOFFSETFROM:+0200
TZOFFSETTO:+0100
TZNAME:CET
DTSTART:20151025T010000
END:STANDARD
BEGIN:DAYLIGHT
TZOFFSETFROM:+0100
TZOFFSETTO:+0200
TZNAME:CEST
DTSTART:20160327T010000
END:DAYLIGHT
BEGIN:STANDARD
TZOFFSETFROM:+0200
TZOFFSETTO:+0100
TZNAME:CET
DTSTART:20161030T010000
END:STANDARD
BEGIN:DAYLIGHT
TZOFFSETFROM:+0100
TZOFFSETTO:+0200
TZNAME:CEST
DTSTART:20170326T010000
END:DAYLIGHT
BEGIN:STANDARD
TZOFFSETFROM:+0200
TZOFFSETTO:+0100
TZNAME:CET
DTSTART:20171029T010000
END:STANDARD
BEGIN:DAYLIGHT
TZOFFSETFROM:+0100
TZOFFSETTO:+0200
TZNAME:CEST
DTSTART:20180325T010000
END:DAYLIGHT
BEGIN:STANDARD
TZOFFSETFROM:+0200
TZOFFSETTO:+0100
TZNAME:CET
DTSTART:20181028T010000
END:STANDARD
BEGIN:DAYLIGHT
TZOFFSETFROM:+0100
TZOFFSETTO:+0200
TZNAME:CEST
DTSTART:20190331T010000
END:DAYLIGHT
BEGIN:STANDARD
TZOFFSETFROM:+0200
TZOFFSETTO:+0100
TZNAME:CET
DTSTART:20191027T010000
END:STANDARD
BEGIN:DAYLIGHT
TZOFFSETFROM:+0100
TZOFFSETTO:+0200
TZNAME:CEST
DTSTART:20200329T010000
END:DAYLIGHT
BEGIN:STANDARD
TZOFFSETFROM:+0200
TZOFFSETTO:+0100
TZNAME:CET
DTSTART:20201025T010000
END:STANDARD
BEGIN:DAYLIGHT
TZOFFSETFROM:+0100
TZOFFSETTO:+0200
TZNAME:CEST
DTSTART:20210328T010000
END:DAYLIGHT
BEGIN:STANDARD
TZOFFSETFROM:+0200
TZOFFSETTO:+0100
TZNAME:CET
DTSTART:20211031T010000
END:STANDARD
BEGIN:DAYLIGHT
TZOFFSETFROM:+0100
TZOFFSETTO:+0200
TZNAME:CEST
DTSTART:20220327T010000
END:DAYLIGHT
BEGIN:STANDARD
TZOFFSETFROM:+0200
TZOFFSETTO:+0100
TZNAME:CET
DTSTART:20221030T010000
END:STANDARD
BEGIN:DAYLIGHT
TZOFFSETFROM:+0100
TZOFFSETTO:+0200
TZNAME:CEST
DTSTART:20230326T010000
END:DAYLIGHT
BEGIN:STANDARD
TZOFFSETFROM:+0200
TZOFFSETTO:+0100
TZNAME:CET
DTSTART:20231029T010000
END:STANDARD
BEGIN:DAYLIGHT
TZOFFSETFROM:+0100
TZOFFSETTO:+0200
TZNAME:CEST
DTSTART:20240331T010000
END:DAYLIGHT
BEGIN:STANDARD
TZOFFSETFROM:+0200
TZOFFSETTO:+0100
TZNAME:CET
DTSTART:20241027T010000
END:STANDARD
END:VTIMEZONE
BEGIN:VEVENT
DTSTART;TZID=Europe/Oslo:20260424T103428
DTEND;TZID=Europe/Oslo:20230424T200000
DTSTAMP:20260424T103428
CREATED:20230323T110932Z
LAST-MODIFIED:20230323T110932Z
UID:10000745-0-1682366400@oodk.org
SUMMARY:Rally: Konkurransekurs klasse 3 og elite
DESCRIPTION:
URL:https://oodk.org/aktivitet/rally-konkurransekurs-klasse-3-og-elite-2/
LOCATION:Brekke\, midtre plan
END:VEVENT
BEGIN:VEVENT
DTSTART;TZID=Europe/Oslo:20190501T180000
DTEND;TZID=Europe/Oslo:20190501T210000
DTSTAMP:20260424T103428
CREATED:20190426T202436Z
LAST-MODIFIED:20190426T202436Z
UID:10000341-1556733600-1556744400@oodk.org
SUMMARY:Trening rallylydighet
DESCRIPTION:
URL:https://oodk.org/aktivitet/trening-rallylydighet-9/
END:VEVENT
BEGIN:VEVENT
DTSTART;TZID=Europe/Oslo:20190502T180000
DTEND;TZID=Europe/Oslo:20190502T210000
DTSTAMP:20260424T103428
CREATED:20190426T204343Z
LAST-MODIFIED:20190426T204343Z
UID:10000593-1556820000-1556830800@oodk.org
SUMMARY:Oppstart agility viderekomne
DESCRIPTION:
URL:https://oodk.org/aktivitet/oppstart-agility-viderekomne/
END:VEVENT
BEGIN:VEVENT
DTSTART;TZID=Europe/Oslo:20190502T180000
DTEND;TZID=Europe/Oslo:20190502T210000
DTSTAMP:20260424T103428
CREATED:20190520T093152Z
LAST-MODIFIED:20190520T093152Z
UID:10000357-1556820000-1556830800@oodk.org
SUMMARY:Trening skogsøvelser Bruks
DESCRIPTION:
URL:https://oodk.org/aktivitet/trening-skogsovelser-bruks-9/
LOCATION:Maridalen
END:VEVENT
BEGIN:VEVENT
DTSTART;VALUE=DATE:20190504
DTEND;VALUE=DATE:20190506
DTSTAMP:20260424T103428
CREATED:20190319T150226Z
LAST-MODIFIED:20190319T150226Z
UID:10000559-1556928000-1557100799@oodk.org
SUMMARY:Nybegynnerkurs i rallylydighet kl. 10-15
DESCRIPTION:
URL:https://oodk.org/aktivitet/nybegynnerkurs-i-rallylydighet-kl-10-15/
END:VEVENT
BEGIN:VEVENT
DTSTART;VALUE=DATE:20190504
DTEND;VALUE=DATE:20190506
DTSTAMP:20260424T103428
CREATED:20190410T124630Z
LAST-MODIFIED:20190410T124630Z
UID:10000568-1556928000-1557100799@oodk.org
SUMMARY:Nybegynnerkurs Agility 9-15
DESCRIPTION:
URL:https://oodk.org/aktivitet/nybegynnerkurs-agility-9-15/
END:VEVENT
BEGIN:VEVENT
DTSTART;TZID=Europe/Oslo:20190506T180000
DTEND;TZID=Europe/Oslo:20190506T210000
DTSTAMP:20260424T103428
CREATED:20190426T195231Z
LAST-MODIFIED:20190426T195231Z
UID:10000575-1557165600-1557176400@oodk.org
SUMMARY:Trening brukslydighet
DESCRIPTION:
URL:https://oodk.org/aktivitet/trening-brukslydighet-20/
END:VEVENT
BEGIN:VEVENT
DTSTART;TZID=Europe/Oslo:20190506T183000
DTEND;TZID=Europe/Oslo:20190506T201500
DTSTAMP:20260424T103428
CREATED:20190319T150508Z
LAST-MODIFIED:20190319T150508Z
UID:10000561-1557167400-1557173700@oodk.org
SUMMARY:Videregående kurs i rallylydighet
DESCRIPTION:
URL:https://oodk.org/aktivitet/videregaende-kurs-i-rallylydighet-2/
END:VEVENT
BEGIN:VEVENT
DTSTART;TZID=Europe/Oslo:20190507T180000
DTEND;TZID=Europe/Oslo:20190507T210000
DTSTAMP:20260424T103428
CREATED:20190426T201051Z
LAST-MODIFIED:20190426T201051Z
UID:10000326-1557252000-1557262800@oodk.org
SUMMARY:Trening LP
DESCRIPTION:
URL:https://oodk.org/aktivitet/trening-lp-18/
END:VEVENT
BEGIN:VEVENT
DTSTART;TZID=Europe/Oslo:20190507T180000
DTEND;TZID=Europe/Oslo:20190507T210000
DTSTAMP:20260424T103428
CREATED:20190426T203520Z
LAST-MODIFIED:20190426T203520Z
UID:10000585-1557252000-1557262800@oodk.org
SUMMARY:Trening agility nybegynnere
DESCRIPTION:
URL:https://oodk.org/aktivitet/trening-agility-nybegynnere/
END:VEVENT
BEGIN:VEVENT
DTSTART;TZID=Europe/Oslo:20190508T180000
DTEND;TZID=Europe/Oslo:20190508T210000
DTSTAMP:20260424T103428
CREATED:20190319T172338Z
LAST-MODIFIED:20190319T172338Z
UID:10000310-1557338400-1557349200@oodk.org
SUMMARY:Fellestrening rallylydighet
DESCRIPTION:
URL:https://oodk.org/aktivitet/fellestrening-rallylydighet-2/
END:VEVENT
BEGIN:VEVENT
DTSTART;TZID=Europe/Oslo:20190509T180000
DTEND;TZID=Europe/Oslo:20190509T210000
DTSTAMP:20260424T103428
CREATED:20190426T204524Z
LAST-MODIFIED:20190426T204524Z
UID:10000594-1557424800-1557435600@oodk.org
SUMMARY:Trening agility viderekomne
DESCRIPTION:
URL:https://oodk.org/aktivitet/trening-agility-viderekomne/
END:VEVENT
BEGIN:VEVENT
DTSTART;TZID=Europe/Oslo:20190509T180000
DTEND;TZID=Europe/Oslo:20190509T210000
DTSTAMP:20260424T103428
CREATED:20190520T093237Z
LAST-MODIFIED:20190520T093237Z
UID:10000359-1557424800-1557435600@oodk.org
SUMMARY:Trening skogsøvelser Bruks
DESCRIPTION:
URL:https://oodk.org/aktivitet/trening-skogsovelser-bruks-10/
LOCATION:Maridalen
END:VEVENT
BEGIN:VEVENT
DTSTART;VALUE=DATE:20190511
DTEND;VALUE=DATE:20190513
DTSTAMP:20260424T103428
CREATED:20190410T124823Z
LAST-MODIFIED:20190410T124823Z
UID:10000569-1557532800-1557705599@oodk.org
SUMMARY:Føringskurs Agility
DESCRIPTION:
URL:https://oodk.org/aktivitet/foringskurs-agility/
END:VEVENT
BEGIN:VEVENT
DTSTART;VALUE=DATE:20190511
DTEND;VALUE=DATE:20190513
DTSTAMP:20260424T103428
CREATED:20190426T193817Z
LAST-MODIFIED:20190426T193817Z
UID:10000573-1557532800-1557705599@oodk.org
SUMMARY:Brukslydighetskurs
DESCRIPTION:
URL:https://oodk.org/aktivitet/brukslydighetskurs/
END:VEVENT
BEGIN:VEVENT
DTSTART;TZID=Europe/Oslo:20190513T180000
DTEND;TZID=Europe/Oslo:20190513T210000
DTSTAMP:20260424T103428
CREATED:20190426T195311Z
LAST-MODIFIED:20190520T094629Z
UID:10000576-1557770400-1557781200@oodk.org
SUMMARY:CUP brukslydighet
DESCRIPTION:
URL:https://oodk.org/aktivitet/trening-brukslydighet-21/
END:VEVENT
BEGIN:VEVENT
DTSTART;TZID=Europe/Oslo:20190513T183000
DTEND;TZID=Europe/Oslo:20190513T201500
DTSTAMP:20260424T103428
CREATED:20190319T150712Z
LAST-MODIFIED:20190319T150712Z
UID:10000303-1557772200-1557778500@oodk.org
SUMMARY:Videregående kurs i rallylydighet
DESCRIPTION:
URL:https://oodk.org/aktivitet/videregaende-kurs-i-rallylydighet-3/
END:VEVENT
BEGIN:VEVENT
DTSTART;TZID=Europe/Oslo:20190514T180000
DTEND;TZID=Europe/Oslo:20190514T210000
DTSTAMP:20260424T103428
CREATED:20190426T201157Z
LAST-MODIFIED:20190426T201157Z
UID:10000328-1557856800-1557867600@oodk.org
SUMMARY:Trening LP
DESCRIPTION:
URL:https://oodk.org/aktivitet/trening-lp-19/
END:VEVENT
BEGIN:VEVENT
DTSTART;TZID=Europe/Oslo:20190514T180000
DTEND;TZID=Europe/Oslo:20190514T210000
DTSTAMP:20260424T103428
CREATED:20190426T203601Z
LAST-MODIFIED:20190426T203601Z
UID:10000586-1557856800-1557867600@oodk.org
SUMMARY:Trening agility nybegynnere
DESCRIPTION:
URL:https://oodk.org/aktivitet/trening-agility-nybegynnere-2/
END:VEVENT
BEGIN:VEVENT
DTSTART;TZID=Europe/Oslo:20190515T180000
DTEND;TZID=Europe/Oslo:20190515T210000
DTSTAMP:20260424T103428
CREATED:20190319T172426Z
LAST-MODIFIED:20190319T172426Z
UID:10000311-1557943200-1557954000@oodk.org
SUMMARY:Fellestrening rallylydighet
DESCRIPTION:
URL:https://oodk.org/aktivitet/fellestrening-rallylydighet-3/
END:VEVENT
BEGIN:VEVENT
DTSTART;TZID=Europe/Oslo:20190516T180000
DTEND;TZID=Europe/Oslo:20190516T210000
DTSTAMP:20260424T103428
CREATED:20190426T204601Z
LAST-MODIFIED:20190426T204601Z
UID:10000595-1558029600-1558040400@oodk.org
SUMMARY:Trening agility viderekomne
DESCRIPTION:
URL:https://oodk.org/aktivitet/trening-agility-viderekomne-2/
END:VEVENT
BEGIN:VEVENT
DTSTART;TZID=Europe/Oslo:20190516T180000
DTEND;TZID=Europe/Oslo:20190516T210000
DTSTAMP:20260424T103428
CREATED:20190520T094138Z
LAST-MODIFIED:20190520T094138Z
UID:10000361-1558029600-1558040400@oodk.org
SUMMARY:Trening skogsøvelser Bruks
DESCRIPTION:
URL:https://oodk.org/aktivitet/trening-skogsovelser-bruks-11/
LOCATION:Maridalen
END:VEVENT
BEGIN:VEVENT
DTSTART;TZID=Europe/Oslo:20190520T180000
DTEND;TZID=Europe/Oslo:20190520T210000
DTSTAMP:20260424T103428
CREATED:20190426T195357Z
LAST-MODIFIED:20190426T195357Z
UID:10000577-1558375200-1558386000@oodk.org
SUMMARY:Trening brukslydighet
DESCRIPTION:
URL:https://oodk.org/aktivitet/trening-brukslydighet-22/
END:VEVENT
BEGIN:VEVENT
DTSTART;TZID=Europe/Oslo:20190520T183000
DTEND;TZID=Europe/Oslo:20190520T201500
DTSTAMP:20260424T103428
CREATED:20190319T150814Z
LAST-MODIFIED:20190319T150814Z
UID:10000305-1558377000-1558383300@oodk.org
SUMMARY:Videregående kurs i rallylydighet
DESCRIPTION:
URL:https://oodk.org/aktivitet/videregaende-kurs-i-rallylydighet-4/
END:VEVENT
BEGIN:VEVENT
DTSTART;TZID=Europe/Oslo:20190521T180000
DTEND;TZID=Europe/Oslo:20190521T210000
DTSTAMP:20260424T103428
CREATED:20190426T201241Z
LAST-MODIFIED:20190426T201609Z
UID:10000331-1558461600-1558472400@oodk.org
SUMMARY:Trening LP
DESCRIPTION:
URL:https://oodk.org/aktivitet/trening-lp-20/
END:VEVENT
BEGIN:VEVENT
DTSTART;TZID=Europe/Oslo:20190521T180000
DTEND;TZID=Europe/Oslo:20190521T210000
DTSTAMP:20260424T103428
CREATED:20190426T203707Z
LAST-MODIFIED:20190426T203707Z
UID:10000587-1558461600-1558472400@oodk.org
SUMMARY:Trening agility nybegynnere
DESCRIPTION:
URL:https://oodk.org/aktivitet/trening-agility-nybegynnere-3/
END:VEVENT
BEGIN:VEVENT
DTSTART;TZID=Europe/Oslo:20190522T180000
DTEND;TZID=Europe/Oslo:20190522T210000
DTSTAMP:20260424T103428
CREATED:20190319T172504Z
LAST-MODIFIED:20190319T172504Z
UID:10000312-1558548000-1558558800@oodk.org
SUMMARY:Fellestrening rallylydighet
DESCRIPTION:
URL:https://oodk.org/aktivitet/fellestrening-rallylydighet-4/
END:VEVENT
BEGIN:VEVENT
DTSTART;TZID=Europe/Oslo:20190523T180000
DTEND;TZID=Europe/Oslo:20190523T210000
DTSTAMP:20260424T103428
CREATED:20190426T204637Z
LAST-MODIFIED:20190426T204637Z
UID:10000596-1558634400-1558645200@oodk.org
SUMMARY:Trening agility viderekomne
DESCRIPTION:
URL:https://oodk.org/aktivitet/trening-agility-viderekomne-3/
END:VEVENT
BEGIN:VEVENT
DTSTART;TZID=Europe/Oslo:20190523T180000
DTEND;TZID=Europe/Oslo:20190523T210000
DTSTAMP:20260424T103428
CREATED:20190520T091255Z
LAST-MODIFIED:20190520T091255Z
UID:10000601-1558634400-1558645200@oodk.org
SUMMARY:Trening skogsøvelser Bruks
DESCRIPTION:
URL:https://oodk.org/aktivitet/trening-skogsovelser-bruks/
LOCATION:Maridalen
END:VEVENT
BEGIN:VEVENT
DTSTART;TZID=Europe/Oslo:20190527T180000
DTEND;TZID=Europe/Oslo:20190527T201500
DTSTAMP:20260424T103428
CREATED:20190319T150900Z
LAST-MODIFIED:20190319T150900Z
UID:10000307-1558980000-1558988100@oodk.org
SUMMARY:Videregående kurs i rallylydighet
DESCRIPTION:
URL:https://oodk.org/aktivitet/videregaende-kurs-i-rallylydighet-5/
END:VEVENT
END:VCALENDAR