BEGIN:VCALENDAR
VERSION:2.0
PRODID:-//Oslo og Omegn Dressurklubb - ECPv6.15.20//NONSGML v1.0//EN
CALSCALE:GREGORIAN
METHOD:PUBLISH
X-WR-CALNAME:Oslo og Omegn Dressurklubb
X-ORIGINAL-URL:https://oodk.org
X-WR-CALDESC:Arrangement for Oslo og Omegn Dressurklubb
REFRESH-INTERVAL;VALUE=DURATION:PT1H
X-Robots-Tag:noindex
X-PUBLISHED-TTL:PT1H
BEGIN:VTIMEZONE
TZID:Europe/Oslo
BEGIN:DAYLIGHT
TZOFFSETFROM:+0100
TZOFFSETTO:+0200
TZNAME:CEST
DTSTART:19800406T010000
END:DAYLIGHT
BEGIN:STANDARD
TZOFFSETFROM:+0200
TZOFFSETTO:+0100
TZNAME:CET
DTSTART:19800928T010000
END:STANDARD
BEGIN:DAYLIGHT
TZOFFSETFROM:+0100
TZOFFSETTO:+0200
TZNAME:CEST
DTSTART:19810329T010000
END:DAYLIGHT
BEGIN:STANDARD
TZOFFSETFROM:+0200
TZOFFSETTO:+0100
TZNAME:CET
DTSTART:19810927T010000
END:STANDARD
BEGIN:DAYLIGHT
TZOFFSETFROM:+0100
TZOFFSETTO:+0200
TZNAME:CEST
DTSTART:19820328T010000
END:DAYLIGHT
BEGIN:STANDARD
TZOFFSETFROM:+0200
TZOFFSETTO:+0100
TZNAME:CET
DTSTART:19820926T010000
END:STANDARD
BEGIN:DAYLIGHT
TZOFFSETFROM:+0100
TZOFFSETTO:+0200
TZNAME:CEST
DTSTART:19830327T010000
END:DAYLIGHT
BEGIN:STANDARD
TZOFFSETFROM:+0200
TZOFFSETTO:+0100
TZNAME:CET
DTSTART:19830925T010000
END:STANDARD
BEGIN:DAYLIGHT
TZOFFSETFROM:+0100
TZOFFSETTO:+0200
TZNAME:CEST
DTSTART:19840325T010000
END:DAYLIGHT
BEGIN:STANDARD
TZOFFSETFROM:+0200
TZOFFSETTO:+0100
TZNAME:CET
DTSTART:19840930T010000
END:STANDARD
BEGIN:DAYLIGHT
TZOFFSETFROM:+0100
TZOFFSETTO:+0200
TZNAME:CEST
DTSTART:19850331T010000
END:DAYLIGHT
BEGIN:STANDARD
TZOFFSETFROM:+0200
TZOFFSETTO:+0100
TZNAME:CET
DTSTART:19850929T010000
END:STANDARD
BEGIN:DAYLIGHT
TZOFFSETFROM:+0100
TZOFFSETTO:+0200
TZNAME:CEST
DTSTART:19860330T010000
END:DAYLIGHT
BEGIN:STANDARD
TZOFFSETFROM:+0200
TZOFFSETTO:+0100
TZNAME:CET
DTSTART:19860928T010000
END:STANDARD
BEGIN:DAYLIGHT
TZOFFSETFROM:+0100
TZOFFSETTO:+0200
TZNAME:CEST
DTSTART:19870329T010000
END:DAYLIGHT
BEGIN:STANDARD
TZOFFSETFROM:+0200
TZOFFSETTO:+0100
TZNAME:CET
DTSTART:19870927T010000
END:STANDARD
BEGIN:DAYLIGHT
TZOFFSETFROM:+0100
TZOFFSETTO:+0200
TZNAME:CEST
DTSTART:19880327T010000
END:DAYLIGHT
BEGIN:STANDARD
TZOFFSETFROM:+0200
TZOFFSETTO:+0100
TZNAME:CET
DTSTART:19880925T010000
END:STANDARD
BEGIN:DAYLIGHT
TZOFFSETFROM:+0100
TZOFFSETTO:+0200
TZNAME:CEST
DTSTART:19890326T010000
END:DAYLIGHT
BEGIN:STANDARD
TZOFFSETFROM:+0200
TZOFFSETTO:+0100
TZNAME:CET
DTSTART:19890924T010000
END:STANDARD
BEGIN:DAYLIGHT
TZOFFSETFROM:+0100
TZOFFSETTO:+0200
TZNAME:CEST
DTSTART:19900325T010000
END:DAYLIGHT
BEGIN:STANDARD
TZOFFSETFROM:+0200
TZOFFSETTO:+0100
TZNAME:CET
DTSTART:19900930T010000
END:STANDARD
BEGIN:DAYLIGHT
TZOFFSETFROM:+0100
TZOFFSETTO:+0200
TZNAME:CEST
DTSTART:19910331T010000
END:DAYLIGHT
BEGIN:STANDARD
TZOFFSETFROM:+0200
TZOFFSETTO:+0100
TZNAME:CET
DTSTART:19910929T010000
END:STANDARD
BEGIN:DAYLIGHT
TZOFFSETFROM:+0100
TZOFFSETTO:+0200
TZNAME:CEST
DTSTART:19920329T010000
END:DAYLIGHT
BEGIN:STANDARD
TZOFFSETFROM:+0200
TZOFFSETTO:+0100
TZNAME:CET
DTSTART:19920927T010000
END:STANDARD
BEGIN:DAYLIGHT
TZOFFSETFROM:+0100
TZOFFSETTO:+0200
TZNAME:CEST
DTSTART:19930328T010000
END:DAYLIGHT
BEGIN:STANDARD
TZOFFSETFROM:+0200
TZOFFSETTO:+0100
TZNAME:CET
DTSTART:19930926T010000
END:STANDARD
BEGIN:DAYLIGHT
TZOFFSETFROM:+0100
TZOFFSETTO:+0200
TZNAME:CEST
DTSTART:19940327T010000
END:DAYLIGHT
BEGIN:STANDARD
TZOFFSETFROM:+0200
TZOFFSETTO:+0100
TZNAME:CET
DTSTART:19940925T010000
END:STANDARD
BEGIN:DAYLIGHT
TZOFFSETFROM:+0100
TZOFFSETTO:+0200
TZNAME:CEST
DTSTART:19950326T010000
END:DAYLIGHT
BEGIN:STANDARD
TZOFFSETFROM:+0200
TZOFFSETTO:+0100
TZNAME:CET
DTSTART:19950924T010000
END:STANDARD
BEGIN:DAYLIGHT
TZOFFSETFROM:+0100
TZOFFSETTO:+0200
TZNAME:CEST
DTSTART:19960331T010000
END:DAYLIGHT
BEGIN:STANDARD
TZOFFSETFROM:+0200
TZOFFSETTO:+0100
TZNAME:CET
DTSTART:19961027T010000
END:STANDARD
BEGIN:DAYLIGHT
TZOFFSETFROM:+0100
TZOFFSETTO:+0200
TZNAME:CEST
DTSTART:19970330T010000
END:DAYLIGHT
BEGIN:STANDARD
TZOFFSETFROM:+0200
TZOFFSETTO:+0100
TZNAME:CET
DTSTART:19971026T010000
END:STANDARD
BEGIN:DAYLIGHT
TZOFFSETFROM:+0100
TZOFFSETTO:+0200
TZNAME:CEST
DTSTART:19980329T010000
END:DAYLIGHT
BEGIN:STANDARD
TZOFFSETFROM:+0200
TZOFFSETTO:+0100
TZNAME:CET
DTSTART:19981025T010000
END:STANDARD
BEGIN:DAYLIGHT
TZOFFSETFROM:+0100
TZOFFSETTO:+0200
TZNAME:CEST
DTSTART:19990328T010000
END:DAYLIGHT
BEGIN:STANDARD
TZOFFSETFROM:+0200
TZOFFSETTO:+0100
TZNAME:CET
DTSTART:19991031T010000
END:STANDARD
BEGIN:DAYLIGHT
TZOFFSETFROM:+0100
TZOFFSETTO:+0200
TZNAME:CEST
DTSTART:20000326T010000
END:DAYLIGHT
BEGIN:STANDARD
TZOFFSETFROM:+0200
TZOFFSETTO:+0100
TZNAME:CET
DTSTART:20001029T010000
END:STANDARD
BEGIN:DAYLIGHT
TZOFFSETFROM:+0100
TZOFFSETTO:+0200
TZNAME:CEST
DTSTART:20010325T010000
END:DAYLIGHT
BEGIN:STANDARD
TZOFFSETFROM:+0200
TZOFFSETTO:+0100
TZNAME:CET
DTSTART:20011028T010000
END:STANDARD
BEGIN:DAYLIGHT
TZOFFSETFROM:+0100
TZOFFSETTO:+0200
TZNAME:CEST
DTSTART:20020331T010000
END:DAYLIGHT
BEGIN:STANDARD
TZOFFSETFROM:+0200
TZOFFSETTO:+0100
TZNAME:CET
DTSTART:20021027T010000
END:STANDARD
BEGIN:DAYLIGHT
TZOFFSETFROM:+0100
TZOFFSETTO:+0200
TZNAME:CEST
DTSTART:20030330T010000
END:DAYLIGHT
BEGIN:STANDARD
TZOFFSETFROM:+0200
TZOFFSETTO:+0100
TZNAME:CET
DTSTART:20031026T010000
END:STANDARD
BEGIN:DAYLIGHT
TZOFFSETFROM:+0100
TZOFFSETTO:+0200
TZNAME:CEST
DTSTART:20040328T010000
END:DAYLIGHT
BEGIN:STANDARD
TZOFFSETFROM:+0200
TZOFFSETTO:+0100
TZNAME:CET
DTSTART:20041031T010000
END:STANDARD
BEGIN:DAYLIGHT
TZOFFSETFROM:+0100
TZOFFSETTO:+0200
TZNAME:CEST
DTSTART:20050327T010000
END:DAYLIGHT
BEGIN:STANDARD
TZOFFSETFROM:+0200
TZOFFSETTO:+0100
TZNAME:CET
DTSTART:20051030T010000
END:STANDARD
BEGIN:DAYLIGHT
TZOFFSETFROM:+0100
TZOFFSETTO:+0200
TZNAME:CEST
DTSTART:20060326T010000
END:DAYLIGHT
BEGIN:STANDARD
TZOFFSETFROM:+0200
TZOFFSETTO:+0100
TZNAME:CET
DTSTART:20061029T010000
END:STANDARD
BEGIN:DAYLIGHT
TZOFFSETFROM:+0100
TZOFFSETTO:+0200
TZNAME:CEST
DTSTART:20070325T010000
END:DAYLIGHT
BEGIN:STANDARD
TZOFFSETFROM:+0200
TZOFFSETTO:+0100
TZNAME:CET
DTSTART:20071028T010000
END:STANDARD
BEGIN:DAYLIGHT
TZOFFSETFROM:+0100
TZOFFSETTO:+0200
TZNAME:CEST
DTSTART:20080330T010000
END:DAYLIGHT
BEGIN:STANDARD
TZOFFSETFROM:+0200
TZOFFSETTO:+0100
TZNAME:CET
DTSTART:20081026T010000
END:STANDARD
BEGIN:DAYLIGHT
TZOFFSETFROM:+0100
TZOFFSETTO:+0200
TZNAME:CEST
DTSTART:20090329T010000
END:DAYLIGHT
BEGIN:STANDARD
TZOFFSETFROM:+0200
TZOFFSETTO:+0100
TZNAME:CET
DTSTART:20091025T010000
END:STANDARD
BEGIN:DAYLIGHT
TZOFFSETFROM:+0100
TZOFFSETTO:+0200
TZNAME:CEST
DTSTART:20100328T010000
END:DAYLIGHT
BEGIN:STANDARD
TZOFFSETFROM:+0200
TZOFFSETTO:+0100
TZNAME:CET
DTSTART:20101031T010000
END:STANDARD
BEGIN:DAYLIGHT
TZOFFSETFROM:+0100
TZOFFSETTO:+0200
TZNAME:CEST
DTSTART:20110327T010000
END:DAYLIGHT
BEGIN:STANDARD
TZOFFSETFROM:+0200
TZOFFSETTO:+0100
TZNAME:CET
DTSTART:20111030T010000
END:STANDARD
BEGIN:DAYLIGHT
TZOFFSETFROM:+0100
TZOFFSETTO:+0200
TZNAME:CEST
DTSTART:20120325T010000
END:DAYLIGHT
BEGIN:STANDARD
TZOFFSETFROM:+0200
TZOFFSETTO:+0100
TZNAME:CET
DTSTART:20121028T010000
END:STANDARD
BEGIN:DAYLIGHT
TZOFFSETFROM:+0100
TZOFFSETTO:+0200
TZNAME:CEST
DTSTART:20130331T010000
END:DAYLIGHT
BEGIN:STANDARD
TZOFFSETFROM:+0200
TZOFFSETTO:+0100
TZNAME:CET
DTSTART:20131027T010000
END:STANDARD
BEGIN:DAYLIGHT
TZOFFSETFROM:+0100
TZOFFSETTO:+0200
TZNAME:CEST
DTSTART:20140330T010000
END:DAYLIGHT
BEGIN:STANDARD
TZOFFSETFROM:+0200
TZOFFSETTO:+0100
TZNAME:CET
DTSTART:20141026T010000
END:STANDARD
BEGIN:DAYLIGHT
TZOFFSETFROM:+0100
TZOFFSETTO:+0200
TZNAME:CEST
DTSTART:20150329T010000
END:DAYLIGHT
BEGIN:STANDARD
TZOFFSETFROM:+0200
TZOFFSETTO:+0100
TZNAME:CET
DTSTART:20151025T010000
END:STANDARD
BEGIN:DAYLIGHT
TZOFFSETFROM:+0100
TZOFFSETTO:+0200
TZNAME:CEST
DTSTART:20160327T010000
END:DAYLIGHT
BEGIN:STANDARD
TZOFFSETFROM:+0200
TZOFFSETTO:+0100
TZNAME:CET
DTSTART:20161030T010000
END:STANDARD
BEGIN:DAYLIGHT
TZOFFSETFROM:+0100
TZOFFSETTO:+0200
TZNAME:CEST
DTSTART:20170326T010000
END:DAYLIGHT
BEGIN:STANDARD
TZOFFSETFROM:+0200
TZOFFSETTO:+0100
TZNAME:CET
DTSTART:20171029T010000
END:STANDARD
BEGIN:DAYLIGHT
TZOFFSETFROM:+0100
TZOFFSETTO:+0200
TZNAME:CEST
DTSTART:20180325T010000
END:DAYLIGHT
BEGIN:STANDARD
TZOFFSETFROM:+0200
TZOFFSETTO:+0100
TZNAME:CET
DTSTART:20181028T010000
END:STANDARD
BEGIN:DAYLIGHT
TZOFFSETFROM:+0100
TZOFFSETTO:+0200
TZNAME:CEST
DTSTART:20190331T010000
END:DAYLIGHT
BEGIN:STANDARD
TZOFFSETFROM:+0200
TZOFFSETTO:+0100
TZNAME:CET
DTSTART:20191027T010000
END:STANDARD
BEGIN:DAYLIGHT
TZOFFSETFROM:+0100
TZOFFSETTO:+0200
TZNAME:CEST
DTSTART:20200329T010000
END:DAYLIGHT
BEGIN:STANDARD
TZOFFSETFROM:+0200
TZOFFSETTO:+0100
TZNAME:CET
DTSTART:20201025T010000
END:STANDARD
BEGIN:DAYLIGHT
TZOFFSETFROM:+0100
TZOFFSETTO:+0200
TZNAME:CEST
DTSTART:20210328T010000
END:DAYLIGHT
BEGIN:STANDARD
TZOFFSETFROM:+0200
TZOFFSETTO:+0100
TZNAME:CET
DTSTART:20211031T010000
END:STANDARD
BEGIN:DAYLIGHT
TZOFFSETFROM:+0100
TZOFFSETTO:+0200
TZNAME:CEST
DTSTART:20220327T010000
END:DAYLIGHT
BEGIN:STANDARD
TZOFFSETFROM:+0200
TZOFFSETTO:+0100
TZNAME:CET
DTSTART:20221030T010000
END:STANDARD
BEGIN:DAYLIGHT
TZOFFSETFROM:+0100
TZOFFSETTO:+0200
TZNAME:CEST
DTSTART:20230326T010000
END:DAYLIGHT
BEGIN:STANDARD
TZOFFSETFROM:+0200
TZOFFSETTO:+0100
TZNAME:CET
DTSTART:20231029T010000
END:STANDARD
BEGIN:DAYLIGHT
TZOFFSETFROM:+0100
TZOFFSETTO:+0200
TZNAME:CEST
DTSTART:20240331T010000
END:DAYLIGHT
BEGIN:STANDARD
TZOFFSETFROM:+0200
TZOFFSETTO:+0100
TZNAME:CET
DTSTART:20241027T010000
END:STANDARD
END:VTIMEZONE
BEGIN:VEVENT
DTSTART;TZID=Europe/Oslo:20260422T203158
DTEND;TZID=Europe/Oslo:20230424T200000
DTSTAMP:20260422T203158
CREATED:20230323T110932Z
LAST-MODIFIED:20230323T110932Z
UID:10000745-0-1682366400@oodk.org
SUMMARY:Rally: Konkurransekurs klasse 3 og elite
DESCRIPTION:
URL:https://oodk.org/aktivitet/rally-konkurransekurs-klasse-3-og-elite-2/
LOCATION:Brekke\, midtre plan
END:VEVENT
BEGIN:VEVENT
DTSTART;TZID=Europe/Oslo:20190603T180000
DTEND;TZID=Europe/Oslo:20190603T210000
DTSTAMP:20260422T203158
CREATED:20190426T195632Z
LAST-MODIFIED:20190426T195632Z
UID:10000579-1559584800-1559595600@oodk.org
SUMMARY:Trening brukslydighet
DESCRIPTION:
URL:https://oodk.org/aktivitet/trening-brukslydighet-24/
END:VEVENT
BEGIN:VEVENT
DTSTART;TZID=Europe/Oslo:20190603T183000
DTEND;TZID=Europe/Oslo:20190603T201500
DTSTAMP:20260422T203158
CREATED:20190319T150941Z
LAST-MODIFIED:20190319T150941Z
UID:10000309-1559586600-1559592900@oodk.org
SUMMARY:Videregående kurs i rallylydighet
DESCRIPTION:
URL:https://oodk.org/aktivitet/videregaende-kurs-i-rallylydighet-6/
END:VEVENT
BEGIN:VEVENT
DTSTART;TZID=Europe/Oslo:20190604T180000
DTEND;TZID=Europe/Oslo:20190604T210000
DTSTAMP:20260422T203158
CREATED:20190426T201736Z
LAST-MODIFIED:20190426T201736Z
UID:10000335-1559671200-1559682000@oodk.org
SUMMARY:Trening LP
DESCRIPTION:
URL:https://oodk.org/aktivitet/trening-lp-22/
END:VEVENT
BEGIN:VEVENT
DTSTART;TZID=Europe/Oslo:20190604T180000
DTEND;TZID=Europe/Oslo:20190604T210000
DTSTAMP:20260422T203158
CREATED:20190426T203942Z
LAST-MODIFIED:20190426T203942Z
UID:10000589-1559671200-1559682000@oodk.org
SUMMARY:Trening agility nybegynnere
DESCRIPTION:
URL:https://oodk.org/aktivitet/trening-agility-nybegynnere-5/
END:VEVENT
BEGIN:VEVENT
DTSTART;TZID=Europe/Oslo:20190605T180000
DTEND;TZID=Europe/Oslo:20190605T210000
DTSTAMP:20260422T203158
CREATED:20190319T172627Z
LAST-MODIFIED:20190319T172627Z
UID:10000314-1559757600-1559768400@oodk.org
SUMMARY:Fellestrening rallylydighet
DESCRIPTION:
URL:https://oodk.org/aktivitet/fellestrening-rallylydighet-6/
END:VEVENT
BEGIN:VEVENT
DTSTART;TZID=Europe/Oslo:20190606T180000
DTEND;TZID=Europe/Oslo:20190606T210000
DTSTAMP:20260422T203158
CREATED:20190426T204857Z
LAST-MODIFIED:20190426T204857Z
UID:10000598-1559844000-1559854800@oodk.org
SUMMARY:Trening agility viderekomne
DESCRIPTION:
URL:https://oodk.org/aktivitet/trening-agility-viderekomne-5/
END:VEVENT
BEGIN:VEVENT
DTSTART;TZID=Europe/Oslo:20190606T180000
DTEND;TZID=Europe/Oslo:20190606T210000
DTSTAMP:20260422T203158
CREATED:20190520T091558Z
LAST-MODIFIED:20190520T092147Z
UID:10000604-1559844000-1559854800@oodk.org
SUMMARY:CUP skogsøvelser Bruks
DESCRIPTION:
URL:https://oodk.org/aktivitet/trening-skogsovelser-bruks-3/
LOCATION:Maridalen
END:VEVENT
BEGIN:VEVENT
DTSTART;TZID=Europe/Oslo:20190608T080000
DTEND;TZID=Europe/Oslo:20190608T160000
DTSTAMP:20260422T203158
CREATED:20190110T024017Z
LAST-MODIFIED:20190110T024307Z
UID:10000556-1559980800-1560009600@oodk.org
SUMMARY:Bruksstevne NBF\, Rundering kl C/D
DESCRIPTION:Skogsøvelser i Maridalen fra ca kl. 08.00. Brukslydighet på Brekke fra ca kl. 10.00
URL:https://oodk.org/aktivitet/bruksstevne-nbf-rundering-kl-cd-2/
END:VEVENT
BEGIN:VEVENT
DTSTART;TZID=Europe/Oslo:20190610T180000
DTEND;TZID=Europe/Oslo:20190610T210000
DTSTAMP:20260422T203158
CREATED:20190410T124436Z
LAST-MODIFIED:20190410T124436Z
UID:10000567-1560189600-1560200400@oodk.org
SUMMARY:Blåbærkonkuranse Agility
DESCRIPTION:
URL:https://oodk.org/aktivitet/blabaerkonkuranse-agility/
END:VEVENT
BEGIN:VEVENT
DTSTART;TZID=Europe/Oslo:20190610T180000
DTEND;TZID=Europe/Oslo:20190610T210000
DTSTAMP:20260422T203158
CREATED:20190426T195715Z
LAST-MODIFIED:20190426T195715Z
UID:10000580-1560189600-1560200400@oodk.org
SUMMARY:Trening brukslydighet
DESCRIPTION:
URL:https://oodk.org/aktivitet/trening-brukslydighet-25/
END:VEVENT
BEGIN:VEVENT
DTSTART;TZID=Europe/Oslo:20190611T180000
DTEND;TZID=Europe/Oslo:20190611T210000
DTSTAMP:20260422T203158
CREATED:20190426T201838Z
LAST-MODIFIED:20190426T201838Z
UID:10000337-1560276000-1560286800@oodk.org
SUMMARY:Trening LP
DESCRIPTION:
URL:https://oodk.org/aktivitet/trening-lp-23/
END:VEVENT
BEGIN:VEVENT
DTSTART;TZID=Europe/Oslo:20190611T180000
DTEND;TZID=Europe/Oslo:20190611T210000
DTSTAMP:20260422T203158
CREATED:20190426T204038Z
LAST-MODIFIED:20190426T204038Z
UID:10000590-1560276000-1560286800@oodk.org
SUMMARY:Trening agility nybegynnere
DESCRIPTION:
URL:https://oodk.org/aktivitet/trening-agility-nybegynnere-6/
END:VEVENT
BEGIN:VEVENT
DTSTART;TZID=Europe/Oslo:20190612T180000
DTEND;TZID=Europe/Oslo:20190612T220000
DTSTAMP:20260422T203158
CREATED:20190319T150106Z
LAST-MODIFIED:20190319T150106Z
UID:10000558-1560362400-1560376800@oodk.org
SUMMARY:Klubbmesterskap i rallylydighet
DESCRIPTION:
URL:https://oodk.org/aktivitet/klubbmesterskap-i-rallylydighet-2/
END:VEVENT
BEGIN:VEVENT
DTSTART;TZID=Europe/Oslo:20190613T180000
DTEND;TZID=Europe/Oslo:20190613T210000
DTSTAMP:20260422T203158
CREATED:20190426T204938Z
LAST-MODIFIED:20190426T204938Z
UID:10000599-1560448800-1560459600@oodk.org
SUMMARY:Trening agility viderekomne
DESCRIPTION:
URL:https://oodk.org/aktivitet/trening-agility-viderekomne-6/
END:VEVENT
BEGIN:VEVENT
DTSTART;TZID=Europe/Oslo:20190613T180000
DTEND;TZID=Europe/Oslo:20190613T210000
DTSTAMP:20260422T203158
CREATED:20190520T091732Z
LAST-MODIFIED:20190520T091732Z
UID:10000605-1560448800-1560459600@oodk.org
SUMMARY:Trening skogsøvelser Bruks
DESCRIPTION:
URL:https://oodk.org/aktivitet/trening-skogsovelser-bruks-4/
LOCATION:Maridalen
END:VEVENT
BEGIN:VEVENT
DTSTART;VALUE=DATE:20190616
DTEND;VALUE=DATE:20190617
DTSTAMP:20260422T203158
CREATED:20190520T094948Z
LAST-MODIFIED:20190520T094948Z
UID:10000363-1560643200-1560729599@oodk.org
SUMMARY:Skogssamling Bruks
DESCRIPTION:
URL:https://oodk.org/aktivitet/skogssamling-bruks/
LOCATION:Maridalen
END:VEVENT
BEGIN:VEVENT
DTSTART;TZID=Europe/Oslo:20190617T180000
DTEND;TZID=Europe/Oslo:20190617T210000
DTSTAMP:20260422T203158
CREATED:20190426T195807Z
LAST-MODIFIED:20190520T094731Z
UID:10000581-1560794400-1560805200@oodk.org
SUMMARY:CUP brukslydighet
DESCRIPTION:
URL:https://oodk.org/aktivitet/trening-brukslydighet-26/
END:VEVENT
BEGIN:VEVENT
DTSTART;TZID=Europe/Oslo:20190618T180000
DTEND;TZID=Europe/Oslo:20190618T210000
DTSTAMP:20260422T203158
CREATED:20190410T125010Z
LAST-MODIFIED:20190410T125010Z
UID:10000570-1560880800-1560891600@oodk.org
SUMMARY:Klubbmesterskap Agility
DESCRIPTION:
URL:https://oodk.org/aktivitet/klubbmesterskap-agility/
END:VEVENT
BEGIN:VEVENT
DTSTART;TZID=Europe/Oslo:20190618T180000
DTEND;TZID=Europe/Oslo:20190618T210000
DTSTAMP:20260422T203158
CREATED:20190426T201939Z
LAST-MODIFIED:20190426T201939Z
UID:10000338-1560880800-1560891600@oodk.org
SUMMARY:Trening LP
DESCRIPTION:
URL:https://oodk.org/aktivitet/trening-lp-24/
END:VEVENT
BEGIN:VEVENT
DTSTART;TZID=Europe/Oslo:20190618T180000
DTEND;TZID=Europe/Oslo:20190618T210000
DTSTAMP:20260422T203158
CREATED:20190426T204121Z
LAST-MODIFIED:20190426T204121Z
UID:10000591-1560880800-1560891600@oodk.org
SUMMARY:Trening agility nybegynnere
DESCRIPTION:
URL:https://oodk.org/aktivitet/trening-agility-nybegynnere-7/
END:VEVENT
BEGIN:VEVENT
DTSTART;TZID=Europe/Oslo:20190619T180000
DTEND;TZID=Europe/Oslo:20190619T210000
DTSTAMP:20260422T203158
CREATED:20190319T172724Z
LAST-MODIFIED:20190319T172724Z
UID:10000316-1560967200-1560978000@oodk.org
SUMMARY:Fellestrening rallylydighet
DESCRIPTION:
URL:https://oodk.org/aktivitet/fellestrening-rallylydighet-7/
END:VEVENT
BEGIN:VEVENT
DTSTART;TZID=Europe/Oslo:20190620T180000
DTEND;TZID=Europe/Oslo:20190620T210000
DTSTAMP:20260422T203158
CREATED:20190426T205016Z
LAST-MODIFIED:20190426T205016Z
UID:10000600-1561053600-1561064400@oodk.org
SUMMARY:Trening agility viderekomne
DESCRIPTION:
URL:https://oodk.org/aktivitet/trening-agility-viderekomne-7/
END:VEVENT
BEGIN:VEVENT
DTSTART;TZID=Europe/Oslo:20190620T180000
DTEND;TZID=Europe/Oslo:20190620T210000
DTSTAMP:20260422T203158
CREATED:20190520T091827Z
LAST-MODIFIED:20190520T091827Z
UID:10000346-1561053600-1561064400@oodk.org
SUMMARY:Trening skogsøvelser Bruks
DESCRIPTION:
URL:https://oodk.org/aktivitet/trening-skogsovelser-bruks-5/
LOCATION:Maridalen
END:VEVENT
BEGIN:VEVENT
DTSTART;TZID=Europe/Oslo:20190624T180000
DTEND;TZID=Europe/Oslo:20190624T210000
DTSTAMP:20260422T203158
CREATED:20190426T195851Z
LAST-MODIFIED:20190426T195851Z
UID:10000582-1561399200-1561410000@oodk.org
SUMMARY:Trening brukslydighet
DESCRIPTION:
URL:https://oodk.org/aktivitet/trening-brukslydighet-27/
END:VEVENT
BEGIN:VEVENT
DTSTART;TZID=Europe/Oslo:20190625T180000
DTEND;TZID=Europe/Oslo:20190625T210000
DTSTAMP:20260422T203158
CREATED:20190426T202021Z
LAST-MODIFIED:20190520T111013Z
UID:10000340-1561485600-1561496400@oodk.org
SUMMARY:Klubbmesterskap LP
DESCRIPTION:
URL:https://oodk.org/aktivitet/trening-lp-25/
END:VEVENT
BEGIN:VEVENT
DTSTART;TZID=Europe/Oslo:20190625T180000
DTEND;TZID=Europe/Oslo:20190625T210000
DTSTAMP:20260422T203158
CREATED:20190426T204204Z
LAST-MODIFIED:20190426T204204Z
UID:10000592-1561485600-1561496400@oodk.org
SUMMARY:Trening agility nybegynnere
DESCRIPTION:
URL:https://oodk.org/aktivitet/trening-agility-nybegynnere-8/
END:VEVENT
BEGIN:VEVENT
DTSTART;TZID=Europe/Oslo:20190626T180000
DTEND;TZID=Europe/Oslo:20190626T210000
DTSTAMP:20260422T203158
CREATED:20190426T202635Z
LAST-MODIFIED:20190426T202635Z
UID:10000583-1561572000-1561582800@oodk.org
SUMMARY:Trening rallylydighet
DESCRIPTION:
URL:https://oodk.org/aktivitet/trening-rallylydighet-10/
END:VEVENT
BEGIN:VEVENT
DTSTART;TZID=Europe/Oslo:20190627T180000
DTEND;TZID=Europe/Oslo:20190627T210000
DTSTAMP:20260422T203158
CREATED:20190426T205055Z
LAST-MODIFIED:20190426T205055Z
UID:10000602-1561658400-1561669200@oodk.org
SUMMARY:Trening agility viderekomne
DESCRIPTION:
URL:https://oodk.org/aktivitet/trening-agility-viderekomne-8/
END:VEVENT
BEGIN:VEVENT
DTSTART;TZID=Europe/Oslo:20190627T180000
DTEND;TZID=Europe/Oslo:20190627T210000
DTSTAMP:20260422T203158
CREATED:20190520T091908Z
LAST-MODIFIED:20190520T091908Z
UID:10000348-1561658400-1561669200@oodk.org
SUMMARY:Trening skogsøvelser Bruks
DESCRIPTION:
URL:https://oodk.org/aktivitet/trening-skogsovelser-bruks-6/
LOCATION:Maridalen
END:VEVENT
END:VCALENDAR