BEGIN:VCALENDAR
VERSION:2.0
PRODID:-//Oslo og Omegn Dressurklubb - ECPv6.15.20//NONSGML v1.0//EN
CALSCALE:GREGORIAN
METHOD:PUBLISH
X-ORIGINAL-URL:https://oodk.org
X-WR-CALDESC:Arrangement for Oslo og Omegn Dressurklubb
REFRESH-INTERVAL;VALUE=DURATION:PT1H
X-Robots-Tag:noindex
X-PUBLISHED-TTL:PT1H
BEGIN:VTIMEZONE
TZID:Europe/Oslo
BEGIN:DAYLIGHT
TZOFFSETFROM:+0100
TZOFFSETTO:+0200
TZNAME:CEST
DTSTART:19800406T010000
END:DAYLIGHT
BEGIN:STANDARD
TZOFFSETFROM:+0200
TZOFFSETTO:+0100
TZNAME:CET
DTSTART:19800928T010000
END:STANDARD
BEGIN:DAYLIGHT
TZOFFSETFROM:+0100
TZOFFSETTO:+0200
TZNAME:CEST
DTSTART:19810329T010000
END:DAYLIGHT
BEGIN:STANDARD
TZOFFSETFROM:+0200
TZOFFSETTO:+0100
TZNAME:CET
DTSTART:19810927T010000
END:STANDARD
BEGIN:DAYLIGHT
TZOFFSETFROM:+0100
TZOFFSETTO:+0200
TZNAME:CEST
DTSTART:19820328T010000
END:DAYLIGHT
BEGIN:STANDARD
TZOFFSETFROM:+0200
TZOFFSETTO:+0100
TZNAME:CET
DTSTART:19820926T010000
END:STANDARD
BEGIN:DAYLIGHT
TZOFFSETFROM:+0100
TZOFFSETTO:+0200
TZNAME:CEST
DTSTART:19830327T010000
END:DAYLIGHT
BEGIN:STANDARD
TZOFFSETFROM:+0200
TZOFFSETTO:+0100
TZNAME:CET
DTSTART:19830925T010000
END:STANDARD
BEGIN:DAYLIGHT
TZOFFSETFROM:+0100
TZOFFSETTO:+0200
TZNAME:CEST
DTSTART:19840325T010000
END:DAYLIGHT
BEGIN:STANDARD
TZOFFSETFROM:+0200
TZOFFSETTO:+0100
TZNAME:CET
DTSTART:19840930T010000
END:STANDARD
BEGIN:DAYLIGHT
TZOFFSETFROM:+0100
TZOFFSETTO:+0200
TZNAME:CEST
DTSTART:19850331T010000
END:DAYLIGHT
BEGIN:STANDARD
TZOFFSETFROM:+0200
TZOFFSETTO:+0100
TZNAME:CET
DTSTART:19850929T010000
END:STANDARD
BEGIN:DAYLIGHT
TZOFFSETFROM:+0100
TZOFFSETTO:+0200
TZNAME:CEST
DTSTART:19860330T010000
END:DAYLIGHT
BEGIN:STANDARD
TZOFFSETFROM:+0200
TZOFFSETTO:+0100
TZNAME:CET
DTSTART:19860928T010000
END:STANDARD
BEGIN:DAYLIGHT
TZOFFSETFROM:+0100
TZOFFSETTO:+0200
TZNAME:CEST
DTSTART:19870329T010000
END:DAYLIGHT
BEGIN:STANDARD
TZOFFSETFROM:+0200
TZOFFSETTO:+0100
TZNAME:CET
DTSTART:19870927T010000
END:STANDARD
BEGIN:DAYLIGHT
TZOFFSETFROM:+0100
TZOFFSETTO:+0200
TZNAME:CEST
DTSTART:19880327T010000
END:DAYLIGHT
BEGIN:STANDARD
TZOFFSETFROM:+0200
TZOFFSETTO:+0100
TZNAME:CET
DTSTART:19880925T010000
END:STANDARD
BEGIN:DAYLIGHT
TZOFFSETFROM:+0100
TZOFFSETTO:+0200
TZNAME:CEST
DTSTART:19890326T010000
END:DAYLIGHT
BEGIN:STANDARD
TZOFFSETFROM:+0200
TZOFFSETTO:+0100
TZNAME:CET
DTSTART:19890924T010000
END:STANDARD
BEGIN:DAYLIGHT
TZOFFSETFROM:+0100
TZOFFSETTO:+0200
TZNAME:CEST
DTSTART:19900325T010000
END:DAYLIGHT
BEGIN:STANDARD
TZOFFSETFROM:+0200
TZOFFSETTO:+0100
TZNAME:CET
DTSTART:19900930T010000
END:STANDARD
BEGIN:DAYLIGHT
TZOFFSETFROM:+0100
TZOFFSETTO:+0200
TZNAME:CEST
DTSTART:19910331T010000
END:DAYLIGHT
BEGIN:STANDARD
TZOFFSETFROM:+0200
TZOFFSETTO:+0100
TZNAME:CET
DTSTART:19910929T010000
END:STANDARD
BEGIN:DAYLIGHT
TZOFFSETFROM:+0100
TZOFFSETTO:+0200
TZNAME:CEST
DTSTART:19920329T010000
END:DAYLIGHT
BEGIN:STANDARD
TZOFFSETFROM:+0200
TZOFFSETTO:+0100
TZNAME:CET
DTSTART:19920927T010000
END:STANDARD
BEGIN:DAYLIGHT
TZOFFSETFROM:+0100
TZOFFSETTO:+0200
TZNAME:CEST
DTSTART:19930328T010000
END:DAYLIGHT
BEGIN:STANDARD
TZOFFSETFROM:+0200
TZOFFSETTO:+0100
TZNAME:CET
DTSTART:19930926T010000
END:STANDARD
BEGIN:DAYLIGHT
TZOFFSETFROM:+0100
TZOFFSETTO:+0200
TZNAME:CEST
DTSTART:19940327T010000
END:DAYLIGHT
BEGIN:STANDARD
TZOFFSETFROM:+0200
TZOFFSETTO:+0100
TZNAME:CET
DTSTART:19940925T010000
END:STANDARD
BEGIN:DAYLIGHT
TZOFFSETFROM:+0100
TZOFFSETTO:+0200
TZNAME:CEST
DTSTART:19950326T010000
END:DAYLIGHT
BEGIN:STANDARD
TZOFFSETFROM:+0200
TZOFFSETTO:+0100
TZNAME:CET
DTSTART:19950924T010000
END:STANDARD
BEGIN:DAYLIGHT
TZOFFSETFROM:+0100
TZOFFSETTO:+0200
TZNAME:CEST
DTSTART:19960331T010000
END:DAYLIGHT
BEGIN:STANDARD
TZOFFSETFROM:+0200
TZOFFSETTO:+0100
TZNAME:CET
DTSTART:19961027T010000
END:STANDARD
BEGIN:DAYLIGHT
TZOFFSETFROM:+0100
TZOFFSETTO:+0200
TZNAME:CEST
DTSTART:19970330T010000
END:DAYLIGHT
BEGIN:STANDARD
TZOFFSETFROM:+0200
TZOFFSETTO:+0100
TZNAME:CET
DTSTART:19971026T010000
END:STANDARD
BEGIN:DAYLIGHT
TZOFFSETFROM:+0100
TZOFFSETTO:+0200
TZNAME:CEST
DTSTART:19980329T010000
END:DAYLIGHT
BEGIN:STANDARD
TZOFFSETFROM:+0200
TZOFFSETTO:+0100
TZNAME:CET
DTSTART:19981025T010000
END:STANDARD
BEGIN:DAYLIGHT
TZOFFSETFROM:+0100
TZOFFSETTO:+0200
TZNAME:CEST
DTSTART:19990328T010000
END:DAYLIGHT
BEGIN:STANDARD
TZOFFSETFROM:+0200
TZOFFSETTO:+0100
TZNAME:CET
DTSTART:19991031T010000
END:STANDARD
BEGIN:DAYLIGHT
TZOFFSETFROM:+0100
TZOFFSETTO:+0200
TZNAME:CEST
DTSTART:20000326T010000
END:DAYLIGHT
BEGIN:STANDARD
TZOFFSETFROM:+0200
TZOFFSETTO:+0100
TZNAME:CET
DTSTART:20001029T010000
END:STANDARD
BEGIN:DAYLIGHT
TZOFFSETFROM:+0100
TZOFFSETTO:+0200
TZNAME:CEST
DTSTART:20010325T010000
END:DAYLIGHT
BEGIN:STANDARD
TZOFFSETFROM:+0200
TZOFFSETTO:+0100
TZNAME:CET
DTSTART:20011028T010000
END:STANDARD
BEGIN:DAYLIGHT
TZOFFSETFROM:+0100
TZOFFSETTO:+0200
TZNAME:CEST
DTSTART:20020331T010000
END:DAYLIGHT
BEGIN:STANDARD
TZOFFSETFROM:+0200
TZOFFSETTO:+0100
TZNAME:CET
DTSTART:20021027T010000
END:STANDARD
BEGIN:DAYLIGHT
TZOFFSETFROM:+0100
TZOFFSETTO:+0200
TZNAME:CEST
DTSTART:20030330T010000
END:DAYLIGHT
BEGIN:STANDARD
TZOFFSETFROM:+0200
TZOFFSETTO:+0100
TZNAME:CET
DTSTART:20031026T010000
END:STANDARD
BEGIN:DAYLIGHT
TZOFFSETFROM:+0100
TZOFFSETTO:+0200
TZNAME:CEST
DTSTART:20040328T010000
END:DAYLIGHT
BEGIN:STANDARD
TZOFFSETFROM:+0200
TZOFFSETTO:+0100
TZNAME:CET
DTSTART:20041031T010000
END:STANDARD
BEGIN:DAYLIGHT
TZOFFSETFROM:+0100
TZOFFSETTO:+0200
TZNAME:CEST
DTSTART:20050327T010000
END:DAYLIGHT
BEGIN:STANDARD
TZOFFSETFROM:+0200
TZOFFSETTO:+0100
TZNAME:CET
DTSTART:20051030T010000
END:STANDARD
BEGIN:DAYLIGHT
TZOFFSETFROM:+0100
TZOFFSETTO:+0200
TZNAME:CEST
DTSTART:20060326T010000
END:DAYLIGHT
BEGIN:STANDARD
TZOFFSETFROM:+0200
TZOFFSETTO:+0100
TZNAME:CET
DTSTART:20061029T010000
END:STANDARD
BEGIN:DAYLIGHT
TZOFFSETFROM:+0100
TZOFFSETTO:+0200
TZNAME:CEST
DTSTART:20070325T010000
END:DAYLIGHT
BEGIN:STANDARD
TZOFFSETFROM:+0200
TZOFFSETTO:+0100
TZNAME:CET
DTSTART:20071028T010000
END:STANDARD
BEGIN:DAYLIGHT
TZOFFSETFROM:+0100
TZOFFSETTO:+0200
TZNAME:CEST
DTSTART:20080330T010000
END:DAYLIGHT
BEGIN:STANDARD
TZOFFSETFROM:+0200
TZOFFSETTO:+0100
TZNAME:CET
DTSTART:20081026T010000
END:STANDARD
BEGIN:DAYLIGHT
TZOFFSETFROM:+0100
TZOFFSETTO:+0200
TZNAME:CEST
DTSTART:20090329T010000
END:DAYLIGHT
BEGIN:STANDARD
TZOFFSETFROM:+0200
TZOFFSETTO:+0100
TZNAME:CET
DTSTART:20091025T010000
END:STANDARD
BEGIN:DAYLIGHT
TZOFFSETFROM:+0100
TZOFFSETTO:+0200
TZNAME:CEST
DTSTART:20100328T010000
END:DAYLIGHT
BEGIN:STANDARD
TZOFFSETFROM:+0200
TZOFFSETTO:+0100
TZNAME:CET
DTSTART:20101031T010000
END:STANDARD
BEGIN:DAYLIGHT
TZOFFSETFROM:+0100
TZOFFSETTO:+0200
TZNAME:CEST
DTSTART:20110327T010000
END:DAYLIGHT
BEGIN:STANDARD
TZOFFSETFROM:+0200
TZOFFSETTO:+0100
TZNAME:CET
DTSTART:20111030T010000
END:STANDARD
BEGIN:DAYLIGHT
TZOFFSETFROM:+0100
TZOFFSETTO:+0200
TZNAME:CEST
DTSTART:20120325T010000
END:DAYLIGHT
BEGIN:STANDARD
TZOFFSETFROM:+0200
TZOFFSETTO:+0100
TZNAME:CET
DTSTART:20121028T010000
END:STANDARD
BEGIN:DAYLIGHT
TZOFFSETFROM:+0100
TZOFFSETTO:+0200
TZNAME:CEST
DTSTART:20130331T010000
END:DAYLIGHT
BEGIN:STANDARD
TZOFFSETFROM:+0200
TZOFFSETTO:+0100
TZNAME:CET
DTSTART:20131027T010000
END:STANDARD
BEGIN:DAYLIGHT
TZOFFSETFROM:+0100
TZOFFSETTO:+0200
TZNAME:CEST
DTSTART:20140330T010000
END:DAYLIGHT
BEGIN:STANDARD
TZOFFSETFROM:+0200
TZOFFSETTO:+0100
TZNAME:CET
DTSTART:20141026T010000
END:STANDARD
BEGIN:DAYLIGHT
TZOFFSETFROM:+0100
TZOFFSETTO:+0200
TZNAME:CEST
DTSTART:20150329T010000
END:DAYLIGHT
BEGIN:STANDARD
TZOFFSETFROM:+0200
TZOFFSETTO:+0100
TZNAME:CET
DTSTART:20151025T010000
END:STANDARD
BEGIN:DAYLIGHT
TZOFFSETFROM:+0100
TZOFFSETTO:+0200
TZNAME:CEST
DTSTART:20160327T010000
END:DAYLIGHT
BEGIN:STANDARD
TZOFFSETFROM:+0200
TZOFFSETTO:+0100
TZNAME:CET
DTSTART:20161030T010000
END:STANDARD
BEGIN:DAYLIGHT
TZOFFSETFROM:+0100
TZOFFSETTO:+0200
TZNAME:CEST
DTSTART:20170326T010000
END:DAYLIGHT
BEGIN:STANDARD
TZOFFSETFROM:+0200
TZOFFSETTO:+0100
TZNAME:CET
DTSTART:20171029T010000
END:STANDARD
BEGIN:DAYLIGHT
TZOFFSETFROM:+0100
TZOFFSETTO:+0200
TZNAME:CEST
DTSTART:20180325T010000
END:DAYLIGHT
BEGIN:STANDARD
TZOFFSETFROM:+0200
TZOFFSETTO:+0100
TZNAME:CET
DTSTART:20181028T010000
END:STANDARD
BEGIN:DAYLIGHT
TZOFFSETFROM:+0100
TZOFFSETTO:+0200
TZNAME:CEST
DTSTART:20190331T010000
END:DAYLIGHT
BEGIN:STANDARD
TZOFFSETFROM:+0200
TZOFFSETTO:+0100
TZNAME:CET
DTSTART:20191027T010000
END:STANDARD
BEGIN:DAYLIGHT
TZOFFSETFROM:+0100
TZOFFSETTO:+0200
TZNAME:CEST
DTSTART:20200329T010000
END:DAYLIGHT
BEGIN:STANDARD
TZOFFSETFROM:+0200
TZOFFSETTO:+0100
TZNAME:CET
DTSTART:20201025T010000
END:STANDARD
BEGIN:DAYLIGHT
TZOFFSETFROM:+0100
TZOFFSETTO:+0200
TZNAME:CEST
DTSTART:20210328T010000
END:DAYLIGHT
BEGIN:STANDARD
TZOFFSETFROM:+0200
TZOFFSETTO:+0100
TZNAME:CET
DTSTART:20211031T010000
END:STANDARD
BEGIN:DAYLIGHT
TZOFFSETFROM:+0100
TZOFFSETTO:+0200
TZNAME:CEST
DTSTART:20220327T010000
END:DAYLIGHT
BEGIN:STANDARD
TZOFFSETFROM:+0200
TZOFFSETTO:+0100
TZNAME:CET
DTSTART:20221030T010000
END:STANDARD
BEGIN:DAYLIGHT
TZOFFSETFROM:+0100
TZOFFSETTO:+0200
TZNAME:CEST
DTSTART:20230326T010000
END:DAYLIGHT
BEGIN:STANDARD
TZOFFSETFROM:+0200
TZOFFSETTO:+0100
TZNAME:CET
DTSTART:20231029T010000
END:STANDARD
BEGIN:DAYLIGHT
TZOFFSETFROM:+0100
TZOFFSETTO:+0200
TZNAME:CEST
DTSTART:20240331T010000
END:DAYLIGHT
BEGIN:STANDARD
TZOFFSETFROM:+0200
TZOFFSETTO:+0100
TZNAME:CET
DTSTART:20241027T010000
END:STANDARD
END:VTIMEZONE
BEGIN:VEVENT
DTSTART;TZID=Europe/Oslo:20260422T140819
DTEND;TZID=Europe/Oslo:20230424T200000
DTSTAMP:20260422T140819
CREATED:20230323T110932Z
LAST-MODIFIED:20230323T110932Z
UID:10000745-0-1682366400@oodk.org
SUMMARY:Rally: Konkurransekurs klasse 3 og elite
DESCRIPTION:
URL:https://oodk.org/aktivitet/rally-konkurransekurs-klasse-3-og-elite-2/
LOCATION:Brekke\, midtre plan
END:VEVENT
BEGIN:VEVENT
DTSTART;TZID=Europe/Oslo:20191001T180000
DTEND;TZID=Europe/Oslo:20191001T210000
DTSTAMP:20260422T140819
CREATED:20190920T192348Z
LAST-MODIFIED:20190920T192348Z
UID:10000612-1569952800-1569963600@oodk.org
SUMMARY:Trening LP
DESCRIPTION:Bommen åpnes kl. 18.00. Fellestrening med instruktør starter kl. 19.00.
URL:https://oodk.org/aktivitet/trening-lp-30/
END:VEVENT
BEGIN:VEVENT
DTSTART;VALUE=DATE:20191002
DTEND;VALUE=DATE:20191003
DTSTAMP:20260422T140819
CREATED:20191001T210710Z
LAST-MODIFIED:20191001T210710Z
UID:10000376-1569974400-1570060799@oodk.org
SUMMARY:Rally
DESCRIPTION:
URL:https://oodk.org/aktivitet/rally/
END:VEVENT
BEGIN:VEVENT
DTSTART;TZID=Europe/Oslo:20191003T180000
DTEND;TZID=Europe/Oslo:20191003T210000
DTSTAMP:20260422T140819
CREATED:20190920T193427Z
LAST-MODIFIED:20190920T193427Z
UID:10000621-1570125600-1570136400@oodk.org
SUMMARY:Trening LP
DESCRIPTION:Bommen åpnes kl. 18.00 for egentrening.
URL:https://oodk.org/aktivitet/trening-lp-39/
END:VEVENT
BEGIN:VEVENT
DTSTART;TZID=Europe/Oslo:20191003T180000
DTEND;TZID=Europe/Oslo:20191003T210000
DTSTAMP:20260422T140819
CREATED:20191001T205607Z
LAST-MODIFIED:20191001T205607Z
UID:10000626-1570125600-1570136400@oodk.org
SUMMARY:Fritrening agility
DESCRIPTION:
URL:https://oodk.org/aktivitet/fritrening-agility/
END:VEVENT
BEGIN:VEVENT
DTSTART;VALUE=DATE:20191004
DTEND;VALUE=DATE:20191005
DTSTAMP:20260422T140819
CREATED:20191001T211933Z
LAST-MODIFIED:20191001T212737Z
UID:10000386-1570147200-1570233599@oodk.org
SUMMARY:Fritrening
DESCRIPTION:
URL:https://oodk.org/aktivitet/fritrening/
END:VEVENT
BEGIN:VEVENT
DTSTART;VALUE=DATE:20191007
DTEND;VALUE=DATE:20191008
DTSTAMP:20260422T140819
CREATED:20191001T210421Z
LAST-MODIFIED:20191001T210421Z
UID:10000371-1570406400-1570492799@oodk.org
SUMMARY:Brukslydighet
DESCRIPTION:
URL:https://oodk.org/aktivitet/brukslydighet/
END:VEVENT
BEGIN:VEVENT
DTSTART;TZID=Europe/Oslo:20191008T180000
DTEND;TZID=Europe/Oslo:20191008T210000
DTSTAMP:20260422T140819
CREATED:20190920T192445Z
LAST-MODIFIED:20190920T192445Z
UID:10000614-1570557600-1570568400@oodk.org
SUMMARY:Trening LP
DESCRIPTION:Bommen åpnes kl. 18.00. Fellestrening med instruktør starter kl. 19.00.
URL:https://oodk.org/aktivitet/trening-lp-31/
END:VEVENT
BEGIN:VEVENT
DTSTART;VALUE=DATE:20191009
DTEND;VALUE=DATE:20191010
DTSTAMP:20260422T140819
CREATED:20191001T210744Z
LAST-MODIFIED:20191001T210744Z
UID:10000378-1570579200-1570665599@oodk.org
SUMMARY:Rally
DESCRIPTION:
URL:https://oodk.org/aktivitet/rally-2/
END:VEVENT
BEGIN:VEVENT
DTSTART;TZID=Europe/Oslo:20191010T180000
DTEND;TZID=Europe/Oslo:20191010T210000
DTSTAMP:20260422T140819
CREATED:20190920T193514Z
LAST-MODIFIED:20190920T193514Z
UID:10000622-1570730400-1570741200@oodk.org
SUMMARY:Trening LP
DESCRIPTION:Bommen åpnes kl. 18.00 for egentrening.
URL:https://oodk.org/aktivitet/trening-lp-40/
END:VEVENT
BEGIN:VEVENT
DTSTART;TZID=Europe/Oslo:20191010T180000
DTEND;TZID=Europe/Oslo:20191010T210000
DTSTAMP:20260422T140819
CREATED:20191001T205847Z
LAST-MODIFIED:20191001T205847Z
UID:10000627-1570730400-1570741200@oodk.org
SUMMARY:Fritrening agility
DESCRIPTION:
URL:https://oodk.org/aktivitet/fritrening-agility-2/
END:VEVENT
BEGIN:VEVENT
DTSTART;VALUE=DATE:20191011
DTEND;VALUE=DATE:20191012
DTSTAMP:20260422T140819
CREATED:20191001T212806Z
LAST-MODIFIED:20191001T212806Z
UID:10000631-1570752000-1570838399@oodk.org
SUMMARY:Fritrening
DESCRIPTION:
URL:https://oodk.org/aktivitet/fritrening-2/
END:VEVENT
BEGIN:VEVENT
DTSTART;VALUE=DATE:20191014
DTEND;VALUE=DATE:20191015
DTSTAMP:20260422T140819
CREATED:20191001T210454Z
LAST-MODIFIED:20191001T210454Z
UID:10000372-1571011200-1571097599@oodk.org
SUMMARY:Brukslydighet
DESCRIPTION:
URL:https://oodk.org/aktivitet/brukslydighet-2/
END:VEVENT
BEGIN:VEVENT
DTSTART;TZID=Europe/Oslo:20191015T180000
DTEND;TZID=Europe/Oslo:20191015T210000
DTSTAMP:20260422T140819
CREATED:20190920T192531Z
LAST-MODIFIED:20190920T192531Z
UID:10000613-1571162400-1571173200@oodk.org
SUMMARY:Trening LP
DESCRIPTION:Bommen åpnes kl. 18.00. Fellestrening med instruktør starter kl. 19.00.
URL:https://oodk.org/aktivitet/trening-lp-32/
END:VEVENT
BEGIN:VEVENT
DTSTART;VALUE=DATE:20191016
DTEND;VALUE=DATE:20191017
DTSTAMP:20260422T140819
CREATED:20191001T210816Z
LAST-MODIFIED:20191001T210816Z
UID:10000380-1571184000-1571270399@oodk.org
SUMMARY:Rally
DESCRIPTION:
URL:https://oodk.org/aktivitet/rally-3/
END:VEVENT
BEGIN:VEVENT
DTSTART;TZID=Europe/Oslo:20191017T180000
DTEND;TZID=Europe/Oslo:20191017T210000
DTSTAMP:20260422T140819
CREATED:20190920T193823Z
LAST-MODIFIED:20190920T193823Z
UID:10000625-1571335200-1571346000@oodk.org
SUMMARY:Trening LP
DESCRIPTION:Bommen åpnes kl. 18.00 for egentrening.
URL:https://oodk.org/aktivitet/trening-lp-43/
END:VEVENT
BEGIN:VEVENT
DTSTART;TZID=Europe/Oslo:20191017T180000
DTEND;TZID=Europe/Oslo:20191017T210000
DTSTAMP:20260422T140819
CREATED:20191001T205946Z
LAST-MODIFIED:20191001T205946Z
UID:10000628-1571335200-1571346000@oodk.org
SUMMARY:Fritrening agility
DESCRIPTION:
URL:https://oodk.org/aktivitet/fritrening-agility-3/
END:VEVENT
BEGIN:VEVENT
DTSTART;VALUE=DATE:20191018
DTEND;VALUE=DATE:20191021
DTSTAMP:20260422T140819
CREATED:20190404T130756Z
LAST-MODIFIED:20190404T130756Z
UID:10000565-1571356800-1571615999@oodk.org
SUMMARY:LP-kurs med Heidi Bilkvam
DESCRIPTION:
URL:https://oodk.org/aktivitet/lp-kurs-med-heidi-bilkvam/
END:VEVENT
BEGIN:VEVENT
DTSTART;VALUE=DATE:20191021
DTEND;VALUE=DATE:20191022
DTSTAMP:20260422T140819
CREATED:20191001T210527Z
LAST-MODIFIED:20191001T210527Z
UID:10000373-1571616000-1571702399@oodk.org
SUMMARY:Brukslydighet
DESCRIPTION:
URL:https://oodk.org/aktivitet/brukslydighet-3/
END:VEVENT
BEGIN:VEVENT
DTSTART;TZID=Europe/Oslo:20191022T180000
DTEND;TZID=Europe/Oslo:20191022T210000
DTSTAMP:20260422T140819
CREATED:20190920T192621Z
LAST-MODIFIED:20190920T192621Z
UID:10000615-1571767200-1571778000@oodk.org
SUMMARY:Trening LP
DESCRIPTION:Bommen åpnes kl. 18.00. Fellestrening med instruktør starter kl. 19.00.
URL:https://oodk.org/aktivitet/trening-lp-33/
END:VEVENT
BEGIN:VEVENT
DTSTART;VALUE=DATE:20191023
DTEND;VALUE=DATE:20191024
DTSTAMP:20260422T140819
CREATED:20191001T210852Z
LAST-MODIFIED:20191001T210852Z
UID:10000382-1571788800-1571875199@oodk.org
SUMMARY:Rally
DESCRIPTION:
URL:https://oodk.org/aktivitet/rally-4/
END:VEVENT
BEGIN:VEVENT
DTSTART;TZID=Europe/Oslo:20191024T180000
DTEND;TZID=Europe/Oslo:20191024T210000
DTSTAMP:20260422T140819
CREATED:20190920T193615Z
LAST-MODIFIED:20190920T193615Z
UID:10000623-1571940000-1571950800@oodk.org
SUMMARY:Trening LP
DESCRIPTION:Bommen åpnes kl. 18.00 for egentrening.
URL:https://oodk.org/aktivitet/trening-lp-41/
END:VEVENT
BEGIN:VEVENT
DTSTART;TZID=Europe/Oslo:20191024T180000
DTEND;TZID=Europe/Oslo:20191024T210000
DTSTAMP:20260422T140819
CREATED:20191001T210105Z
LAST-MODIFIED:20191001T210105Z
UID:10000629-1571940000-1571950800@oodk.org
SUMMARY:Fritrening agility
DESCRIPTION:
URL:https://oodk.org/aktivitet/fritrening-agility-4/
END:VEVENT
BEGIN:VEVENT
DTSTART;VALUE=DATE:20191025
DTEND;VALUE=DATE:20191026
DTSTAMP:20260422T140819
CREATED:20191001T212913Z
LAST-MODIFIED:20191001T212913Z
UID:10000632-1571961600-1572047999@oodk.org
SUMMARY:Fritrening
DESCRIPTION:
URL:https://oodk.org/aktivitet/fritrening-4/
END:VEVENT
BEGIN:VEVENT
DTSTART;TZID=Europe/Oslo:20191026T080000
DTEND;TZID=Europe/Oslo:20191027T170000
DTSTAMP:20260422T140819
CREATED:20191008T141911Z
LAST-MODIFIED:20191008T141911Z
UID:10000635-1572076800-1572195600@oodk.org
SUMMARY:Junior NM 2019 Uoff. stevne i agility\, Lp og rallylydighet
DESCRIPTION:
URL:https://oodk.org/aktivitet/junior-nm-2019-uoff-stevne-i-agility-lp-og-rallylydighet/
END:VEVENT
BEGIN:VEVENT
DTSTART;VALUE=DATE:20191028
DTEND;VALUE=DATE:20191029
DTSTAMP:20260422T140819
CREATED:20191001T210558Z
LAST-MODIFIED:20191001T210558Z
UID:10000374-1572220800-1572307199@oodk.org
SUMMARY:Brukslydighet
DESCRIPTION:
URL:https://oodk.org/aktivitet/brukslydighet-4/
END:VEVENT
BEGIN:VEVENT
DTSTART;TZID=Europe/Oslo:20191029T180000
DTEND;TZID=Europe/Oslo:20191029T210000
DTSTAMP:20260422T140819
CREATED:20190920T192718Z
LAST-MODIFIED:20190920T192718Z
UID:10000616-1572372000-1572382800@oodk.org
SUMMARY:Trening LP
DESCRIPTION:Bommen åpnes kl. 18.00. Fellestrening med instruktør starter kl. 19.00.
URL:https://oodk.org/aktivitet/trening-lp-34/
END:VEVENT
BEGIN:VEVENT
DTSTART;VALUE=DATE:20191030
DTEND;VALUE=DATE:20191031
DTSTAMP:20260422T140819
CREATED:20191001T210926Z
LAST-MODIFIED:20191001T210926Z
UID:10000384-1572393600-1572479999@oodk.org
SUMMARY:Rally
DESCRIPTION:
URL:https://oodk.org/aktivitet/rally-5/
END:VEVENT
BEGIN:VEVENT
DTSTART;TZID=Europe/Oslo:20191031T180000
DTEND;TZID=Europe/Oslo:20191031T210000
DTSTAMP:20260422T140819
CREATED:20190920T193700Z
LAST-MODIFIED:20190920T193700Z
UID:10000624-1572544800-1572555600@oodk.org
SUMMARY:Trening LP
DESCRIPTION:Bommen åpnes kl. 18.00 for egentrening.
URL:https://oodk.org/aktivitet/trening-lp-42/
END:VEVENT
BEGIN:VEVENT
DTSTART;TZID=Europe/Oslo:20191031T180000
DTEND;TZID=Europe/Oslo:20191031T210000
DTSTAMP:20260422T140819
CREATED:20191001T210229Z
LAST-MODIFIED:20191001T210229Z
UID:10000630-1572544800-1572555600@oodk.org
SUMMARY:Fritrening agility
DESCRIPTION:
URL:https://oodk.org/aktivitet/fritrening-agility-5/
END:VEVENT
END:VCALENDAR