BEGIN:VCALENDAR
VERSION:2.0
PRODID:-//Oslo og Omegn Dressurklubb - ECPv6.15.20//NONSGML v1.0//EN
CALSCALE:GREGORIAN
METHOD:PUBLISH
X-WR-CALNAME:Oslo og Omegn Dressurklubb
X-ORIGINAL-URL:https://oodk.org
X-WR-CALDESC:Arrangement for Oslo og Omegn Dressurklubb
REFRESH-INTERVAL;VALUE=DURATION:PT1H
X-Robots-Tag:noindex
X-PUBLISHED-TTL:PT1H
BEGIN:VTIMEZONE
TZID:Europe/Oslo
BEGIN:DAYLIGHT
TZOFFSETFROM:+0100
TZOFFSETTO:+0200
TZNAME:CEST
DTSTART:20250330T010000
END:DAYLIGHT
BEGIN:STANDARD
TZOFFSETFROM:+0200
TZOFFSETTO:+0100
TZNAME:CET
DTSTART:20251026T010000
END:STANDARD
BEGIN:DAYLIGHT
TZOFFSETFROM:+0100
TZOFFSETTO:+0200
TZNAME:CEST
DTSTART:20260329T010000
END:DAYLIGHT
BEGIN:STANDARD
TZOFFSETFROM:+0200
TZOFFSETTO:+0100
TZNAME:CET
DTSTART:20261025T010000
END:STANDARD
BEGIN:DAYLIGHT
TZOFFSETFROM:+0100
TZOFFSETTO:+0200
TZNAME:CEST
DTSTART:20270328T010000
END:DAYLIGHT
BEGIN:STANDARD
TZOFFSETFROM:+0200
TZOFFSETTO:+0100
TZNAME:CET
DTSTART:20271031T010000
END:STANDARD
END:VTIMEZONE
BEGIN:VEVENT
DTSTART;TZID=Europe/Oslo:20260427T180000
DTEND;TZID=Europe/Oslo:20260427T210000
DTSTAMP:20260422T130524
CREATED:20260421T092727Z
LAST-MODIFIED:20260421T093149Z
UID:10001270-1777312800-1777323600@oodk.org
SUMMARY:Rally: Egentrening
DESCRIPTION:Egentrening eller tematreninger for Rally på midtre plan. Mer info blir publisert på FaceBook
URL:https://oodk.org/aktivitet/rally-egentrening-2/2026-04-27/
LOCATION:Brekke\, midtre plan
END:VEVENT
BEGIN:VEVENT
DTSTART;TZID=Europe/Oslo:20260504T180000
DTEND;TZID=Europe/Oslo:20260504T210000
DTSTAMP:20260422T130524
CREATED:20260421T092727Z
LAST-MODIFIED:20260421T093149Z
UID:10001271-1777917600-1777928400@oodk.org
SUMMARY:Rally: Egentrening
DESCRIPTION:Egentrening eller tematreninger for Rally på midtre plan. Mer info blir publisert på FaceBook
URL:https://oodk.org/aktivitet/rally-egentrening-2/2026-05-04/
LOCATION:Brekke\, midtre plan
END:VEVENT
BEGIN:VEVENT
DTSTART;TZID=Europe/Oslo:20260511T180000
DTEND;TZID=Europe/Oslo:20260511T210000
DTSTAMP:20260422T130524
CREATED:20260421T092727Z
LAST-MODIFIED:20260421T093149Z
UID:10001272-1778522400-1778533200@oodk.org
SUMMARY:Rally: Egentrening
DESCRIPTION:Egentrening eller tematreninger for Rally på midtre plan. Mer info blir publisert på FaceBook
URL:https://oodk.org/aktivitet/rally-egentrening-2/2026-05-11/
LOCATION:Brekke\, midtre plan
END:VEVENT
BEGIN:VEVENT
DTSTART;TZID=Europe/Oslo:20260518T180000
DTEND;TZID=Europe/Oslo:20260518T210000
DTSTAMP:20260422T130524
CREATED:20260421T092727Z
LAST-MODIFIED:20260421T093149Z
UID:10001273-1779127200-1779138000@oodk.org
SUMMARY:Rally: Egentrening
DESCRIPTION:Egentrening eller tematreninger for Rally på midtre plan. Mer info blir publisert på FaceBook
URL:https://oodk.org/aktivitet/rally-egentrening-2/2026-05-18/
LOCATION:Brekke\, midtre plan
END:VEVENT
BEGIN:VEVENT
DTSTART;TZID=Europe/Oslo:20260525T180000
DTEND;TZID=Europe/Oslo:20260525T210000
DTSTAMP:20260422T130524
CREATED:20260421T092727Z
LAST-MODIFIED:20260421T093149Z
UID:10001274-1779732000-1779742800@oodk.org
SUMMARY:Rally: Egentrening
DESCRIPTION:Egentrening eller tematreninger for Rally på midtre plan. Mer info blir publisert på FaceBook
URL:https://oodk.org/aktivitet/rally-egentrening-2/2026-05-25/
LOCATION:Brekke\, midtre plan
END:VEVENT
BEGIN:VEVENT
DTSTART;TZID=Europe/Oslo:20260601T180000
DTEND;TZID=Europe/Oslo:20260601T210000
DTSTAMP:20260422T130524
CREATED:20260421T092727Z
LAST-MODIFIED:20260421T093149Z
UID:10001275-1780336800-1780347600@oodk.org
SUMMARY:Rally: Egentrening
DESCRIPTION:Egentrening eller tematreninger for Rally på midtre plan. Mer info blir publisert på FaceBook
URL:https://oodk.org/aktivitet/rally-egentrening-2/2026-06-01/
LOCATION:Brekke\, midtre plan
END:VEVENT
BEGIN:VEVENT
DTSTART;TZID=Europe/Oslo:20260608T180000
DTEND;TZID=Europe/Oslo:20260608T210000
DTSTAMP:20260422T130524
CREATED:20260421T092727Z
LAST-MODIFIED:20260421T093149Z
UID:10001276-1780941600-1780952400@oodk.org
SUMMARY:Rally: Egentrening
DESCRIPTION:Egentrening eller tematreninger for Rally på midtre plan. Mer info blir publisert på FaceBook
URL:https://oodk.org/aktivitet/rally-egentrening-2/2026-06-08/
LOCATION:Brekke\, midtre plan
END:VEVENT
BEGIN:VEVENT
DTSTART;TZID=Europe/Oslo:20260615T180000
DTEND;TZID=Europe/Oslo:20260615T210000
DTSTAMP:20260422T130524
CREATED:20260421T092727Z
LAST-MODIFIED:20260421T093149Z
UID:10001277-1781546400-1781557200@oodk.org
SUMMARY:Rally: Egentrening
DESCRIPTION:Egentrening eller tematreninger for Rally på midtre plan. Mer info blir publisert på FaceBook
URL:https://oodk.org/aktivitet/rally-egentrening-2/2026-06-15/
LOCATION:Brekke\, midtre plan
END:VEVENT
BEGIN:VEVENT
DTSTART;TZID=Europe/Oslo:20260622T180000
DTEND;TZID=Europe/Oslo:20260622T210000
DTSTAMP:20260422T130524
CREATED:20260421T092727Z
LAST-MODIFIED:20260421T093149Z
UID:10001278-1782151200-1782162000@oodk.org
SUMMARY:Rally: Egentrening
DESCRIPTION:Egentrening eller tematreninger for Rally på midtre plan. Mer info blir publisert på FaceBook
URL:https://oodk.org/aktivitet/rally-egentrening-2/2026-06-22/
LOCATION:Brekke\, midtre plan
END:VEVENT
BEGIN:VEVENT
DTSTART;TZID=Europe/Oslo:20260629T180000
DTEND;TZID=Europe/Oslo:20260629T210000
DTSTAMP:20260422T130524
CREATED:20260421T092727Z
LAST-MODIFIED:20260421T093149Z
UID:10001279-1782756000-1782766800@oodk.org
SUMMARY:Rally: Egentrening
DESCRIPTION:Egentrening eller tematreninger for Rally på midtre plan. Mer info blir publisert på FaceBook
URL:https://oodk.org/aktivitet/rally-egentrening-2/2026-06-29/
LOCATION:Brekke\, midtre plan
END:VEVENT
END:VCALENDAR