BEGIN:VCALENDAR
VERSION:2.0
PRODID:-//Oslo og Omegn Dressurklubb - ECPv6.15.20//NONSGML v1.0//EN
CALSCALE:GREGORIAN
METHOD:PUBLISH
X-WR-CALNAME:Oslo og Omegn Dressurklubb
X-ORIGINAL-URL:https://oodk.org
X-WR-CALDESC:Arrangement for Oslo og Omegn Dressurklubb
REFRESH-INTERVAL;VALUE=DURATION:PT1H
X-Robots-Tag:noindex
X-PUBLISHED-TTL:PT1H
BEGIN:VTIMEZONE
TZID:Europe/Oslo
BEGIN:DAYLIGHT
TZOFFSETFROM:+0100
TZOFFSETTO:+0200
TZNAME:CEST
DTSTART:20250330T010000
END:DAYLIGHT
BEGIN:STANDARD
TZOFFSETFROM:+0200
TZOFFSETTO:+0100
TZNAME:CET
DTSTART:20251026T010000
END:STANDARD
BEGIN:DAYLIGHT
TZOFFSETFROM:+0100
TZOFFSETTO:+0200
TZNAME:CEST
DTSTART:20260329T010000
END:DAYLIGHT
BEGIN:STANDARD
TZOFFSETFROM:+0200
TZOFFSETTO:+0100
TZNAME:CET
DTSTART:20261025T010000
END:STANDARD
BEGIN:DAYLIGHT
TZOFFSETFROM:+0100
TZOFFSETTO:+0200
TZNAME:CEST
DTSTART:20270328T010000
END:DAYLIGHT
BEGIN:STANDARD
TZOFFSETFROM:+0200
TZOFFSETTO:+0100
TZNAME:CET
DTSTART:20271031T010000
END:STANDARD
END:VTIMEZONE
BEGIN:VEVENT
DTSTART;TZID=Europe/Oslo:20260422T180000
DTEND;TZID=Europe/Oslo:20260422T193000
DTSTAMP:20260422T130420
CREATED:20260421T092851Z
LAST-MODIFIED:20260421T092940Z
UID:10001332-1776880800-1776886200@oodk.org
SUMMARY:Rally: Klasse 1 og 2
DESCRIPTION:Mer info blir publisert på FaceBook
URL:https://oodk.org/aktivitet/rally-klasse-1-og-2/2026-04-22/
LOCATION:Brekke\, midtre plan
END:VEVENT
BEGIN:VEVENT
DTSTART;TZID=Europe/Oslo:20260429T180000
DTEND;TZID=Europe/Oslo:20260429T193000
DTSTAMP:20260422T130420
CREATED:20260421T092851Z
LAST-MODIFIED:20260421T092940Z
UID:10001333-1777485600-1777491000@oodk.org
SUMMARY:Rally: Klasse 1 og 2
DESCRIPTION:Mer info blir publisert på FaceBook
URL:https://oodk.org/aktivitet/rally-klasse-1-og-2/2026-04-29/
LOCATION:Brekke\, midtre plan
END:VEVENT
BEGIN:VEVENT
DTSTART;TZID=Europe/Oslo:20260506T180000
DTEND;TZID=Europe/Oslo:20260506T193000
DTSTAMP:20260422T130420
CREATED:20260421T092851Z
LAST-MODIFIED:20260421T092940Z
UID:10001334-1778090400-1778095800@oodk.org
SUMMARY:Rally: Klasse 1 og 2
DESCRIPTION:Mer info blir publisert på FaceBook
URL:https://oodk.org/aktivitet/rally-klasse-1-og-2/2026-05-06/
LOCATION:Brekke\, midtre plan
END:VEVENT
BEGIN:VEVENT
DTSTART;TZID=Europe/Oslo:20260513T180000
DTEND;TZID=Europe/Oslo:20260513T193000
DTSTAMP:20260422T130420
CREATED:20260421T092851Z
LAST-MODIFIED:20260421T092940Z
UID:10001335-1778695200-1778700600@oodk.org
SUMMARY:Rally: Klasse 1 og 2
DESCRIPTION:Mer info blir publisert på FaceBook
URL:https://oodk.org/aktivitet/rally-klasse-1-og-2/2026-05-13/
LOCATION:Brekke\, midtre plan
END:VEVENT
BEGIN:VEVENT
DTSTART;TZID=Europe/Oslo:20260520T180000
DTEND;TZID=Europe/Oslo:20260520T193000
DTSTAMP:20260422T130420
CREATED:20260421T092851Z
LAST-MODIFIED:20260421T092940Z
UID:10001336-1779300000-1779305400@oodk.org
SUMMARY:Rally: Klasse 1 og 2
DESCRIPTION:Mer info blir publisert på FaceBook
URL:https://oodk.org/aktivitet/rally-klasse-1-og-2/2026-05-20/
LOCATION:Brekke\, midtre plan
END:VEVENT
BEGIN:VEVENT
DTSTART;TZID=Europe/Oslo:20260527T180000
DTEND;TZID=Europe/Oslo:20260527T193000
DTSTAMP:20260422T130420
CREATED:20260421T092851Z
LAST-MODIFIED:20260421T092940Z
UID:10001337-1779904800-1779910200@oodk.org
SUMMARY:Rally: Klasse 1 og 2
DESCRIPTION:Mer info blir publisert på FaceBook
URL:https://oodk.org/aktivitet/rally-klasse-1-og-2/2026-05-27/
LOCATION:Brekke\, midtre plan
END:VEVENT
BEGIN:VEVENT
DTSTART;TZID=Europe/Oslo:20260603T180000
DTEND;TZID=Europe/Oslo:20260603T193000
DTSTAMP:20260422T130420
CREATED:20260421T092851Z
LAST-MODIFIED:20260421T092940Z
UID:10001338-1780509600-1780515000@oodk.org
SUMMARY:Rally: Klasse 1 og 2
DESCRIPTION:Mer info blir publisert på FaceBook
URL:https://oodk.org/aktivitet/rally-klasse-1-og-2/2026-06-03/
LOCATION:Brekke\, midtre plan
END:VEVENT
BEGIN:VEVENT
DTSTART;TZID=Europe/Oslo:20260610T180000
DTEND;TZID=Europe/Oslo:20260610T193000
DTSTAMP:20260422T130420
CREATED:20260421T092851Z
LAST-MODIFIED:20260421T092940Z
UID:10001339-1781114400-1781119800@oodk.org
SUMMARY:Rally: Klasse 1 og 2
DESCRIPTION:Mer info blir publisert på FaceBook
URL:https://oodk.org/aktivitet/rally-klasse-1-og-2/2026-06-10/
LOCATION:Brekke\, midtre plan
END:VEVENT
BEGIN:VEVENT
DTSTART;TZID=Europe/Oslo:20260617T180000
DTEND;TZID=Europe/Oslo:20260617T193000
DTSTAMP:20260422T130420
CREATED:20260421T092851Z
LAST-MODIFIED:20260421T092940Z
UID:10001340-1781719200-1781724600@oodk.org
SUMMARY:Rally: Klasse 1 og 2
DESCRIPTION:Mer info blir publisert på FaceBook
URL:https://oodk.org/aktivitet/rally-klasse-1-og-2/2026-06-17/
LOCATION:Brekke\, midtre plan
END:VEVENT
BEGIN:VEVENT
DTSTART;TZID=Europe/Oslo:20260624T180000
DTEND;TZID=Europe/Oslo:20260624T193000
DTSTAMP:20260422T130420
CREATED:20260421T092851Z
LAST-MODIFIED:20260421T092940Z
UID:10001341-1782324000-1782329400@oodk.org
SUMMARY:Rally: Klasse 1 og 2
DESCRIPTION:Mer info blir publisert på FaceBook
URL:https://oodk.org/aktivitet/rally-klasse-1-og-2/2026-06-24/
LOCATION:Brekke\, midtre plan
END:VEVENT
BEGIN:VEVENT
DTSTART;TZID=Europe/Oslo:20260701T180000
DTEND;TZID=Europe/Oslo:20260701T193000
DTSTAMP:20260422T130420
CREATED:20260421T092851Z
LAST-MODIFIED:20260421T092940Z
UID:10001342-1782928800-1782934200@oodk.org
SUMMARY:Rally: Klasse 1 og 2
DESCRIPTION:Mer info blir publisert på FaceBook
URL:https://oodk.org/aktivitet/rally-klasse-1-og-2/2026-07-01/
LOCATION:Brekke\, midtre plan
END:VEVENT
END:VCALENDAR