BEGIN:VCALENDAR
VERSION:2.0
PRODID:-//Oslo og Omegn Dressurklubb - ECPv6.15.20//NONSGML v1.0//EN
CALSCALE:GREGORIAN
METHOD:PUBLISH
X-WR-CALNAME:Oslo og Omegn Dressurklubb
X-ORIGINAL-URL:https://oodk.org
X-WR-CALDESC:Arrangement for Oslo og Omegn Dressurklubb
REFRESH-INTERVAL;VALUE=DURATION:PT1H
X-Robots-Tag:noindex
X-PUBLISHED-TTL:PT1H
BEGIN:VTIMEZONE
TZID:Europe/Oslo
BEGIN:DAYLIGHT
TZOFFSETFROM:+0100
TZOFFSETTO:+0200
TZNAME:CEST
DTSTART:20250330T010000
END:DAYLIGHT
BEGIN:STANDARD
TZOFFSETFROM:+0200
TZOFFSETTO:+0100
TZNAME:CET
DTSTART:20251026T010000
END:STANDARD
BEGIN:DAYLIGHT
TZOFFSETFROM:+0100
TZOFFSETTO:+0200
TZNAME:CEST
DTSTART:20260329T010000
END:DAYLIGHT
BEGIN:STANDARD
TZOFFSETFROM:+0200
TZOFFSETTO:+0100
TZNAME:CET
DTSTART:20261025T010000
END:STANDARD
BEGIN:DAYLIGHT
TZOFFSETFROM:+0100
TZOFFSETTO:+0200
TZNAME:CEST
DTSTART:20270328T010000
END:DAYLIGHT
BEGIN:STANDARD
TZOFFSETFROM:+0200
TZOFFSETTO:+0100
TZNAME:CET
DTSTART:20271031T010000
END:STANDARD
END:VTIMEZONE
BEGIN:VEVENT
DTSTART;TZID=Europe/Oslo:20260423T180000
DTEND;TZID=Europe/Oslo:20260423T210000
DTSTAMP:20260422T130430
CREATED:20260421T101221Z
LAST-MODIFIED:20260421T101230Z
UID:10001417-1776967200-1776978000@oodk.org
SUMMARY:Agility: Trening
DESCRIPTION:Mer info blir publisert på FaceBook
URL:https://oodk.org/aktivitet/agility-trening-6/2026-04-23/
LOCATION:Brekke\, midtre plan
END:VEVENT
BEGIN:VEVENT
DTSTART;TZID=Europe/Oslo:20260430T180000
DTEND;TZID=Europe/Oslo:20260430T210000
DTSTAMP:20260422T130430
CREATED:20260421T101221Z
LAST-MODIFIED:20260421T101230Z
UID:10001418-1777572000-1777582800@oodk.org
SUMMARY:Agility: Trening
DESCRIPTION:Mer info blir publisert på FaceBook
URL:https://oodk.org/aktivitet/agility-trening-6/2026-04-30/
LOCATION:Brekke\, midtre plan
END:VEVENT
BEGIN:VEVENT
DTSTART;TZID=Europe/Oslo:20260507T180000
DTEND;TZID=Europe/Oslo:20260507T210000
DTSTAMP:20260422T130430
CREATED:20260421T101221Z
LAST-MODIFIED:20260421T101230Z
UID:10001419-1778176800-1778187600@oodk.org
SUMMARY:Agility: Trening
DESCRIPTION:Mer info blir publisert på FaceBook
URL:https://oodk.org/aktivitet/agility-trening-6/2026-05-07/
LOCATION:Brekke\, midtre plan
END:VEVENT
BEGIN:VEVENT
DTSTART;TZID=Europe/Oslo:20260514T180000
DTEND;TZID=Europe/Oslo:20260514T210000
DTSTAMP:20260422T130430
CREATED:20260421T101221Z
LAST-MODIFIED:20260421T101230Z
UID:10001420-1778781600-1778792400@oodk.org
SUMMARY:Agility: Trening
DESCRIPTION:Mer info blir publisert på FaceBook
URL:https://oodk.org/aktivitet/agility-trening-6/2026-05-14/
LOCATION:Brekke\, midtre plan
END:VEVENT
BEGIN:VEVENT
DTSTART;TZID=Europe/Oslo:20260521T180000
DTEND;TZID=Europe/Oslo:20260521T210000
DTSTAMP:20260422T130430
CREATED:20260421T101221Z
LAST-MODIFIED:20260421T101230Z
UID:10001421-1779386400-1779397200@oodk.org
SUMMARY:Agility: Trening
DESCRIPTION:Mer info blir publisert på FaceBook
URL:https://oodk.org/aktivitet/agility-trening-6/2026-05-21/
LOCATION:Brekke\, midtre plan
END:VEVENT
BEGIN:VEVENT
DTSTART;TZID=Europe/Oslo:20260528T180000
DTEND;TZID=Europe/Oslo:20260528T210000
DTSTAMP:20260422T130430
CREATED:20260421T101221Z
LAST-MODIFIED:20260421T101230Z
UID:10001422-1779991200-1780002000@oodk.org
SUMMARY:Agility: Trening
DESCRIPTION:Mer info blir publisert på FaceBook
URL:https://oodk.org/aktivitet/agility-trening-6/2026-05-28/
LOCATION:Brekke\, midtre plan
END:VEVENT
BEGIN:VEVENT
DTSTART;TZID=Europe/Oslo:20260604T180000
DTEND;TZID=Europe/Oslo:20260604T210000
DTSTAMP:20260422T130430
CREATED:20260421T101221Z
LAST-MODIFIED:20260421T101230Z
UID:10001423-1780596000-1780606800@oodk.org
SUMMARY:Agility: Trening
DESCRIPTION:Mer info blir publisert på FaceBook
URL:https://oodk.org/aktivitet/agility-trening-6/2026-06-04/
LOCATION:Brekke\, midtre plan
END:VEVENT
BEGIN:VEVENT
DTSTART;TZID=Europe/Oslo:20260611T180000
DTEND;TZID=Europe/Oslo:20260611T210000
DTSTAMP:20260422T130430
CREATED:20260421T101221Z
LAST-MODIFIED:20260421T101230Z
UID:10001424-1781200800-1781211600@oodk.org
SUMMARY:Agility: Trening
DESCRIPTION:Mer info blir publisert på FaceBook
URL:https://oodk.org/aktivitet/agility-trening-6/2026-06-11/
LOCATION:Brekke\, midtre plan
END:VEVENT
BEGIN:VEVENT
DTSTART;TZID=Europe/Oslo:20260618T180000
DTEND;TZID=Europe/Oslo:20260618T210000
DTSTAMP:20260422T130430
CREATED:20260421T101221Z
LAST-MODIFIED:20260421T101230Z
UID:10001425-1781805600-1781816400@oodk.org
SUMMARY:Agility: Trening
DESCRIPTION:Mer info blir publisert på FaceBook
URL:https://oodk.org/aktivitet/agility-trening-6/2026-06-18/
LOCATION:Brekke\, midtre plan
END:VEVENT
BEGIN:VEVENT
DTSTART;TZID=Europe/Oslo:20260625T180000
DTEND;TZID=Europe/Oslo:20260625T210000
DTSTAMP:20260422T130430
CREATED:20260421T101221Z
LAST-MODIFIED:20260421T101230Z
UID:10001426-1782410400-1782421200@oodk.org
SUMMARY:Agility: Trening
DESCRIPTION:Mer info blir publisert på FaceBook
URL:https://oodk.org/aktivitet/agility-trening-6/2026-06-25/
LOCATION:Brekke\, midtre plan
END:VEVENT
BEGIN:VEVENT
DTSTART;TZID=Europe/Oslo:20260702T180000
DTEND;TZID=Europe/Oslo:20260702T210000
DTSTAMP:20260422T130430
CREATED:20260421T101221Z
LAST-MODIFIED:20260421T101230Z
UID:10001427-1783015200-1783026000@oodk.org
SUMMARY:Agility: Trening
DESCRIPTION:Mer info blir publisert på FaceBook
URL:https://oodk.org/aktivitet/agility-trening-6/2026-07-02/
LOCATION:Brekke\, midtre plan
END:VEVENT
END:VCALENDAR