BEGIN:VCALENDAR
VERSION:2.0
PRODID:-//Oslo og Omegn Dressurklubb - ECPv6.15.20//NONSGML v1.0//EN
CALSCALE:GREGORIAN
METHOD:PUBLISH
X-WR-CALNAME:Oslo og Omegn Dressurklubb
X-ORIGINAL-URL:https://oodk.org
X-WR-CALDESC:Arrangement for Oslo og Omegn Dressurklubb
REFRESH-INTERVAL;VALUE=DURATION:PT1H
X-Robots-Tag:noindex
X-PUBLISHED-TTL:PT1H
BEGIN:VTIMEZONE
TZID:Europe/Oslo
BEGIN:DAYLIGHT
TZOFFSETFROM:+0100
TZOFFSETTO:+0200
TZNAME:CEST
DTSTART:20150329T010000
END:DAYLIGHT
BEGIN:STANDARD
TZOFFSETFROM:+0200
TZOFFSETTO:+0100
TZNAME:CET
DTSTART:20151025T010000
END:STANDARD
BEGIN:DAYLIGHT
TZOFFSETFROM:+0100
TZOFFSETTO:+0200
TZNAME:CEST
DTSTART:20160327T010000
END:DAYLIGHT
BEGIN:STANDARD
TZOFFSETFROM:+0200
TZOFFSETTO:+0100
TZNAME:CET
DTSTART:20161030T010000
END:STANDARD
BEGIN:DAYLIGHT
TZOFFSETFROM:+0100
TZOFFSETTO:+0200
TZNAME:CEST
DTSTART:20170326T010000
END:DAYLIGHT
BEGIN:STANDARD
TZOFFSETFROM:+0200
TZOFFSETTO:+0100
TZNAME:CET
DTSTART:20171029T010000
END:STANDARD
END:VTIMEZONE
BEGIN:VEVENT
DTSTART;TZID=Europe/Oslo:20160627T180000
DTEND;TZID=Europe/Oslo:20160627T193000
DTSTAMP:20260422T083709
CREATED:20160329T124801Z
LAST-MODIFIED:20160329T124801Z
UID:10000166-1467050400-1467055800@oodk.org
SUMMARY:Fritrening rallylydighet
DESCRIPTION:Mer info her
URL:https://oodk.org/aktivitet/fritrening-rallylydighet-13/
LOCATION:Brekke
END:VEVENT
BEGIN:VEVENT
DTSTART;TZID=Europe/Oslo:20160620T180000
DTEND;TZID=Europe/Oslo:20160620T193000
DTSTAMP:20260422T083709
CREATED:20160329T124740Z
LAST-MODIFIED:20160329T124740Z
UID:10000164-1466445600-1466451000@oodk.org
SUMMARY:Fritrening rallylydighet
DESCRIPTION:Mer info her
URL:https://oodk.org/aktivitet/fritrening-rallylydighet-12/
LOCATION:Brekke
END:VEVENT
BEGIN:VEVENT
DTSTART;TZID=Europe/Oslo:20160613T180000
DTEND;TZID=Europe/Oslo:20160613T193000
DTSTAMP:20260422T083709
CREATED:20160329T124623Z
LAST-MODIFIED:20160329T124623Z
UID:10000061-1465840800-1465846200@oodk.org
SUMMARY:Fritrening rallylydighet
DESCRIPTION:Mer info her
URL:https://oodk.org/aktivitet/fritrening-rallylydighet-11/
LOCATION:Brekke
END:VEVENT
BEGIN:VEVENT
DTSTART;TZID=Europe/Oslo:20160606T180000
DTEND;TZID=Europe/Oslo:20160606T193000
DTSTAMP:20260422T083709
CREATED:20160329T124601Z
LAST-MODIFIED:20160329T124601Z
UID:10000059-1465236000-1465241400@oodk.org
SUMMARY:Fritrening rallylydighet
DESCRIPTION:Mer info her
URL:https://oodk.org/aktivitet/fritrening-rallylydighet-10/
LOCATION:Brekke
END:VEVENT
BEGIN:VEVENT
DTSTART;TZID=Europe/Oslo:20160530T180000
DTEND;TZID=Europe/Oslo:20160530T193000
DTSTAMP:20260422T083709
CREATED:20160329T124535Z
LAST-MODIFIED:20160329T124535Z
UID:10000058-1464631200-1464636600@oodk.org
SUMMARY:Fritrening rallylydighet
DESCRIPTION:Mer info her
URL:https://oodk.org/aktivitet/fritrening-rallylydighet-9/
LOCATION:Brekke
END:VEVENT
BEGIN:VEVENT
DTSTART;TZID=Europe/Oslo:20160523T180000
DTEND;TZID=Europe/Oslo:20160523T193000
DTSTAMP:20260422T083709
CREATED:20160329T124510Z
LAST-MODIFIED:20160329T124510Z
UID:10000056-1464026400-1464031800@oodk.org
SUMMARY:Fritrening rallylydighet
DESCRIPTION:Mer info her
URL:https://oodk.org/aktivitet/fritrening-rallylydighet-8/
LOCATION:Brekke
END:VEVENT
BEGIN:VEVENT
DTSTART;TZID=Europe/Oslo:20160516T180000
DTEND;TZID=Europe/Oslo:20160516T193000
DTSTAMP:20260422T083709
CREATED:20160329T124446Z
LAST-MODIFIED:20160329T124446Z
UID:10000054-1463421600-1463427000@oodk.org
SUMMARY:Fritrening rallylydighet
DESCRIPTION:Mer info her
URL:https://oodk.org/aktivitet/fritrening-rallylydighet-7/
LOCATION:Brekke
END:VEVENT
BEGIN:VEVENT
DTSTART;TZID=Europe/Oslo:20160509T180000
DTEND;TZID=Europe/Oslo:20160509T193000
DTSTAMP:20260422T083709
CREATED:20160329T124335Z
LAST-MODIFIED:20160329T124335Z
UID:10000052-1462816800-1462822200@oodk.org
SUMMARY:Fritrening rallylydighet
DESCRIPTION:Mer info her
URL:https://oodk.org/aktivitet/fritrening-rallylydighet-6/
LOCATION:Brekke
END:VEVENT
BEGIN:VEVENT
DTSTART;TZID=Europe/Oslo:20160502T180000
DTEND;TZID=Europe/Oslo:20160502T193000
DTSTAMP:20260422T083709
CREATED:20160329T124315Z
LAST-MODIFIED:20160329T124315Z
UID:10000050-1462212000-1462217400@oodk.org
SUMMARY:Fritrening rallylydighet
DESCRIPTION:Mer info her
URL:https://oodk.org/aktivitet/fritrening-rallylydighet-5/
LOCATION:Brekke
END:VEVENT
BEGIN:VEVENT
DTSTART;TZID=Europe/Oslo:20160425T180000
DTEND;TZID=Europe/Oslo:20160425T193000
DTSTAMP:20260422T083709
CREATED:20160329T124053Z
LAST-MODIFIED:20160329T124253Z
UID:10000048-1461607200-1461612600@oodk.org
SUMMARY:Fritrening rallylydighet
DESCRIPTION:Mer info her
URL:https://oodk.org/aktivitet/fritrening-rallylydighet-4/
LOCATION:Brekke
END:VEVENT
BEGIN:VEVENT
DTSTART;TZID=Europe/Oslo:20160418T180000
DTEND;TZID=Europe/Oslo:20160418T193000
DTSTAMP:20260422T083709
CREATED:20160329T124008Z
LAST-MODIFIED:20160329T124228Z
UID:10000045-1461002400-1461007800@oodk.org
SUMMARY:Fritrening rallylydighet
DESCRIPTION:Mer info her
URL:https://oodk.org/aktivitet/fritrening-rallylydighet-3/
LOCATION:Brekke
END:VEVENT
BEGIN:VEVENT
DTSTART;TZID=Europe/Oslo:20160411T180000
DTEND;TZID=Europe/Oslo:20160411T193000
DTSTAMP:20260422T083709
CREATED:20160329T123948Z
LAST-MODIFIED:20160329T124204Z
UID:10000043-1460397600-1460403000@oodk.org
SUMMARY:Fritrening rallylydighet
DESCRIPTION:Mer info her
URL:https://oodk.org/aktivitet/fritrening-rallylydighet-2/
LOCATION:Brekke
END:VEVENT
BEGIN:VEVENT
DTSTART;TZID=Europe/Oslo:20160404T180000
DTEND;TZID=Europe/Oslo:20160404T193000
DTSTAMP:20260422T083709
CREATED:20160329T123755Z
LAST-MODIFIED:20160329T124143Z
UID:10000162-1459792800-1459798200@oodk.org
SUMMARY:Fritrening rallylydighet
DESCRIPTION:Mer info her
URL:https://oodk.org/aktivitet/fritrening-rallylydighet/
LOCATION:Brekke
END:VEVENT
END:VCALENDAR