BEGIN:VCALENDAR
VERSION:2.0
PRODID:-//Oslo og Omegn Dressurklubb - ECPv6.15.20//NONSGML v1.0//EN
CALSCALE:GREGORIAN
METHOD:PUBLISH
X-ORIGINAL-URL:https://oodk.org
X-WR-CALDESC:Arrangement for Oslo og Omegn Dressurklubb
REFRESH-INTERVAL;VALUE=DURATION:PT1H
X-Robots-Tag:noindex
X-PUBLISHED-TTL:PT1H
BEGIN:VTIMEZONE
TZID:Europe/Oslo
BEGIN:DAYLIGHT
TZOFFSETFROM:+0100
TZOFFSETTO:+0200
TZNAME:CEST
DTSTART:20210328T010000
END:DAYLIGHT
BEGIN:STANDARD
TZOFFSETFROM:+0200
TZOFFSETTO:+0100
TZNAME:CET
DTSTART:20211031T010000
END:STANDARD
BEGIN:DAYLIGHT
TZOFFSETFROM:+0100
TZOFFSETTO:+0200
TZNAME:CEST
DTSTART:20220327T010000
END:DAYLIGHT
BEGIN:STANDARD
TZOFFSETFROM:+0200
TZOFFSETTO:+0100
TZNAME:CET
DTSTART:20221030T010000
END:STANDARD
BEGIN:DAYLIGHT
TZOFFSETFROM:+0100
TZOFFSETTO:+0200
TZNAME:CEST
DTSTART:20230326T010000
END:DAYLIGHT
BEGIN:STANDARD
TZOFFSETFROM:+0200
TZOFFSETTO:+0100
TZNAME:CET
DTSTART:20231029T010000
END:STANDARD
BEGIN:DAYLIGHT
TZOFFSETFROM:+0100
TZOFFSETTO:+0200
TZNAME:CEST
DTSTART:20240331T010000
END:DAYLIGHT
BEGIN:STANDARD
TZOFFSETFROM:+0200
TZOFFSETTO:+0100
TZNAME:CET
DTSTART:20241027T010000
END:STANDARD
BEGIN:DAYLIGHT
TZOFFSETFROM:+0100
TZOFFSETTO:+0200
TZNAME:CEST
DTSTART:20250330T010000
END:DAYLIGHT
BEGIN:STANDARD
TZOFFSETFROM:+0200
TZOFFSETTO:+0100
TZNAME:CET
DTSTART:20251026T010000
END:STANDARD
BEGIN:DAYLIGHT
TZOFFSETFROM:+0100
TZOFFSETTO:+0200
TZNAME:CEST
DTSTART:20260329T010000
END:DAYLIGHT
BEGIN:STANDARD
TZOFFSETFROM:+0200
TZOFFSETTO:+0100
TZNAME:CET
DTSTART:20261025T010000
END:STANDARD
END:VTIMEZONE
BEGIN:VEVENT
DTSTART;VALUE=DATE:20251018
DTEND;VALUE=DATE:20251019
DTSTAMP:20260425T050313
CREATED:20250928T143833Z
LAST-MODIFIED:20250928T143833Z
UID:10001252-1760745600-1760831999@oodk.org
SUMMARY:Bruks: Sporkurs
DESCRIPTION:
URL:https://oodk.org/aktivitet/bruks-sporkurs/
LOCATION:Brekke
END:VEVENT
BEGIN:VEVENT
DTSTART;VALUE=DATE:20250927
DTEND;VALUE=DATE:20250929
DTSTAMP:20260425T050313
CREATED:20250328T204747Z
LAST-MODIFIED:20250716T080538Z
UID:10000845-1758931200-1759103999@oodk.org
SUMMARY:Agility: Føringskurs med Trine Thorkildsen
DESCRIPTION:Les mer om kurset og påmelding på Agility sin FaceBook-side 
URL:https://oodk.org/aktivitet/agility-kurs-med-trine-thorkildsen/
LOCATION:Brekke
END:VEVENT
BEGIN:VEVENT
DTSTART;VALUE=DATE:20250914
DTEND;VALUE=DATE:20250915
DTSTAMP:20260425T050313
CREATED:20241102T220339Z
LAST-MODIFIED:20241102T220339Z
UID:10000806-1757808000-1757894399@oodk.org
SUMMARY:Rallystevne
DESCRIPTION:Rallystevne på midtre og nedre plan av Brekke
URL:https://oodk.org/aktivitet/rallystevne-5/
LOCATION:Brekke
END:VEVENT
BEGIN:VEVENT
DTSTART;VALUE=DATE:20250813
DTEND;VALUE=DATE:20250818
DTSTAMP:20260425T050313
CREATED:20240922T160012Z
LAST-MODIFIED:20241110T095307Z
UID:10000805-1755043200-1755475199@oodk.org
SUMMARY:NM Bruks
DESCRIPTION:NM for brukshunder 2025 arrangeres fra 13. – 17. august\, og vil bruke hele Brekke. 
URL:https://oodk.org/aktivitet/nm-bruks/
LOCATION:Brekke
END:VEVENT
BEGIN:VEVENT
DTSTART;VALUE=DATE:20250628
DTEND;VALUE=DATE:20250629
DTSTAMP:20260425T050313
CREATED:20241110T095824Z
LAST-MODIFIED:20241110T095824Z
UID:10000814-1751068800-1751155199@oodk.org
SUMMARY:LP: Stevne
DESCRIPTION:
URL:https://oodk.org/aktivitet/lp-stevne/
LOCATION:Brekke
END:VEVENT
BEGIN:VEVENT
DTSTART;VALUE=DATE:20250621
DTEND;VALUE=DATE:20250622
DTSTAMP:20260425T050313
CREATED:20241115T131113Z
LAST-MODIFIED:20241212T183003Z
UID:10000823-1750464000-1750550399@oodk.org
SUMMARY:Bruks: Runderingsprøve
DESCRIPTION:
URL:https://oodk.org/aktivitet/bruks-runderingsprove-2/
LOCATION:Brekke
END:VEVENT
BEGIN:VEVENT
DTSTART;TZID=Europe/Oslo:20250616T180000
DTEND;TZID=Europe/Oslo:20250616T200000
DTSTAMP:20260425T050313
CREATED:20250328T203401Z
LAST-MODIFIED:20250328T203401Z
UID:10000844-1750096800-1750104000@oodk.org
SUMMARY:Rally: Rekruttstevne
DESCRIPTION:Rekruttstevne for dem som ikke har gått offisielle stevner 
URL:https://oodk.org/aktivitet/rally-rekruttstevne-2/
LOCATION:Brekke
END:VEVENT
BEGIN:VEVENT
DTSTART;TZID=Europe/Oslo:20250602T180000
DTEND;TZID=Europe/Oslo:20250602T200000
DTSTAMP:20260425T050313
CREATED:20250328T203018Z
LAST-MODIFIED:20250328T203018Z
UID:10000843-1748887200-1748894400@oodk.org
SUMMARY:Rally: Startrutiner
DESCRIPTION:Minikurs om startrutiner med Karine Haugland 
URL:https://oodk.org/aktivitet/rally-startrutiner-2/
LOCATION:Brekke
END:VEVENT
BEGIN:VEVENT
DTSTART;TZID=Europe/Oslo:20250525T090000
DTEND;TZID=Europe/Oslo:20250525T160000
DTSTAMP:20260425T050313
CREATED:20241102T220726Z
LAST-MODIFIED:20241102T220726Z
UID:10000809-1748163600-1748188800@oodk.org
SUMMARY:Kurs: Lek & belønning
DESCRIPTION:
URL:https://oodk.org/aktivitet/kurs-lek-belonning-2/
LOCATION:Brekke
END:VEVENT
BEGIN:VEVENT
DTSTART;TZID=Europe/Oslo:20250524T090000
DTEND;TZID=Europe/Oslo:20250524T160000
DTSTAMP:20260425T050313
CREATED:20241102T220655Z
LAST-MODIFIED:20241102T220655Z
UID:10000808-1748077200-1748102400@oodk.org
SUMMARY:Kurs: Lek & belønning
DESCRIPTION:
URL:https://oodk.org/aktivitet/kurs-lek-belonning/
LOCATION:Brekke
END:VEVENT
BEGIN:VEVENT
DTSTART;TZID=Europe/Oslo:20250428T180000
DTEND;TZID=Europe/Oslo:20250428T210000
DTSTAMP:20260425T050313
CREATED:20250328T202849Z
LAST-MODIFIED:20250328T202849Z
UID:10000842-1745863200-1745874000@oodk.org
SUMMARY:Rally: Kickoff med minikurs
DESCRIPTION:Velkommen til kickoff med minikurs og sosialt samvær! \nDet vil være 3 minikurs: \n\nFokus\nMotivasjon og belønning\nLineføring/Fri ved fot
URL:https://oodk.org/aktivitet/rally-kickoff-med-minikurs/
LOCATION:Brekke
END:VEVENT
BEGIN:VEVENT
DTSTART;TZID=Europe/Oslo:20250427T100000
DTEND;TZID=Europe/Oslo:20250427T160000
DTSTAMP:20260425T050313
CREATED:20250328T202455Z
LAST-MODIFIED:20250328T202455Z
UID:10000841-1745748000-1745769600@oodk.org
SUMMARY:Rally: Konkurransekurs klasse 3 og elite
DESCRIPTION:Les mer om kurset her
URL:https://oodk.org/aktivitet/rally-konkurransekurs-klasse-3-og-elite-6/
LOCATION:Brekke
END:VEVENT
BEGIN:VEVENT
DTSTART;TZID=Europe/Oslo:20250426T100000
DTEND;TZID=Europe/Oslo:20250426T160000
DTSTAMP:20260425T050313
CREATED:20250328T202412Z
LAST-MODIFIED:20250328T202412Z
UID:10000840-1745661600-1745683200@oodk.org
SUMMARY:Rally: Konkurransekurs klasse 1 og 2
DESCRIPTION:Les mer om kurset her 
URL:https://oodk.org/aktivitet/rally-konkurransekurs-klasse-1-og-2-3/
LOCATION:Brekke
END:VEVENT
BEGIN:VEVENT
DTSTART;TZID=Europe/Oslo:20241012T090000
DTEND;TZID=Europe/Oslo:20241012T160000
DTSTAMP:20260425T050313
CREATED:20240718T204847Z
LAST-MODIFIED:20240718T204909Z
UID:10000804-1728723600-1728748800@oodk.org
SUMMARY:Bruks - Klubbmesterskap
DESCRIPTION:
URL:https://oodk.org/aktivitet/bruks-klubbmesterskap/
LOCATION:Brekke
END:VEVENT
BEGIN:VEVENT
DTSTART;VALUE=DATE:20240826
DTEND;VALUE=DATE:20240827
DTSTAMP:20260425T050313
CREATED:20240407T201238Z
LAST-MODIFIED:20240506T194927Z
UID:10000778-1724630400-1724716799@oodk.org
SUMMARY:RABL (Rally\, Agility\, Bruks\, Lydighet)
DESCRIPTION:R (Rally)\nA (Agility)\nB (Bruks)\nL (Lydighet \nRABL er en uhøytidelig og morsom hinderløypekonkurranse i OODK. Konkurransen inneholder enkle øvelser fra hver gren som alle kan være med på uansett nivå.\nDommer: Kirsten Bjørnlykke \nVi kårer en vinner og en dommers favoritt. \nDette arrangeres som en sosial sammenkomst på tvers av grenene\, for å knytte nærmere bånd. \nRegelverk for RABL finner du her.
URL:https://oodk.org/aktivitet/rabl-rally-agility-bruks-lydighet-2024/
LOCATION:Brekke
END:VEVENT
BEGIN:VEVENT
DTSTART;TZID=Europe/Oslo:20240619T180000
DTEND;TZID=Europe/Oslo:20240619T200000
DTSTAMP:20260425T050313
CREATED:20240412T203728Z
LAST-MODIFIED:20240413T184010Z
UID:10000794-1718820000-1718827200@oodk.org
SUMMARY:Bruks: Ferdselsprøve med vesenstest (BH-VT) – minikurs
DESCRIPTION:Instruktører: Ronny Iversen og Christin Grabo \nFormålet med kurset er å trene fram til prøven «Ferdselsprøve med vesenstest (BH-VT)”. OODK\narrangerer en slik prøve 26. juni 2024\, se terminliste hos NKK. Bestått BH-VT er inngangen til å\ndelta i RIK-programmet. Den første kurskvelden går vi gjennom lydighetsdelen. Til forskjell fra\nandre prøver\, blir du ikke kommandert. Hundefører må selv huske øvelsene som inngår i\nprogrammet. Den andre kvelden går vi gjennom de praktiske oppgavene i ferdselsdelen\, med\nforstyrrelser som sykler\, biler\, tilsnakk osv. Kursdeltakerne må beherske lydighetsøvelser på\nbronsemerkenivå. Deltakerne må sette seg inn i programmet for ferdselsprøven (BH-VT) på\nforhånd. \nDato: Onsdag 12. juni og onsdag 19. juni kl. 1800-2000 \nSted: Brekke\, nedre plan \nLink til påmelding her
URL:https://oodk.org/aktivitet/ferdselsprove-med-vesenstest-bh-vt-minikurs-2/
LOCATION:Brekke
END:VEVENT
BEGIN:VEVENT
DTSTART;TZID=Europe/Oslo:20240612T180000
DTEND;TZID=Europe/Oslo:20240612T200000
DTSTAMP:20260425T050313
CREATED:20240412T203658Z
LAST-MODIFIED:20240413T184043Z
UID:10000793-1718215200-1718222400@oodk.org
SUMMARY:Bruks: Ferdselsprøve med vesenstest (BH-VT) – minikurs
DESCRIPTION:Instruktører: Ronny Iversen og Christin Grabo \nFormålet med kurset er å trene fram til prøven «Ferdselsprøve med vesenstest (BH-VT)”. OODK\narrangerer en slik prøve 26. juni 2024\, se terminliste hos NKK. Bestått BH-VT er inngangen til å\ndelta i RIK-programmet. Den første kurskvelden går vi gjennom lydighetsdelen. Til forskjell fra\nandre prøver\, blir du ikke kommandert. Hundefører må selv huske øvelsene som inngår i\nprogrammet. Den andre kvelden går vi gjennom de praktiske oppgavene i ferdselsdelen\, med\nforstyrrelser som sykler\, biler\, tilsnakk osv. Kursdeltakerne må beherske lydighetsøvelser på\nbronsemerkenivå. Deltakerne må sette seg inn i programmet for ferdselsprøven (BH-VT) på\nforhånd. \nDato: Onsdag 12. juni og onsdag 19. juni kl. 1800-2000 \nSted: Brekke\, nedre plan \nLink til påmelding her
URL:https://oodk.org/aktivitet/ferdselsprove-med-vesenstest-bh-vt-minikurs/
LOCATION:Brekke
END:VEVENT
BEGIN:VEVENT
DTSTART;VALUE=DATE:20240525
DTEND;VALUE=DATE:20240527
DTSTAMP:20260425T050313
CREATED:20240412T203602Z
LAST-MODIFIED:20240413T184107Z
UID:10000792-1716595200-1716767999@oodk.org
SUMMARY:Bruks: Lydighet – helgekurs
DESCRIPTION:Instruktør: Hege Lindahl\nHege Lindahl har trent lydighet (LP) siden 2008. Hun har vært på landslaget med to hunder\, og\ndeltatt i Nordisk mesterskap. Hun har vunnet Norsk mesterskap to ganger\, og Nordisk én gang.\nHun elsker å trene på detaljer! \nPå dette kurset lærer du treningsteknikker for ulike lydighetsøvelser. Kurset er for deg som har\nkommet et stykke på vei og som har deltatt på en prøve – eller to. Deltakerne må selv ha en\nplan for hvilke øvelser de skal trene på. Instruktøren vil hjelpe hver enkelt\, tilpasset deltakernes\nnivå (fra klasse D til klasse A). To effektive dager. \nDato: Lørdag 25. mai og søndag 26. mai kl. 0900-1500 \nSted: Brekke\, nedre plan \nLink til påmelding her
URL:https://oodk.org/aktivitet/lydighet-helgekurs/
LOCATION:Brekke
END:VEVENT
BEGIN:VEVENT
DTSTART;TZID=Europe/Oslo:20240515T180000
DTEND;TZID=Europe/Oslo:20240515T200000
DTSTAMP:20260425T050313
CREATED:20240412T193117Z
LAST-MODIFIED:20240413T184345Z
UID:10000788-1715796000-1715803200@oodk.org
SUMMARY:Bruks: Lek\, belønning og innkalling – minikurs
DESCRIPTION:Instruktører: Nini Cappelen og Christin Grabo \nAlle hunder liker å leke\, men noen hunder må trenes til å leke med oss. Det er lurt å ha flere\nmåter å belønne hunden sin på\, ikke bare godbiter. Lek styrker kontakten mellom hund og\nfører. Lek gir mer motivasjon og mer kontroll. På kurset vil du lære hvordan lek kan brukes som\nbelønning og forsterker\, og som verktøy for innlæring av øvelser. Kurskveldene avsluttes med\ninnkalling\, for å lære hunden at det lønner seg å komme til deg. \nDato: Onsdag 8. mai og onsdag 15. mai kl. 1800 -2000 \nSted: Brekke\, nedre plan \nLink til påmelding her 
URL:https://oodk.org/aktivitet/lek-belonning-og-innkalling-minikurs-2/
LOCATION:Brekke
END:VEVENT
BEGIN:VEVENT
DTSTART;TZID=Europe/Oslo:20240513T180000
DTEND;TZID=Europe/Oslo:20240513T200000
DTSTAMP:20260425T050313
CREATED:20240412T192950Z
LAST-MODIFIED:20240413T184420Z
UID:10000786-1715623200-1715630400@oodk.org
SUMMARY:Bruks: Kryp – minikurs
DESCRIPTION:Instruktør: Else Helene Feet \nKurset er for deg som trener for NBF-programmet. ”Kryp” er en øvelse i klassene C\, B og A. På\ndette kurset lærer du grunnleggende treningsteknikker for denne øvelsen. Kurset tilpasses\ndeltakernes nivå. \nDato: Mandag 6. mai og mandag 13. mai kl. 1800 -2000 \nSted: Brekke\, nedre plan \nLink til påmelding her
URL:https://oodk.org/aktivitet/kryp-minikurs-2/
LOCATION:Brekke
END:VEVENT
BEGIN:VEVENT
DTSTART;TZID=Europe/Oslo:20240506T180000
DTEND;TZID=Europe/Oslo:20240506T200000
DTSTAMP:20260425T050313
CREATED:20240412T192855Z
LAST-MODIFIED:20240413T184506Z
UID:10000785-1715018400-1715025600@oodk.org
SUMMARY:Bruks: Kryp – minikurs
DESCRIPTION:Instruktør: Else Helene Feet \nKurset er for deg som trener for NBF-programmet. ”Kryp” er en øvelse i klassene C\, B og A. På\ndette kurset lærer du grunnleggende treningsteknikker for denne øvelsen. Kurset tilpasses\ndeltakernes nivå. \nDato: Mandag 6. mai og mandag 13. mai kl. 1800 -2000 \nSted: Brekke\, nedre plan \nLink til påmelding her
URL:https://oodk.org/aktivitet/kryp-minikurs/
LOCATION:Brekke
END:VEVENT
BEGIN:VEVENT
DTSTART;TZID=Europe/Oslo:20240424T180000
DTEND;TZID=Europe/Oslo:20240424T200000
DTSTAMP:20260425T050313
CREATED:20240412T192528Z
LAST-MODIFIED:20240413T184534Z
UID:10000783-1713981600-1713988800@oodk.org
SUMMARY:Bruks: Fremmadsending / foran i line – minikurs
DESCRIPTION:Instruktør: Hilde Hov \nKurset er for deg som trener for NBF-programmet. «Fremmadsending» er en øvelse i klasse A og B. «Foran i line» er en øvelse i klasse C. På dette kurset lærer du grunnleggende treningsteknikker for disse to øvelsene. \nDato: Onsdag 17. og 24. april kl 18:00-20:00 begge dager \nSted: Brekke (alternativt Ekeberg)  \nLink til påmelding her
URL:https://oodk.org/aktivitet/fremmadsending-foran-i-line-minikurs-2/
LOCATION:Brekke
END:VEVENT
BEGIN:VEVENT
DTSTART;TZID=Europe/Oslo:20240424T180000
DTEND;TZID=Europe/Oslo:20240424T200000
DTSTAMP:20260425T050313
CREATED:20240412T192319Z
LAST-MODIFIED:20240413T184558Z
UID:10000781-1713981600-1713988800@oodk.org
SUMMARY:Bruks: Apportering - minikurs 2
DESCRIPTION:Instruktør: Inger Lise Spillet \nInnføring i grunnleggende treningsteknikker for apportering: Hente\, gripe og avlevere gjenstander\, målrettet og effektivt uten tygging. \nDato: Onsdag 10. og 24. april kl. 18:00-20:00 begge dager \nSted: Brekke (alternativt Ekeberg) \nLink til påmelding her
URL:https://oodk.org/aktivitet/apportering-minikurs-2/
LOCATION:Brekke
END:VEVENT
BEGIN:VEVENT
DTSTART;TZID=Europe/Oslo:20240417T180000
DTEND;TZID=Europe/Oslo:20240417T200000
DTSTAMP:20260425T050313
CREATED:20240412T192413Z
LAST-MODIFIED:20240413T184605Z
UID:10000782-1713376800-1713384000@oodk.org
SUMMARY:Bruks: Fremmadsending / foran i line – minikurs
DESCRIPTION:Instruktør: Hilde Hov \nKurset er for deg som trener for NBF-programmet. «Fremmadsending» er en øvelse i klasse A og B. «Foran i line» er en øvelse i klasse C. På dette kurset lærer du grunnleggende treningsteknikker for disse to øvelsene. \nDato: Onsdag 17. og 24. april kl 18:00-20:00 begge dager \nSted: Brekke (alternativt Ekeberg)  \nLink til påmelding her
URL:https://oodk.org/aktivitet/fremmadsending-foran-i-line-minikurs/
LOCATION:Brekke
END:VEVENT
BEGIN:VEVENT
DTSTART;TZID=Europe/Oslo:20240417T180000
DTEND;TZID=Europe/Oslo:20240417T200000
DTSTAMP:20260425T050313
CREATED:20240412T192106Z
LAST-MODIFIED:20240413T184614Z
UID:10000780-1713376800-1713384000@oodk.org
SUMMARY:Bruks: Apportering - minikurs 1
DESCRIPTION:Instruktør: Anne Cecilie Eide \nInnføring i grunnleggende treningsteknikker for apportering: Hente\, gripe og avlevere gjenstander\, målrettet og effektivt uten tygging. \nDato: Onsdag 3. og 17. april kl. 18:00-20:00 begge dager \nSted: Brekke (alternativt Ekeberg) \nLink til påmelding her
URL:https://oodk.org/aktivitet/apportering-minikurs-1/
LOCATION:Brekke
END:VEVENT
BEGIN:VEVENT
DTSTART;VALUE=DATE:20230916
DTEND;VALUE=DATE:20230917
DTSTAMP:20260425T050313
CREATED:20221026T133317Z
LAST-MODIFIED:20221027T074654Z
UID:10000740-1694822400-1694908799@oodk.org
SUMMARY:Brukshundprøve\, hele Brekke
DESCRIPTION:
URL:https://oodk.org/aktivitet/brukshundprove-5/
LOCATION:Brekke
END:VEVENT
BEGIN:VEVENT
DTSTART;VALUE=DATE:20230903
DTEND;VALUE=DATE:20230904
DTSTAMP:20260425T050313
CREATED:20221026T133245Z
LAST-MODIFIED:20221027T074005Z
UID:10000739-1693699200-1693785599@oodk.org
SUMMARY:Rallystevne\, hele Brekke
DESCRIPTION:
URL:https://oodk.org/aktivitet/rallystevne-3/
LOCATION:Brekke
END:VEVENT
BEGIN:VEVENT
DTSTART;VALUE=DATE:20230902
DTEND;VALUE=DATE:20230903
DTSTAMP:20260425T050313
CREATED:20221026T133119Z
LAST-MODIFIED:20221027T074040Z
UID:10000737-1693612800-1693699199@oodk.org
SUMMARY:Agilitystevne\, hele Brekke
DESCRIPTION:
URL:https://oodk.org/aktivitet/agilitystevne-5/
LOCATION:Brekke
END:VEVENT
BEGIN:VEVENT
DTSTART;VALUE=DATE:20220917
DTEND;VALUE=DATE:20220918
DTSTAMP:20260425T050313
CREATED:20220926T080917Z
LAST-MODIFIED:20220926T080948Z
UID:10000726-1663372800-1663459199@oodk.org
SUMMARY:Brukshundprøve
DESCRIPTION:
URL:https://oodk.org/aktivitet/brukshundprove-3/
LOCATION:Brekke
END:VEVENT
BEGIN:VEVENT
DTSTART;TZID=Europe/Oslo:20220616T180000
DTEND;TZID=Europe/Oslo:20220616T203000
DTSTAMP:20260425T050313
CREATED:20220530T082137Z
LAST-MODIFIED:20220530T083136Z
UID:10000466-1655402400-1655411400@oodk.org
SUMMARY:Prøve - Bronsemerkekurs lydighet
DESCRIPTION:Ber om at alle som trener denne kvelden\, holder støynivået nede og god avstand til prøveområdet.
URL:https://oodk.org/aktivitet/bronsemerkekurs-lydighet/
LOCATION:Brekke
END:VEVENT
END:VCALENDAR